{"text_format":"1","workbook":"xlsx","n_sheets":3,"sheets":["Base Data","Time Series","MSER"],"not_rendered":{"charts":2,"images":0,"macros":1,"external_links":0,"defined_names":8,"comments":0,"pivot_tables":0},"unopened":[],"bounds":{"document_bytes":16777216,"sheet_cells":100000,"rows_first":2000,"rows_last":500,"rows_between":2000,"halvings":0,"cell_chars":16384,"cell_head_chars":4096},"cells_cut":0,"cells_raw":0,"read":"whole","date_system":"1900"}

{"sheet":"Base Data","index":0,"n_rows":1010,"n_cols":20,"rows_kept":1010,"cut":false,"hidden":false,"merged":[]}
["Warm-up Period "]
[]
["1. Enter time-series data from replications in this sheet (up to 65,000 periods and 20 replications)"]
["2. Copy the formulas in columns A and B in the Time Series and MSER worksheets down for as many rows as there are data points (initially there are 1,000 rows)"]
["3. View the Time Series of the data"]
["4. Run MSER using the Calculate button"]
["5. Extend the graphs on both sheets if required"]
[]
["Base Data",null,null,null,null,null,null,null,null,"Replications"]
[1,2,3,4,5,6,7,8,9,10,11,12,13,14,15,16,17,18,19,20]
[4.615876801088274,6.6753645865319573,6.7622642900279093,4.9845112029981813,4.501193040539718]
[6.7852648467156165,4.0244978862268415,4.6471782976839657,5.1401615140424015,6.0568553553038278]
[3.6185694186180291,5.0063921132786646,7.4606217213345243,7.0905020388893103,4.8282298428919477]
[6.6976319178222772,3.8805866366000492,4.4107881504861766,3.3920656343022406,4.5940665189703207]
[5.6971307194548206,5.2380292736292944,6.6766501119213961,7.127219123353191,5.9282343511819562]
[5.8675016802842244,4.5806307731952449,6.4001249728417653,4.7552079077447473,4.4895338398606928]
[5.6204157405560622,5.2023106972847222,6.8037977423745506,7.1618611350504464,5.8152735964854401]
[7.4226459429907674,6.4190500973568678,6.3631247933366613,5.9263557316610829,3.4542666663225692]
[4.5394401757833753,6.3420074917485358,5.1505386595159521,7.6361297840788227,7.1640886103972417]
[8.221985606809163,5.9223787727356054,6.8474191157403803,4.6795299633670675,3.2079969819102336]
[4.7107013627408136,7.6587273963717921,5.915287433225938,6.2236382068322156,4.6838558886962156]
[8.3113453608577981,4.6386094336469386,6.9891984278885033,2.9698694396013536,4.9151964916714643]
[4.0481762059732711,6.6984047005723504,4.743269676834994,7.5338647808735963,6.1606127371223316]
[8.1217756003531232,3.4119526719624211,8.1497131459575698,3.050870285821957,4.760665969472619]
[5.2686687874646818,6.4246439956562655,4.1963147261900895,6.4340663072267663,5.0694357955328044]
[6.7116698200823119,5.9535732476034013,5.7227027803202386,4.947531089114455,6.0982730407377446]
[3.1721789603967796,5.5869213987200705,5.2831857249409842,7.7047394186018101,4.5041914035941044]
[7.8150940995883005,5.3396257342809861,7.7023194257941547,3.1651372952498731,7.0398789960967534]
[2.8933808748961711,5.2180156364895396,5.0733582053830721,7.7522095704001837,4.2206964167930323]
[6.8499215164531719,4.8248284806825419,6.9361979319832656,3.4603013168182883,5.6479876594468195]
[5.0167814234744315,5.7872563706382758,5.737785344093755,8.3989222936958861,5.6318855297276373]
[7.1869974721210053,6.6371195016015232,5.5782139382088092,2.7592657349007368,6.5575030294013414]
[4.2595910166021715,5.0949868742376143,8.2955470321199076,6.9437238182284053,6.5291673031306399]
[7.7771371381214571,6.1859489753631429,6.3092015458995849,5.6553262740694077,5.9308602189233834]
[3.9618460499400516,4.5384331513545968,5.454811661307625,6.3204000895703993,6.033325692419047]
[7.264759188148763,6.726392349490073,7.3815601264158408,6.3309830142834969,6.2528751797670035]
[4.8930756061637357,4.801954263614606,5.3170973893874791,3.3513695391984717,4.5694830899544705]
[6.9847613548678513,5.9650072533893459,5.917661759662705,6.6772131029900548,5.1853253014757943]
[5.9365803286177954,6.2405131322789664,7.1200890199236113,3.7305339384710798,5.1423808954283325]
[4.8444964107552169,5.8915231943569628,6.015971526802117,5.9743207793559243,5.2267182390837803]
[6.3295060551711142,4.6230418063274374,6.0513061164815714,6.8698551050167813,5.0111542239969031]
[5.5626812790664673,5.9598956079280878,7.1627430714152709,6.1606140055643639,4.4072522420019]
[8.0832652953847841,5.0842086067049896,4.3560199631599836,3.6796704511056584,3.5114091734506978]
[5.4502997536165578,5.701993667948142,9.1526960310493841,6.2124950866275679,6.3849422382573877]
[7.534837044669823,5.8088589746978379,7.6953262536995899,5.1994563446859186,6.3647658554221458]
[4.7288083608182312,4.454138631226531,7.2462178090793081,5.2213687343932769,3.8969343224465893]
[9.6262604992978495,6.4538416560773175,7.0197745629043107,7.1846202266140748,6.3302485013984526]
[4.3551245737443685,4.6735321125020608,8.6829647017052771,5.4350927937723732,7.0358150765664949]
[7.6223286843013298,7.0616091493556485,5.6056361052770116,6.5813541258859996,7.2778621040578813]
[4.4858291006658151,6.5529117801866548,7.9767561641068827,6.5475287097036139,5.4429602210208676]
[7.8574879057923654,8.0420090278719361,6.8311404401581619,7.7986476642947498,5.4621368046287806]
[6.0163917071963242,6.8455084419190442,6.6459658335995329,6.6150317839754988,6.211091750859917]
[7.1161255777350076,5.4267851739006767,6.6422871508795955,6.1805560063033678,5.9808855016539981]
[7.1810102706714289,6.3661388314363494,6.2748122777290867,4.7792563915151165,6.9411503989327628]
[7.4316946689983956,5.2798353777011808,7.7073088000671106,8.1393301877880226,6.1894239757716436]
[6.0036439072385575,5.0145606821421032,5.8666768913969332,3.211058150727701,5.5225536501430179]
[8.3517623185851821,5.5780272840562812,8.2958153333236027,8.1829948729424622,7.1854820933161445]
[8.4724152820265353,6.9157907408173678,5.9289675516895857,5.0066836289385508,4.9105026115130519]
[6.5830349943342714,5.3117165958160157,8.8271076072458747,6.2189561274034943,7.7629173647582554]
[7.8632342292587456,4.5763237886562811,5.4818951084367491,6.7459867598875256,4.3552431692845079]
[6.1758963387618637,5.3231453735532712,7.4750759877991566,6.6040885301995544,8.2365724736292112]
[6.7935245656281209,6.64883282362978,6.064344363414639,6.2667149544624596,5.5536116069412502]
[6.6581429442428846,7.8535353146526266,8.25708662279688,5.1095606014029125,5.0244802117909355]
[7.368571706890644,5.2742771902372985,4.61166433080344,5.597192222976342,6.2977051495750533]
[7.7628053898156946,6.6247972728906106,7.733016291165697,5.8808385969030086,5.2933246113819257]
[8.5279973987856792,7.0348888776713752,5.5644300257801449,5.6547156040264728,7.0715893786765207]
[8.0202075414866165,6.1905779006172361,7.4255176414178674,6.147283824013992,5.9360902678300462]
[6.611719940081537,7.1312415434307512,5.1319099276029387,5.3716324872985091,5.5342427270911196]
[8.2878545683006504,5.354817063165469,8.9587651339511787,4.9769148814197273,6.2514578350503829]
[5.6649901716357496,6.6436770192258372,6.9069172132056602,4.3954909889671407,6.1164779446865625]
[8.4729221718098522,5.9156869163403183,7.5190787189500607,6.3720855812386246,6.7630327619142721]
[4.8336672440051007,6.102160868875286,7.6794135881165264,5.1433661756076301,5.8535934515792531]
[8.4793702461172646,4.9552587300849007,6.4392566280574268,6.667861492773743,5.9195980326272286]
[7.207317267715494,8.5000214128465146,7.8821878894306217,8.6808426495463866,5.0597042601509621]
[6.9180617071691763,4.6148760928577088,8.4973795921408133,6.363293815546001,5.1008314092542397]
[7.9489498505247678,7.2886445629046008,6.9059036505645723,7.7800941278626672,5.3443230585904029]
[7.0310398969716985,5.7143235055158579,8.0703806872218067,7.2558756850402375,6.1725684145184943]
[7.7531750659370582,6.309956845889741,5.7939528224289498,5.791845995373051,6.9334146063980926]
[8.0586893894679363,8.7096476997379728,7.9719103515882797,9.1110256754020558,7.3356769393637311]
[6.722849822785343,6.311650453507033,4.551373273561115,5.6655669539988178,6.3651015536127549]
[9.359156969928291,7.6262772996434718,8.3473620852385118,8.3285488573607029,8.1721901994762085]
[8.7220962400984714,6.1882778638435019,5.4197946790398843,7.213867743203962,7.5066092865077669]
[8.3172959711091696,8.7654041156238378,10.277855368637047,7.4080116682431871,7.9602052362923956]
[6.7596895182160273,6.7844107957602189,7.8497270743543899,7.3829913420883475,4.5173249305163079]
[6.9482650358481024,8.5775191236784849,7.3888499115371351,8.1633459969424713,7.8339095081732264]
[5.1056159379344006,6.4711870848800297,6.1034899772272944,7.2248294747216963,4.1370601232776227]
[6.576715985164344,6.73260841007398,8.1930175395564611,7.7694929513306175,9.5611915079531968]
[6.4524431101304307,8.4338516672337622,5.0920634597030388,6.9312860337865922,5.4460806295734923]
[7.3029247394776817,7.7239101700710471,8.4649994713505841,8.0706124334303198,9.6597915067614011]
[8.2653443030354445,6.6229154128850327,6.2626760889123689,6.3808415459100871,5.4002124791662789]
[7.90192923986233,5.8706438340246825,8.0492830135594815,8.2046939957692722,7.9179155745911363]
[8.824157097283452,7.5182686774451675,7.2590236468402471,8.1326002501788768,7.862603053171263]
[9.0524890796492539,6.2310292815546724,7.6788624324068362,8.0595457116703493,6.4402596022738674]
[8.5252661380314194,7.9449467695191647,8.1703741607072597,8.3027322050347578,7.8388265237609103]
[7.7702868912444689,7.4797778693936978,7.6665880323949347,7.8294819605042481,7.2920784183546807]
[7.5897233103622312,7.3633245393639681,6.7376139224907829,7.8652275013677642,8.6807314220200347]
[8.1751432783087274,7.4092163304390111,8.0389991075253775,6.9704149530445978,7.4224163796144573]
[8.0347936747695741,7.7984137807778069,6.0928522945619772,8.7683161238134701,7.9424200756484797]
[8.218149073210558,7.1639782975564081,8.565551512251794,6.1359440722473941,8.7915899681939607]
[7.1430433484408002,6.2910273664675191,8.2149848288210858,7.4255797267407679,7.5870011455648267]
[9.0342584542319155,6.589933314640259,8.2757815806764281,5.7722571393669542,7.9786728865669652]
[9.1182750116112068,6.4593778714215588,7.455735522996596,8.1355746756275416,6.2443746090414125]
[8.866814067607379,6.8386884553082332,8.7440215407461217,6.8464089794219474,9.0959373705981061]
[8.38639874662754,7.6431374809927313,8.2112430485850449,8.4413428741560548,5.7014627727896627]
[8.3707489172235885,6.6922400818174168,9.7880421576624528,5.2638598815994557,8.9637856953399719]
[8.8931364825519008,9.1002488538121629,6.2044757523009455,8.2571329875465942,6.2737649812430512]
[7.8445336320370638,7.3877708082078364,7.3617155808725032,7.3272912938825243,8.9491058664013803]
[9.5867980876068835,7.1661140996390795,8.1143298459690421,7.218805519053423,6.6812244077274023]
[7.5250610126597461,5.5030486115943216,7.7581671866629183,7.0738927903153659,8.0549473210938061]
[6.6237417097853175,8.2016604662195096,8.6137445638527623,7.445409643486979,5.7561313517865802]
[7.3823940417653757,6.4534790158276998,7.1293248132454883,8.6977382331243938,6.9647074282053136]
[9.2391078199192158,8.5523437073700208,8.2970807992707343,7.0978281896775499,6.5517216801651701]
[5.7379818590417333,7.5135009197020537,7.2150825792688504,9.2598773792687528,5.8542780279088156]
[8.2398549796829812,8.086452343346604,6.1237573469530435,8.3928401514019129,7.8045183520748047]
[8.7305022044765472,7.9654009935441437,7.2104875004779316,7.2125147754475742,7.985458860790084]
[8.7824246189581174,9.3907119375090868,7.1989460453191239,7.2543796275517405,6.0113211664262263]
[9.4521016914855558,8.2556790312669452,7.4837935593725113,5.7613311697931344,8.5187691993073287]
[8.5652015912759261,7.8169918626461738,7.5595659526877679,9.1011091820664323,8.7739960613804531]
[10.10806572715374,8.6066232455868317,7.4762786694407968,5.7927267880953313,8.2175732363814724]
[6.3241964478062043,5.4557029559788859,9.8252862559271996,9.8283499161778352,6.1719418087607192]
[10.036460974399622,9.9726486441339333,7.2642062393863593,5.8921980115891168,9.2382493853271033]
[7.1843121321373218,6.1920498148087306,8.8597520189697114,10.505900866180454,6.732776252635607]
[9.7656582626244273,9.0079922535315333,5.2910599920853123,6.6609794195698537,10.150717679311192]
[7.4348786529130395,6.4433222281825309,7.2633563607778484,9.6400794697613907,6.4714917560249763]
[9.8385173637236463,8.6929278668711181,8.6607467157463613,4.2582256777476877,10.51138867217572]
[6.1002029484400992,6.5145102197266311,7.3005287433910597,10.626129774242353,8.3223315406383378]
[10.444779111469716,9.814881712791852,7.3264566095778276,7.3082957858940212,9.3715058017851813]
[6.5932439495402804,7.6296377929690786,6.9053177653205022,10.456895936189254,8.917570414736975]
[8.2625132771609433,7.3271744958051439,8.1457540183611474,6.1834415692901477,9.0740603415370948]
[6.2896249466479226,10.693400507732143,7.5482047070544986,9.9697370288668239,9.839810352164875]
[10.106477272467645,8.402111631802633,6.9260190082873097,7.1126445795464948,7.8751630243922364]
[7.4131400162346779,8.5784873316374313,9.0664976084821181,10.108030344753596,7.9973407414126765]
[9.4997399581471544,7.1685234204200849,6.3794902253643881,8.101745925047819,7.8916239790782416]
[7.3381179173558051,8.2782945080658301,10.490439194687756,9.0098818157974883,8.4862355911219041]
[8.9732654773655458,8.5699733375414873,8.2123348429586329,7.3418309924649936,6.4421302592786462]
[7.8415991413241883,8.1714335105665441,9.6469291239895814,11.270667058701349,9.1925916959043477]
[7.2690785955458459,8.632550474987946,8.0088054183019999,7.409040487489059,7.1551129382151988]
[9.4866872507134872,8.635372738508817,10.039510607697393,10.100413181278389,8.656151172406485]
[8.0501641611129742,10.094113670604031,8.5214665678419639,7.9481004533860826,7.8035924639916647]
[9.0852456418135095,9.5182797329482938,9.0373494727320711,8.7860478316054458,9.6491828945078968]
[8.9411275794046947,8.8386003199867407,6.9790193275374008,7.5060415344848472,9.1271889106181288]
[9.3006694006537689,8.9884620084872733,8.1588618348773387,8.9627465154003865,10.101761845681878]
[8.0787401896627582,7.3175188333865622,8.7004823683247476,8.7699116094449394,8.8903751412932586]
[8.2545989691722212,10.938105074541239,6.5928725931010153,7.5133291725869711,7.9548911756777141]
[6.6786001882298454,7.7750188927695714,7.9519995938051995,10.357523677028297,9.682388142597695]
[7.8862671984709714,10.743297211702862,6.8384178547699292,8.1219941741966402,7.2370457127120824]
[7.5600984591333713,9.4281439202431123,11.186670324206716,7.4820598685508424,9.6358410142883564]
[8.466568260904161,9.2470588097695749,7.9302467079238887,7.4022162657579607,8.0980398731196725]
[7.8870806044288715,8.4799513854301196,9.0436027310832277,8.7626084652872755,7.7996200830801961]
[9.8843973943498789,9.234051353648443,7.665349833119139,8.1795246569344702,7.8691611916199387]
[7.1700764262938641,7.6717190739628265,7.7305878590457411,8.7298307412041911,8.5825334102355857]
[8.0253462859927716,9.7830497395113358,7.5688608744846437,8.7747265675251764,8.2704078533527934]
[7.6656880886697643,7.5512223682390553,9.8190706882290986,8.9319153391627619,8.1914577784224232]
[7.9748218729349869,10.164747978289251,6.3286458119806941,9.2688977739478151,8.5324063569723183]
[9.5871385513323872,9.3711479559399997,8.2336736492964775,7.7484229256259365,9.4527929290459358]
[8.4874421784434784,9.7317499365694395,7.7250261193049568,10.371877422477775,8.1859720424276485]
[9.9342979777987246,8.6851104401996295,8.2147043967990392,8.0311730397605583,7.6475464144378282]
[7.6293435412738067,8.7112726120411423,9.2528084635116254,8.6007723064187651,9.2563198226113812]
[9.7434750277295539,9.202761302498093,10.027210403632905,8.161504064381198,7.7101646751145969]
[9.2807020990761711,8.9945337446632827,7.7579851177520762,9.3517394615802374,9.2363360353760662]
[8.0049973726232846,10.80123630819627,10.855858431597948,8.2188146401781648,7.1951561888707083]
[8.8307998442475846,9.8986859868801069,7.6396863806417894,10.858260071525143,7.9439440332962956]
[10.104520143695481,8.2462631301105134,9.1023346742766318,6.1395706392698735,7.5204699180339531]
[9.3010740344900853,8.4838071527387147,6.2675382404786326,10.623138376902794,8.9970659344227677]
[11.959669782773492,8.5311207918850389,11.244746107362277,7.4387159297578851,8.1493939460950919]
[8.9813510836468904,9.0100796464214614,8.4917088803095293,10.005804939920836,8.3046449192243692]
[12.100273717597789,9.1143409507694937,9.1137929899418122,6.9702189093732061,8.445989332165782]
[8.7963051525150231,10.427896306680763,11.114025728336861,9.1730957598477616,9.8492237999079126]
[12.837031315727348,9.0182619832161652,10.305584135856339,7.615170412046389,9.1530349711176839]
[8.3276480764765104,10.803518403756339,9.2428388905340757,9.5915873899508508,8.2622401719692782]
[10.681967748214786,8.0010608029060446,10.16897064354043,9.7142021757796027,8.3336322034114776]
[10.003942037429107,11.369269900873388,8.2513565530995372,10.25143071008171,9.7411914016305587]
[9.3174063660839366,8.0373394003132468,11.141016369432956,9.6091524361345968,7.3978466548513762]
[9.5325055890485277,10.126500861471479,8.6034709496405508,9.1427728439941713,9.1253498686653867]
[8.1114127993261604,8.0608806627511598,10.91383131735561,9.2814101449704633,7.750769420409517]
[11.11711762061995,9.0652831256263386,9.0495741390338971,8.6332631431209315,9.6515879984408119]
[8.1528547694029143,8.8549775433630629,11.089719092455885,9.9529283220269154,8.3769492646540638]
[9.0498981859600534,9.9097718644670074,10.442301586878713,8.6295509919667488,11.277566058933107]
[9.982116169511567,7.4305789594312071,10.481553924049745,10.098649606408539,7.7383234621426595]
[9.3249213524727761,10.635952712146821,8.2741666004497567,10.187632480969729,9.8891770030113975]
[10.47549742026229,9.3480660916979321,10.061921391411667,10.019401841919429,8.1966688293407479]
[8.6702440426849883,9.7496722546608456,8.3903818860738824,10.250903781107272,9.2950970929717869]
[11.618299970927659,10.927650039976733,9.9203612695656851,9.8382091750556082,9.0759095742757321]
[8.0171536822055458,7.240702303081064,7.3435494028516715,9.5493010297983183,9.4640339484693321]
[12.608594861947765,10.895433565010169,10.430942767376784,11.338906007789452,8.4662170170717275]
[7.0245301350785603,7.6574684758442233,8.4221127290207676,8.5349737267625443,11.017884535705802]
[11.23719149333367,12.010772519042103,9.6625534998735905,10.041116875346212,7.1268021040823868]
[7.7793824261838589,7.3001437814560068,8.1281302315930084,7.8723318492774608,11.455657582868202]
[9.905562775521533,9.5287452784869409,9.9728384562018526,11.56579955976305,8.8223315590223237]
[7.1960859663828982,8.6907421441982571,8.8269977379498954,7.2294859853027447,12.598983887826835]
[9.7497502054196321,11.273753407798502,9.4127908654648742,12.325450092293767,7.2918628659925586]
[8.3784764028271095,7.748314817940102,9.5547455020141623,7.4570695934494955,12.213115378873038]
[9.9790575525838996,11.440547736815107,7.4619837066633874,11.931008419886968,7.1830595679700044]
[7.9692568556611612,7.3857932742799788,10.563373663957961,9.1902703877818723,11.184300981294074]
[10.730337444613699,11.211051391765137,10.738748097870168,10.955498384518229,7.6603684763732538]
[8.2466624596285421,8.4691605159496337,10.537306255839436,9.0127721371894935,10.009605489754108]
[10.238445494288918,11.042998989833816,10.561795743100447,9.427387082007435,8.6439967267977913]
[11.024051774229424,9.9557703249993619,9.4749306629213113,8.4387650863746586,10.276299763208245]
[9.7081930005306543,9.8901756554716052,9.1973651907858951,10.022079934380745,8.4202414422638263]
[11.379953136445121,9.6185947387405388,9.7445175998097593,8.1507766438062301,10.054483539461405]
[8.9574790782593752,8.0015806443865998,10.219917737642733,10.26914333685372,9.0631097826168716]
[12.123402405709435,10.019328379555839,7.5030034577466909,7.9477014784426743,12.006356187905933]
[8.198810492250475,8.0122827719134726,11.216645527863744,10.440253726964784,6.5615508172133747]
[9.9334973638380113,10.456762620514715,8.5660164767129103,8.2996986593179738,12.859980358529857]
[9.0012604734551331,9.1015176240057496,9.6540737086905484,8.2735829365976539,6.3758906273196967]
[9.0428341581593283,12.200444017495524,8.7183254785278486,9.8282153880620342,11.637039886659927]
[10.036277552852958,10.377651491154882,11.272818491863637,9.7205524662371836,5.0904766145460201]
[10.145712540603547,10.202555408668211,9.8542770318006969,10.403209878629346,12.790469116314419]
[10.834180565492456,11.033355672765781,10.930350463316129,9.2549266431551711,4.5998537789944693]
[10.924553850803237,9.2263177766343336,9.5083029682326767,12.42811636949661,12.366542935409708]
[9.4455852457737137,11.092136009265154,8.3320326270154972,9.3510325706949224,5.4662740836193695]
[11.656390027373938,8.2563933927689206,10.102048900045508,9.8114218763800327,12.3013171044876]
[11.922095919972854,10.644686631452981,9.9473938576277732,12.416215426265014,8.6486717381033671]
[11.95413212038185,9.6380965991975334,10.076644460206447,7.6217720166863865,13.062695113798696]
[9.5997328768251577,11.570932625873564,10.449158711510197,10.384666367881218,10.825629987083218]
[11.405197166224591,9.0216190051190708,9.9350867981575757,8.2905293650578766,11.374514304018726]
[8.204572073568853,8.8390385456930929,8.7812845323575157,9.4559670132963358,10.856145038093711]
[11.164796020758363,9.1373414867619989,8.8608120749884716,9.5744163953460522,11.323521486914805]
[11.345600393548207,10.452345083269915,9.5548249766312683,10.647606166868689,7.8295860356425253]
[11.764146256716073,10.799791052872957,10.630492966376716,8.3133264367509572,11.676925834141056]
[10.259111069733477,10.367454333363193,10.3977626645733,10.275292037609672,8.8626106972214469]
[11.503108624871576,8.2727526957475881,11.324636027640235,8.7088697042387082,11.482161065654957]
[9.2774195412213647,9.1718561617136096,9.7781831727736339,10.418627474426083,8.5340828599810497]
[9.9426121293773253,8.0036513060489369,10.088824979702975,9.854586977076421,9.6903434032374083]
[9.2846880192009333,11.286815586673491,9.9749612482121357,9.3119217286901304,10.224291339538432]
[9.6887385489306368,8.9993434684785711,9.6655023386351235,9.9431379569169973,9.0327050672444429]
[9.3150397755533518,11.382791266730154,10.414443533502247,9.7282937228358968,11.423708511377454]
[7.5421503568745747,7.5810333556924121,10.197346202040556,10.101626310406255,6.7670309061823115]
[11.516732545687315,11.941476174213971,9.1108493014768897,8.5127246649205439,11.316063418101713]
[7.9929473975419105,8.3014851063012927,9.4755020247662944,9.3785308520724975,7.1761023579030958]
[11.843476645695977,11.413129639451229,9.5896335662944274,8.8227829314612531,11.437314451959292]
[6.2239952046173039,8.6228664679538696,9.174356926195351,9.7044818224680967,7.6756168751514178]
[11.760227013359033,11.471147240326719,9.8390621983260722,9.5880716027377346,10.875555866569597]
[7.7888874015212286,7.2369873034004151,9.0810707087819296,12.046375062637424,8.3154418601884466]
[10.487560257034628,10.807820139721789,10.442333579114354,9.0573593655427675,12.666279191901307]
[8.3544584680805887,9.3447389042994278,9.0816615235166935,10.868807079117811,9.1063885585864544]
[11.112263278494401,11.202962764272341,10.792122280002626,8.9299046014215477,11.322540841033787]
[8.6084743133016204,10.00071246318932,9.0596619878575435,11.457145004763742,10.174045471739777]
[9.8967380913862222,9.9125764749183052,9.7005108753869767,8.3972203468870532,11.41997300081136]
[9.3699190680722459,10.235284720254999,9.4978436329576095,12.907883039551214,9.3220322804284965]
[10.395338822501023,10.232321806210219,9.4039984460204167,9.0543030659717605,10.964398202927551]
[8.6774822978279964,8.5892151240909769,10.150019028036732,12.214843355778356,12.780365910752479]
[9.9337828285891323,10.049554418655088,9.9145000998761699,9.6629573008123906,10.966953293530054]
[9.4630061375516377,9.5879478349370491,8.1173941598572572,11.140688731555805,9.7064401235203022]
[11.311306747984258,9.0463519933474572,11.735377991724731,10.591260735121589,9.8092546759375754]
[8.2780089661678122,10.605839682916628,8.5206986527263595,8.4168495653630817,8.9106833898053655]
[11.595381779149001,8.4380755905384035,12.609137362515717,12.353597473052076,11.058899061354717]
[7.9973398159883899,10.766955838986766,11.085137488632874,7.4863969569793021,7.8881878523734548]
[10.743007580519171,8.7765881737667648,8.997907638466037,13.553250999297831,10.446633233604897]
[10.138715136984111,9.0379972049203978,10.628219728408386,8.520317501077125,10.443397917034826]
[11.268639309286742,9.6230015380362524,12.51020020555392,12.708130927106755,9.8205088580789912]
[11.233273158122378,11.276006965926856,8.5801479349394754,10.414660143345863,10.713985194067892]
[10.781598216483578,10.320263480431201,13.063640982258553,10.882748174131953,9.2600866969025013]
[11.180899223640029,9.8156460584151652,7.8836297930833403,11.282122069585395,11.560706919011317]
[12.624899150584607,11.648703103779733,13.070942026207801,8.9014447491907163,9.8551575672443459]
[10.121911199644822,9.4674489284509704,7.2093439393180203,10.305925967080537,10.335434870388461]
[10.332726060887483,10.73419879999493,13.795140081346702,10.552359183312548,9.6432651227659427]
[9.8912253922677422,9.1053616605911269,9.956941373775182,9.9553101826223536,10.118195746738337]
[8.6795552291202451,13.026681602727974,13.798913870060479,10.88805158328236,11.01089638452887]
[10.048529372709185,10.1470844576072,7.747564042859751,9.7135972155285497,11.615105271023754]
[9.8830626744450498,10.861476382905488,12.718177443220675,11.078376953857271,8.0420626230409393]
[11.201668810385627,10.935396319450893,7.6858144104543733,10.847703312032284,11.909789239848415]
[8.5362133199718286,11.69183071476164,12.332995107781098,10.686743928256114,8.151440534041102]
[10.463197981859501,12.031109123580361,9.5065784498919434,10.689874965615207,12.998780433794785]
[8.8254627105172325,10.940780845558654,11.93952476424441,10.359212743547687,9.2207479797765046]
[10.70745926092969,12.713212416985971,9.9608526872998109,9.8118372322971563,13.275656605023455]
[9.7546327482563857,11.483696871351864,12.296432089003643,10.011949918354018,7.4291484670536647]
[10.615677627414506,11.873370982036869,10.718093833634558,10.505747668594685,11.594452857637947]
[9.8688350550791011,9.8520763839480949,12.482161074859913,11.082996882959947,7.2391264474814268]
[11.090995839755081,12.943247072743073,11.825389723808359,9.1114212118243678,13.680901417545527]
[11.004027337871754,8.8400806857886369,12.973368630773788,12.005103976997866,7.1952972519023835]
[11.446120708319379,13.11007323258568,12.612957344677447,10.88304444561226,12.70815426558605]
[11.364015124798694,8.135979450381793,12.53597332859659,12.807204114189187,8.3224591131090833]
[11.740014526014445,11.353477457366251,9.6222104338704693,9.1720953150013234,11.80816237223209]
[10.336396377772481,9.4337330792853589,10.196362642670792,10.875891808029447,9.0784927792926347]
[10.977900274987107,11.048118839051147,12.896109123554092,9.232363213202067,12.324657329546904]
[11.69187301749816,9.1915924948512586,10.800326652225628,10.456812937527683,9.605874069575588]
[10.842534856913085,9.130753996472194,10.735198806808667,12.078094875668604,11.37828382051763]
[11.058196552851012,10.320551034208679,9.2835778736490866,10.178365278395287,10.814119325685363]
[11.592923279265111,11.671707645582044,10.158386499794378,10.511067679801736,12.221841973067658]
[9.661434096335233,8.7242190094584089,10.657643581211401,11.450417284015948,10.089093144867272]
[11.585579637480613,11.273950568083681,8.5304220093013257,9.5643157174963758,11.372539849638716]
[9.2892378280601395,9.8747684537166265,11.854864356204363,10.623974306723996,9.7322853253754911]
[12.305190341560415,12.610389985483721,8.3716593213688455,10.103408078544266,10.360951618059964]
[9.9580002957478548,9.4891189200923307,11.941854846215257,11.64318365071156,9.4212840466960941]
[10.937809771390311,11.925376578060995,10.629104392520274,12.201943982522568,9.7945223163618458]
[10.386164304742909,9.4971121761496473,10.369004764191827,10.889610549436965,12.101799643755838]
[11.600999280716586,11.404880389441665,11.39744810709675,11.002091976752791,9.9081915207808908]
[11.389022424816657,11.044286219048391,10.298403555694327,10.889045345953182,11.885570854879544]
[8.9400400838014207,10.13513547508478,11.99168842903679,11.167307981763113,9.3740072595597752]
[13.056818209012725,10.351043296618441,10.231821747573729,10.843760057674437,9.7817665048297773]
[8.0991475995721665,9.1001420198533687,12.748393542495156,12.978893312751561,8.8205693443613011]
[13.416189519850281,11.81364024045034,10.527561071510158,7.3588597186053271,8.8549822678472268]
[11.382095150589995,10.963119440138643,11.120733758605299,12.800135409157454,11.258899312979189]
[11.068019697706767,12.503491003890893,10.459280813543423,8.0271603033288503,8.7303765263821163]
[10.280262550180566,12.523701043966097,11.220214877460965,12.775948904400721,11.425343876022239]
[10.923581151771854,9.5058580541127728,9.6355882482259521,8.1327857217510662,9.6543176403573554]
[10.855377053021877,10.390055779324198,11.486096737892776,13.513648594498235,11.275087176942414]
[11.618562725681702,10.092541858060022,9.4721224462521043,8.3606937723206496,9.9754725049208766]
[11.009594670380242,11.044418766222396,10.085906046566466,13.987169060339044,10.929148256766739]
[9.3489097267867844,11.215398198913501,10.219061567440319,6.7779192043684162,11.475251447022632]
[9.1112659240806728,10.309289152455783,11.282313059907199,10.621886388142663,11.280318277675548]
[10.687346213600417,10.858734105426356,11.441401481131148,10.000186393157016,9.5588884695041685]
[9.5286294685518627,10.444263144905692,9.1196546071083429,11.102727224480414,9.4568682734225185]
[10.553385502176837,10.608796904854431,11.541633344524881,10.927065456323303,9.9599509745674233]
[10.10598185831946,11.619536477531085,10.34415792914376,13.263649582299207,10.928860179380861]
[11.565274286308929,9.9500131359140642,10.401874710712839,10.698526870240375,9.9833233102581591]
[11.299769388659582,10.798855005632095,11.035353048691011,12.110248234231621,10.50576381189941]
[11.596616935752241,10.64437735804594,11.024413579280042,10.852095971951146,9.7195345559220527]
[10.271710341780908,11.480970522167766,10.524785513824424,12.629501418411111,10.577112982779196]
[10.505505915227277,10.305591585938664,11.237851411206671,9.502994351961334,10.076718992190575]
[10.348308519914227,9.4453597544791901,10.735963647761702,11.734819203098661,11.51722155831161]
[11.306707445178409,11.976538448263936,10.725986841634866,8.9172884511540804,9.3409838077954657]
[12.247981240611354,8.7194079407983658,11.271170660438699,12.901137212512769,9.9936591971118496]
[10.306840155843402,12.233444704294914,10.30361919286806,7.6713387156085577,11.243491361079133]
[11.493346168013948,9.5785996739374628,11.762946754665252,13.776865689052617,10.088232941637617]
[10.699800878947617,10.83157355953267,10.855576707067542,8.0971857355809966,12.972551504217259]
[12.23455434711213,10.337901516332794,11.153394945242862,13.9180771847969,10.440128431048914]
[10.405600245325779,10.37680257479286,9.7504388290097506,8.8498222835147651,12.261618163699374]
[12.394792313040339,11.357062855484502,11.794334172015454,13.330205319260534,8.8346256525704909]
[10.188853136595961,11.382842427093738,10.508958788841234,7.038832634490312,13.629301713214817]
[12.474212406347414,11.902223352817886,11.18935612995945,13.575610820465606,9.3678106470265607]
[9.7660434475068048,13.499903888816714,11.629463365033422,9.1066236614944884,14.084204978201926]
[11.891838036974249,11.054764892364643,10.987897775423093,14.169368507338705,9.3127900576120002]
[7.7526912101233929,13.237239661323862,12.46122762647623,8.4046215087751825,15.669882272181749]
[11.033067260878541,9.6717444110839565,11.084743199509917,14.476593845833403,9.7582360607346139]
[9.0946866040101355,12.478166781794961,12.084013191793622,9.8719473271021148,13.620288852361595]
[10.011108545062234,9.9927789329635122,12.078645285530321,12.867423785582758,9.5933766092223784]
[10.065945816501152,10.477726996671677,9.7532518042826659,8.6535047393421198,14.739649117128092]
[11.360894912132091,11.435516589444489,11.055477524472147,11.864842002181533,9.2489981131289056]
[9.6116268702638337,10.745177401669444,10.779126507469227,8.8322422557099056,12.926449410385604]
[10.268728175273328,11.485891147457332,11.983619707920639,12.395278389081486,10.490006581210276]
[11.08844330465107,9.0067993606461734,11.119849884397965,10.292341153379901,11.121244042935297]
[11.115678462007024,11.141196889956129,11.140424297812588,12.645144304307047,10.545977416627466]
[10.65949352831109,9.6956588750336614,10.496708240182262,10.407252564377313,11.752746405007926]
[11.201521575585796,10.302830299610513,10.395803314072053,13.05563891717394,10.364499066024962]
[12.197005184745503,9.7016689773745171,12.964457695568015,9.7066638766001763,10.982624856173064]
[10.672038799587204,12.823750444353601,8.9152148615912186,13.839692949156747,12.566261605307666]
[10.761226452733101,10.591285583830253,13.619003734922833,10.185970859035628,10.486959766629885]
[10.43866243939771,12.31672004217533,11.592274297854491,12.23110958447508,11.897201550443041]
[9.6496080623104312,11.107969997740256,11.596934982691675,10.239475636495271,12.441597695947713]
[10.871070598322021,10.205110928109143,11.5805013637453,13.293314777820241,10.287997086342035]
[10.780772850347136,10.216570427565093,11.433580667035066,8.3905466487694227,13.346553169421881]
[10.481058291810475,11.83879934702906,10.544165299632906,12.130171428584779,11.862719832581815]
[12.96897757963908,10.143543804515085,11.925659397973165,7.7578145890116161,10.124531506938554]
[12.181104116065534,11.802317526499465,8.6310617573593813,13.760745222807879,10.595057925666413]
[11.99742488774775,9.7677864495853992,11.649443604940126,8.9958393626889208,11.033647534624336]
[11.709298426254577,10.969003283806494,10.669913971154381,12.603582088673932,11.754174987493229]
[13.010661592895239,10.869924673956966,9.8822188457506499,8.8022728815900315,10.76818545482746]
[11.025197003455226,10.538507082926195,10.648494500022391,11.875798674382333,13.535408573632422]
[12.820400823491017,10.538860131595888,9.3916184014093123,10.608698002117915,9.8109624440659431]
[9.8264844666637909,13.242598963621839,12.26252498331791,11.329522228981519,11.883771502810268]
[12.589499158336727,10.602349783538966,10.136862529124651,11.116255066878855,11.409436865585919]
[10.529223509462364,12.746789597634384,12.670556407584066,9.162732452205681,9.5512887019456798]
[12.503637990218953,10.555379560640006,9.078146804553068,11.369186739163213,11.992097652839554]
[11.20782502173693,12.161691955295975,11.401235345302851,9.7051665076392446,11.619903383374172]
[10.173885753314456,10.172529653444155,8.4167578465153579,9.7895513439068704,11.808695216881372]
[13.415590954010064,13.004018568711258,11.9170414059283,10.649703953000744,11.21112827811389]
[9.2524201874674699,10.316420410530577,9.7382365936614637,11.226118274037646,11.282561948804551]
[12.796535328405767,11.265040904316546,12.805212076312475,10.619286617760942,12.915843944237231]
[7.7161664833124819,10.131615227955788,10.790263053734405,12.758238252953841,9.2618310671409887]
[12.647597568576963,12.54175192463101,12.177343896507097,11.265733412130714,13.840822521392926]
[8.637390462399166,12.263623748836919,10.537238925624287,12.705936409223643,9.6538174804102059]
[12.301113965944106,11.93400629195837,10.931984997009682,11.2576361503763,13.305810694649317]
[10.139392136034257,9.3258602473621153,11.471674423252557,11.956588745352807,9.4188999930818103]
[12.357223905095092,12.901292392915142,11.644180812429823,11.198238480087696,15.910970456864101]
[11.040976514069705,9.3549519563719645,11.544204137944535,10.276076834444943,8.169741908983438]
[11.724667041704345,12.089100005482283,11.045006591464475,11.347985718696272,12.606373301903066]
[10.477911874952778,9.0047215501653923,14.411721870113297,12.585529966290844,9.8485961360409977]
[12.725037849847322,12.815628250361668,10.101297232427047,12.065483513901537,12.212278817591049]
[11.634340245871289,6.9433772925900996,11.993660711714925,11.818810857656919,10.995045026279023]
[13.229907372357971,13.342580611221809,10.146645092143602,12.75948545015531,12.545304879452862]
[7.6492848026275713,6.9974864248741477,12.205339034003279,10.302679946906952,9.8490445044718484]
[12.335112029167615,12.677429567083401,10.892598392594182,11.189413592069018,11.755927478468275]
[9.4955756368690452,7.9509073784588837,10.261118236176761,12.602263348603486,10.006839336334282]
[11.254942293593034,13.439711026333597,11.361141459844866,10.057791265424754,10.704129083210509]
[10.633360408970933,8.192620399031048,9.2144676681540982,12.096721963955467,10.430562100646638]
[12.70438382072126,14.628027019009007,11.565101611920353,11.710133992776381,11.401373323483575]
[10.579967255329336,9.6529957346137127,11.643042206321383,11.973734163512232,9.80329966124288]
[11.536598026637902,13.147517928109163,10.682759940277171,12.587444885278263,11.527418947424517]
[9.4820339236382569,11.313797021263278,10.665466141166846,10.916285806837438,10.733358416236754]
[10.952531697855544,12.40818309559441,11.772213856851325,13.342219164635832,11.183127076566194]
[13.076431669136705,10.276907958094739,10.077979542815655,8.7858732079365609,11.620703112297617]
[11.121153386651802,11.250955939702864,10.534598539748346,12.125519289466032,11.460177256643613]
[11.825702788403063,11.416865847671277,10.542569577295186,9.2184603659032582,13.451137562583439]
[10.554451238909873,11.998289082381802,12.082536727085641,12.88503117070908,10.692288865389617]
[10.656681724523791,10.851407166906739,12.103282973317445,8.7722036513366408,11.352139889582272]
[11.493176440466627,12.574293785628788,12.201215910311204,12.87966848760774,11.242712211191225]
[11.275569916310747,11.232109761366409,13.032127182759973,9.4276945559095005,10.711554751024027]
[11.066525782563874,10.429305750043017,11.816479251973067,15.078453921525028,11.318739143132431]
[9.6626770378067377,9.6215891277598988,10.912726752971823,8.7802791322944032,10.632199228793411]
[10.52855108441341,11.227121904946571,12.218957974122507,14.632039077334728,12.31624735694917]
[9.6508087294799623,11.809444090045554,10.198655982186132,7.9497617158753329,9.0757218187361897]
[10.731556798662005,11.857422679589813,13.047188324081578,13.726033413851797,12.061576430535565]
[10.880090068120861,11.754648683670363,10.744203205879904,9.7342352713303288,11.331997343463062]
[9.9570636433251618,13.575119514881468,12.400203794159079,15.121212537297371,10.903684160416217]
[12.370196243915386,11.751884586319386,9.4377894858431084,9.1747492393247612,12.006328288803445]
[9.5002433463940719,11.229052706281163,12.050422546006736,13.881343897116153,10.562225734949031]
[11.594532451286454,11.343967416299405,8.6619256099756239,9.1298717303199872,11.399265304305782]
[10.407925579545509,10.926583855964001,12.732519659238113,11.230840753313384,10.473375410060239]
[12.128045901622912,11.857022333323249,8.7644633674732564,10.210351333806052,12.353755014399308]
[10.038113819346108,11.065832104683489,11.753712628257265,10.242663177095066,11.480634935820962]
[12.509198601834067,11.239466894065785,9.575273186266779,11.390918739868596,10.852015932987319]
[11.107593690721179,11.07647785272864,12.635116806230005,10.507192850527561,13.54776540676739]
[11.035048607643198,13.170262864954749,11.751954639730524,11.277717411011247,10.863644106610764]
[11.436058596959665,11.007742208178605,11.666335305352826,10.077713859750121,14.014718371890613]
[11.049757686732866,12.625901841788043,12.207344029096443,10.377339232932011,12.158559499206156]
[12.192783531872351,10.742006428957653,12.046480354696369,11.874844379657986,14.244195643685421]
[10.221236098285784,11.633130058786717,12.234834654100039,10.992111168342079,9.0962945076653305]
[10.491921098038441,10.710041166995621,11.141513047461155,12.718428793198093,13.32688059661376]
[10.829576039723653,13.299771955290986,9.6884169689578723,11.131492055881598,10.599375830346718]
[9.7417430489191723,10.222401864201604,11.439280150196172,13.319478133260841,12.363299409349874]
[12.161672855756343,13.271959399091063,10.921411973502,10.10691290105259,10.626126124339553]
[11.911672002486929,10.779526100051498,11.284770264352169,12.716106253684288,12.655636821528436]
[9.540476859527999,13.219202038572561,13.566620229444249,10.136129046890247,9.2225570281597147]
[13.524945196890563,9.7976445091273874,10.242736128841743,12.311566969314333,10.621013624673804]
[10.995145658607845,11.590126072147948,14.214477325089916,10.453546782581789,10.598092398450689]
[12.819471438796992,11.050035923181461,9.2911394465892378,9.9632498123566489,9.9527746708909302]
[11.681425234909991,12.834406623441916,13.312421247948993,10.601534922978333,9.9929199840830591]
[12.335702559725355,9.6182329777029683,9.8056523036082339,11.446669000720835,10.54859094248055]
[12.514982192300621,13.316029709250021,12.632609183387563,12.156597308596471,10.878245414857359]
[11.449020177185977,10.528049407126018,12.543586343170961,10.268108587260855,10.137248299280992]
[10.756310821604892,11.214341984858933,11.360634273165202,11.721754408009403,11.161169708190375]
[11.430399517208425,11.015291351868843,12.18234688372625,12.447970314056983,10.856156402895433]
[9.9429160191481945,9.7230722069153952,12.928086175306426,12.846935403973481,11.317785173306905]
[11.329530713576364,11.306403287346411,12.438795119704331,12.692506113454581,11.720912098094516]
[10.654727236076489,9.1471345974591891,12.530997407177292,13.895627651407331,11.445794135091612]
[11.494789351148789,10.810183425407997,12.647375012438834,10.404276907727816,12.196329661349004]
[9.8836195807651777,7.0643845897224438,10.959247473981641,13.616726750461039,10.708006665345815]
[12.778762933802806,14.544402309389678,11.645518172556613,9.6590588136061228,11.609588413269474]
[10.132500613253972,9.0764029829757504,9.2208774386756804,12.931932382945579,9.7437585581224262]
[11.553525356492036,12.626266401146907,10.762901286969754,11.200385886411429,11.545111847799795]
[11.38009588756076,10.737556137222539,10.898355747798579,12.635178859834941,10.928063278710688]
[11.538589983473971,12.850607872967394,10.211766795638587,10.789894490327246,13.146934072886863]
[11.30794471244231,11.027719149696805,8.917601848471298,12.64804901996242,11.107793241586515]
[11.477445800462995,12.254358642704798,10.471161545302506,12.105392227501277,12.861291225034353]
[9.8144279203712301,9.2297708165808316,9.4555550185162129,11.740527102414678,11.738246288034244]
[10.971802154939898,12.463549114881147,12.029440131165021,11.772095391560079,12.036097272872295]
[10.548465157622998,11.315944117651831,11.136604198320892,11.172996355552936,11.285546314621325]
[11.3939220422495,14.048838645424194,11.811086625781391,10.309365317316308,10.830172558490293]
[12.414842029779368,9.850899967823791,11.720394057372713,10.006411694409083,10.479819321252025]
[9.8047416738188922,13.720405285656124,10.764832898596016,10.817882363136162,10.439415976242579]
[12.70747824794905,9.8385192943052999,13.293398788016212,10.273292912815768,11.166779278706677]
[11.271800472666197,13.033223500632335,11.196318035255226,12.023110479330459,10.460194254694919]
[11.917698928352905,9.2887889353646056,11.796785869447447,11.548986697873172,11.587787752389623]
[10.140695764289211,13.302675515306889,9.7296626954749641,13.383746585310286,11.968891295046772]
[10.62760318612005,9.8100413521144851,11.797761624137248,12.08071719931354,9.7251475466482447]
[10.71918880246184,13.357507803616661,10.019899892964951,12.413878200990393,12.093584629201201]
[10.428634588688174,8.5443450037938966,10.837975399528295,11.169450713410701,9.5720628642079202]
[11.459123587447534,15.683196342546207,10.146723059072178,11.996331110380751,13.177814699774906]
[11.213266703615796,10.42055692792248,11.42795904493417,11.577631723472919,8.6836306234763576]
[11.872596688072614,13.192117418790748,10.576016435351951,10.697527885721295,12.717095896498414]
[10.712160660377975,9.0698384305360378,11.65458541992558,12.71965871018441,10.02227547011265]
[13.244499623004234,12.430087636042709,11.237873210008361,9.9091694452024939,13.304332869323625]
[10.096791169474097,10.393023446256136,11.636976379685048,11.051638769342668,11.133395865374107]
[12.349253836769204,11.597230598933582,12.039585198918783,10.953231988669694,12.908224606157351]
[10.821446897414562,9.0841044387123926,10.336160464226133,10.465743556072077,10.361349326987501]
[14.284673560195721,13.072778714574342,12.908639614802286,13.08119093573497,13.624024602627079]
[11.080634086551571,10.197086544558813,10.52393453405581,11.002937774547616,11.417023451149094]
[13.957411160141284,12.529897308432824,12.25369424877479,12.343572041524983,10.751282825868506]
[9.9357200767222,11.416585025173072,10.696046281786023,9.9265356671996301,11.76823574981757]
[13.410391460052773,12.326225253801212,11.178105560998375,11.683287183113199,13.079945966052488]
[10.096598403675937,11.19659990760082,9.1954900686731484,11.961468730964329,10.772261514068273]
[12.733433879116376,11.852274836824847,11.135237543597984,10.753838117455079,11.152193442544931]
[9.8502774574407184,9.1636852208326438,8.7564367836646646,11.19535635840451,10.796770503409114]
[10.942206414689831,11.82123652130961,12.948743764034326,11.474057597339664,11.444102487118469]
[11.843797551075038,10.485115879404297,8.980846093429852,11.336895553640185,11.187601333695069]
[10.034831694608542,11.77559247192028,12.494291416646094,11.638165799489697,10.781710421600332]
[12.789396633758408,11.789073424731855,9.9720317957420992,11.745680552319858,11.025667624636991]
[10.597555235994944,10.869042363927736,11.576337199757671,12.180791662640416,11.242731896097371]
[12.594651002294134,12.360883075419874,11.549215468009839,11.120038123878906,10.495042232552324]
[11.675509468334825,11.382677856076665,11.701197611153638,11.385566286299142,12.415709126073406]
[10.902902871363974,12.240139425192176,11.789067814046089,10.292077732508254,10.705370767054099]
[10.364478308763506,11.220762986142651,11.376605978416265,9.7597709898958911,13.376973232531824]
[12.192551263516815,11.314679264636876,11.724845088955801,9.8349665205683472,10.757590487540984]
[12.304604323499051,11.497738314261717,10.857024695473307,11.966461838067092,13.938761744499613]
[10.402730670160556,12.448890410376137,11.546533283426253,10.683210855952964,11.695114422170096]
[10.799311550915785,10.633960701905606,8.3091161431195424,12.769207109614205,12.020217526462133]
[9.8371603482137164,13.733302064318526,11.798456615740351,10.102478460297132,12.729417243177576]
[11.279103415564798,11.245814426778075,9.7442166748771388,11.171617618381859,12.474120051167269]
[11.309546934960789,14.197462461003271,12.295455586816967,11.401293925152837,11.92720845934087]
[11.338463010184412,10.572704751881671,11.690337836648277,12.428091471877721,10.181534571857668]
[13.51717106272978,12.648560135410341,11.033312357804066,10.64119674120122,13.52196622871031]
[9.3888182961680133,9.8854075191658932,9.514368764715293,11.754477392087798,10.568053895134115]
[11.918311275530105,11.424766191012914,12.04779787806449,10.568812528007474,13.612316821181526]
[9.5220970741303539,10.306023732670798,10.040668259159762,12.61386407166335,10.321167430607028]
[11.712633246869567,11.202677261175316,11.802311276426385,10.683449993852763,14.258948059092049]
[9.4770957603339117,10.700866259329345,10.831750549057489,11.771216904699056,9.0460814834856951]
[12.004094093457915,11.571002657434562,11.511706136162406,11.895013389517056,15.86615578418645]
[11.375925917639194,11.426990010243241,11.363098008647489,11.002567275307443,9.0605355201055158]
[12.247599672056385,10.651382414553359,10.079854233668106,10.742096562060848,14.356584335309872]
[12.097658215111483,10.241470907839698,12.232476673907167,11.756238845289323,8.9951649710863961]
[11.796076734219294,12.626980798045279,10.4821568462638,10.383818165374194,12.542639860611786]
[10.809747781277311,10.516974271368612,12.26695284264977,12.929668952532277,11.387643552799997]
[11.761611249809491,12.874031370713571,9.0948481457855799,10.247325946793469,14.401022375479164]
[11.220222051619466,8.0576219226041772,12.146273339050726,11.995719769253064,10.803446005134559]
[12.05518621013098,14.327102748622838,10.021248142488831,10.142650777157819,10.281261312485615]
[10.777816661812523,11.673095539149866,13.569987975110315,12.23343608279464,9.5545926069166089]
[11.012702376238376,14.865092352177861,9.850430151723037,10.683532531073004,11.951715863391794]
[9.0607355438968238,10.114981212020098,12.461398670859262,11.923393558312512,12.36500473459534]
[12.18807137577773,13.220901624899497,9.9827751020717006,11.698386422615116,10.089799470869805]
[9.2746138825234201,11.353471013167756,11.26631341417515,12.162687252523412,12.629771440974675]
[11.338244708623886,12.269928157722777,8.7947084575764709,10.855460317596059,9.6795241042937157]
[8.5499572259577974,10.677473647249009,14.375861163081154,12.898543981703765,10.185177528578988]
[10.216148608619406,10.537293970975574,10.141844434705703,11.716075961960087,11.028915751264693]
[10.984432266584284,11.643113275935185,11.691887216580472,11.93354466223917,11.956592112797425]
[11.818476177972666,10.568413910765717,10.200074524319398,10.848414953777889,12.337536145604426]
[8.6210850889247777,12.593687297724085,10.229368451980351,12.739564720427703,10.506401067790485]
[10.992938790628063,9.5920197102549807,11.194616460646074,9.2153757367630966,12.476002189389614]
[9.3129498247331171,14.620863929059659,10.919463815205122,11.134054202363437,9.8419899805510696]
[12.102197664684992,9.2641282246447521,13.85743366749373,11.287808839491259,11.788922865080174]
[9.5780045571444496,15.240727893303852,11.143923612326416,9.9947239671256618,10.117948968470175]
[10.16261596150062,9.7455768261282429,11.968389574967665,13.741008323198276,12.950421517883612]
[10.545892813883588,15.432670198556641,11.497910059991291,10.46767125436539,10.122970644472899]
[11.435206763909227,10.088283458262929,11.605062243216235,12.470521389825485,12.36699365919079]
[11.560538842465366,12.392999647903903,12.128811392561177,9.9057058730215193,10.350578366798002]
[11.782763562195949,10.263360083925978,10.508500181770735,12.007275725907332,12.859824613639368]
[11.112289777160278,12.210378488777319,11.531306622589771,8.6556818488650382,11.234761464912529]
[12.56796784832008,11.454055033631413,11.387850349629927,12.68820484798243,12.763539328124375]
[11.290378220022848,12.656490597377269,12.118870833759626,10.625100083818685,11.365573121683978]
[11.209944725730537,10.225803757409469,11.97198826806307,12.167099636765879,11.828296946105024]
[10.909976409354664,13.406404947462313,13.392098610916095,11.305768589739364,10.132127952941962]
[11.473418900436574,10.174308711025358,10.926430058859795,12.311065992171944,11.508583877063753]
[11.459434077454425,12.327592694568512,12.435479001618972,11.143199740220464,11.097010508952309]
[12.038523921595587,9.8784223306653907,10.338618239852265,13.822781794905334,11.274514103547768]
[11.364770651488774,13.205808189313993,12.633127519738798,10.031498082477354,12.258375893282285]
[13.093958432448623,9.6060656279122245,12.057433619742964,11.646593405518376,11.265317257452546]
[11.963397101339233,12.229854815495848,11.814715132028532,10.105830322336745,10.620321321649577]
[11.793313045388405,10.795951564362396,12.099067519551518,10.683057596341493,11.749336587969413]
[10.958286570121366,12.372327855345354,12.98808452006862,10.290654679993333,11.895973983632118]
[12.352739173250086,10.397759813721613,10.228421048624261,11.399747513891652,12.765852867240145]
[9.8320196779857643,10.847246486492041,13.657357311603642,10.915106016141534,11.09688708585653]
[12.83720373525906,10.942016295860098,9.6595524781858213,10.877225195833834,12.355157656775422]
[11.173332166409747,12.572888405352806,12.106152584448999,11.18810997185258,11.606214894476505]
[11.782932571012847,12.568421587280332,10.640070010362505,11.540332717615476,12.704201009306116]
[13.166796160167831,10.574248002260248,11.539665811728433,10.032331104864689,12.225750993060652]
[10.55349333258153,13.152229856869507,12.108930610596955,13.909327767857945,13.28468939259149]
[11.70514135122383,10.818521981909962,12.275786825598846,10.730920541238328,12.030171006399062]
[11.768669136293509,11.487298625791947,11.144850492085446,14.248666302064317,11.692339143149015]
[10.625892376053342,11.376618683065521,11.677545201213118,10.485434057934409,11.012375301677743]
[11.456235938968696,9.8422407233848155,11.295520179370783,11.510423368372551,10.938839020427828]
[10.974518437882939,12.695405243777042,10.649531849617732,10.816625717001166,11.753240977213553]
[12.025903095088676,11.649993708908527,12.354438060687235,12.296447754033409,11.078350015368166]
[13.215469599337897,14.364369071030026,10.743869544303951,12.499111683536288,10.454592628736002]
[11.85451628366665,9.6614180331298289,12.020614610189705,10.721162170432899,12.155101383550148]
[12.553240618758945,13.091060062383065,8.7842742024891187,11.838563808655813,10.558857554239317]
[9.6232659747154017,9.5218158963519777,12.074226979314089,10.951088456300058,13.601454866544442]
[12.153026996605078,12.940740833619975,10.371805839196995,11.665715048907494,10.754152086141962]
[9.6362498322421679,10.764796419532342,10.775259677982771,11.995390334812864,14.281745961481175]
[12.537699346069262,10.873600880182883,10.221640213259661,10.131991612707605,9.9674290597177482]
[9.3107738336145101,10.443993393210159,11.342124751849006,11.986377683175348,13.618592525914149]
[13.425802115360742,10.136046396982907,11.249663802827326,11.167573662832032,9.6237050923068672]
[9.9770005498472543,10.831138083980644,11.922401124635334,12.37176488729698,13.346037966173247]
[13.905051035207,10.910091208084399,11.002420313073602,10.745025993885863,9.1687868241159887]
[10.365070331912506,10.77545935163011,13.992069865776177,12.992738217230187,12.265847692303771]
[11.415165664010219,10.447294745049311,10.404173363687388,10.748572728463788,11.21876120366456]
[10.500798748747393,9.0321129439709509,12.022182811797542,13.348647587662311,12.397938151423411]
[10.46375781129259,12.361169805973832,9.7506964984861444,8.9510233989585029,10.364882550610671]
[11.840487586276598,10.617294890838465,11.357627779206009,14.297669722501812,12.36217985132185]
[11.906206207946475,10.678922597414509,9.5912242095381117,8.63249544657352,10.935926667096368]
[12.614737343626292,13.118401275088615,12.258785339683602,15.184548626256881,12.455599542960622]
[11.422486525287903,9.2636838485577222,10.719288939641816,8.5545239622407383,11.191538322101731]
[11.405192428763488,13.420616444247017,13.201509269768668,12.803865860676035,11.665050175711839]
[9.9477122011515053,10.075873334859173,9.1840135797524578,7.6900212601149374,11.765039542244525]
[11.43099921545538,11.995035407974749,13.685975026589503,12.018728742278016,11.142060796060864]
[10.742366999833695,10.773108986933227,9.5426598423857438,9.4727631995930803,11.207529003596296]
[10.252338128673657,11.921033488626238,13.247718580194645,11.458883077216194,12.147363924263544]
[10.697080717686756,11.737803481726184,10.314304431119238,11.511615537154325,9.5749194325043998]
[10.933967503409136,10.011680999866783,12.358551487303052,11.245380541579543,11.317286983735059]
[10.947868331956386,11.203670649506508,10.414542902613446,11.412080501303084,10.652549993903287]
[12.591438089645049,9.7602525979474457,11.522645490612678,11.6515932323295,10.789838169315065]
[10.504548718678846,10.69910040072617,10.087709155789971,11.572213557256875,12.277150638926285]
[11.784756554996376,9.9291343564069514,12.046815672008492,12.420410463366622,12.509870688303126]
[10.267512649477872,11.925499550592695,11.040429032612941,12.140715359087721,12.710347601577238]
[13.516241901572629,10.1888458796733,13.744021446118937,12.826660889221557,9.524934175385944]
[9.2091578710032707,13.690391120864909,12.359060600007016,11.515681813741267,11.513427964648756]
[11.018248506084836,8.1729456838451604,10.606972149777848,12.297652318760314,9.0609109099662177]
[10.331275888190566,12.023073664895211,11.762665259505475,11.400769284018043,12.223587301025816]
[10.64288184476551,9.9135543906839239,11.231525802418791,13.089275714037523,11.002904184442388]
[10.855609953864834,12.537040852604511,11.408904468705678,11.395794663447308,11.630842831396468]
[10.329382354540041,9.0316640250473892,10.58275549570663,13.211218161000238,10.486363636135195]
[11.24934769336261,11.198124756249868,10.392245943865879,11.138063438572722,12.26644648918772]
[12.33175138048173,10.037500573983081,11.600873006134659,13.329171881555892,10.70150682265939]
[10.726732637440216,11.596438498818085,10.967463493439363,10.498601270689674,12.241717399455748]
[12.191110541698592,10.880082352424363,11.857619590745879,10.362986713503743,11.748249297576363]
[11.835274098782852,10.795559463832593,10.524346143277153,10.506930463240769,11.847304665169473]
[10.777406980300704,10.451269014962794,11.565652500303539,10.340610106424887,11.69884850510458]
[13.475784228778387,12.427107691013841,11.592125144642244,11.178634194584152,11.162764225229171]
[11.953703004051855,10.267893980633309,10.971759085746163,12.070620039884904,10.514244202963853]
[11.422587625970845,13.758773917547952,11.742720767899261,11.41179551999082,11.311661300535418]
[11.58384541206007,10.680396291469004,11.572016996525416,11.865803792269164,10.432821154864229]
[11.858864145407258,11.802110572948603,11.328775699488984,9.7986608388048442,11.720058713138055]
[12.007324995156964,10.99904739808953,12.158480098418337,14.02734266817529,11.788188808494001]
[11.876950202643929,10.892061239447989,10.558938517154534,11.399900497726673,10.947899000091972]
[12.08490809576996,11.126392881359498,12.585618938574321,12.465569509323066,13.019012791115671]
[11.949774350424303,10.825299814762497,11.906420730108174,10.489615174830838,8.7042883409186711]
[11.246059388250179,12.054067787890464,12.428424719790549,12.205956738779394,13.756457823542863]
[12.777627829976048,12.286695866622965,11.894433205895503,10.938004638640669,9.7988311043717218]
[12.358243954394529,9.605727445681941,12.959276611877291,12.160224845626932,14.636300051641953]
[9.3842142722168518,13.556812180335962,9.0100912702476812,11.123867882994062,10.574446350774069]
[11.613137765820293,8.1918118987492505,13.612143998461441,13.165662594867182,15.899863965874246]
[9.6873648690853074,13.039982748877517,9.8377534177533121,11.636465638062001,8.567670005140501]
[11.380113969427043,6.0043938685411913,13.464641461218678,12.688327425706548,11.91229159154792]
[10.292924008601824,12.752482801915118,9.4451982735261151,12.205220637548235,9.8767891917934438]
[10.375599179185379,8.3583938380956724,13.216311532257684,10.83300247571411,11.257722692331059]
[10.305525415049802,12.602067992235138,9.1162946271996734,11.492205674120639,9.4958926445818488]
[9.5105025398856036,8.8500430786064328,12.743956681020816,13.224461307036311,10.887159616132438]
[10.004722755076969,12.117789769024608,8.5728589000050714,10.61354088311724,10.89660219361263]
[10.010299942337669,10.723918087313059,12.877451409143504,10.839343002112935,12.812459225843874]
[9.2952301560570767,10.453046090482744,9.6565769020928922,10.330148866489671,10.03015481942481]
[10.994284950287639,10.961082176424462,12.355158050765246,11.733610642588708,12.357313173895683]
[11.51470872323239,10.950981715340776,9.5104126558466238,11.106336086932952,10.321796910835321]
[11.861800955836172,10.962475378426401,11.644087184213799,11.203708053564057,12.066112282287486]
[11.101721490105362,11.30699040716385,9.6824886094061746,12.542241886553118,9.4976460248267767]
[11.040739880405212,11.288015606152028,11.557567053978413,13.181597193727741,12.278716411962636]
[12.288304360076964,11.782988363302451,9.0857928587466574,12.492675190184592,9.5430642091440596]
[11.457142424750499,11.310272854578123,11.921737318975973,13.493408932367839,13.145829973587389]
[11.439533070844892,13.047173803943576,10.195245821715206,10.39006735498905,8.9559280231086014]
[11.630513821390428,10.980893960081769,13.15537315035966,13.487106739789029,14.715883812200243]
[11.305816901586082,12.844335023332313,8.9616018028230009,8.869369241030455,10.036900569634348]
[10.687747926772451,13.151637483471799,12.757031222457069,14.191200247748624,13.067038863199389]
[10.405482831002809,11.938409665345581,8.6709510821603892,8.6847750860323369,10.247209547253672]
[12.28181998497697,13.228731488785487,12.255855939681638,14.540019022061779,12.084486560095957]
[12.076286049922171,10.253322356603697,8.9888364012756323,9.8187694227567235,11.029070865324718]
[11.664237313428833,12.601438327516089,11.665156673557689,13.470786378732965,11.358096804963107]
[11.28628528151491,11.77858753255615,10.179206184564714,10.658929534174598,9.9628795163371997]
[10.794546607993587,12.062524807762539,10.4604879834347,13.518792625246983,10.495759506944852]
[11.867960752889632,11.711168268547567,10.335471396022767,10.76058323417262,11.216387979422475]
[10.951821655698069,12.403094138112873,11.196390579752851,13.582758201244665,11.00547424445228]
[10.887555803453134,10.605503746733477,10.954287475238052,11.153063029627715,11.616194130452946]
[12.861008481147353,11.639208404346634,12.235704684601217,12.97104246197147,10.620437148618477]
[9.9539175126951971,11.351347123332587,12.265887438390951,11.230193419154578,13.067204136754818]
[11.270727876339,10.554063154856586,10.881662269333688,13.364509266775471,11.199428878968339]
[10.933589816996882,12.567927571198201,11.79735358381985,11.079263091304016,12.430110777202696]
[10.83023848950379,11.551019283278331,11.982676064780401,13.881379847104201,8.9856376613219098]
[11.809612993775486,12.419369075452641,11.11587756188163,9.7828836057937174,13.204345314087341]
[11.745353064445005,11.213919581227168,11.84195366744024,11.982269998104748,9.6435141280537024]
[11.588666025662762,11.945849458588336,9.4418062325969139,9.8070702141597934,14.420862971016872]
[11.482553071287423,11.85155726447894,12.903029061308352,12.040220923191287,10.310133416516706]
[9.8838167129429166,11.378969602043451,7.9991016851174646,10.776706848151191,12.915849137880478]
[12.383476513445379,10.514028806186502,14.318959723557999,13.587490476216729,11.478661749576622]
[11.211850513252319,11.955258974736973,6.8670315285316788,10.59081879478418,12.46686599269151]
[13.31841091030692,10.049294499788834,14.939693383327475,14.085656532990342,12.136484038393789]
[10.736960107525935,13.130993553656403,8.6518873871322306,10.767500259059311,10.834946436920559]
[13.588724210028326,11.340014511583284,13.589329371313383,11.7075406229827,12.529050706194006]
[10.08885645084869,12.560180498434484,7.925480470374211,10.885013310082535,11.088087935180239]
[11.120302093635859,12.149008389369934,14.996312069709381,12.195687675508559,10.814470643101934]
[12.002382310347175,10.136792465608353,7.9419208859917028,9.5309736126005937,12.380881942030335]
[11.077401789117534,11.116048928366743,14.273034350727615,11.404414775542223,10.458961421679286]
[10.943836825048555,12.123959198976511,8.3057180366633201,10.277478859125061,12.423356056924206]
[11.192394794273813,10.977828277640324,12.736538392882416,14.178951062640678,10.581875199000061]
[11.889862015655531,13.92322386866587,11.494311207323534,11.165763970605429,13.299320459054154]
[11.724913927196635,11.453065809985135,13.184679052352054,11.460433088903587,10.474243926377991]
[11.289605520669715,12.668818444998896,11.027509228180996,11.979346228977853,12.87085735702556]
[10.798692593059304,11.78645522721621,12.480728456957271,11.058579672371593,11.114607927515422]
[12.2801518963942,11.159729355513623,9.658460731401501,12.230889279392571,12.300922479513929]
[13.126809864103549,11.0425040904979,11.692744600005307,10.985563252629852,12.903648589959275]
[10.694813502874029,11.371047574959519,10.725595866153318,12.086277349406881,13.525977903384327]
[12.336487044890202,10.406210694527177,13.099081539115851,7.2517267848831359,11.793519696133622]
[12.923319943041172,11.436282955870322,11.440717766063662,13.729547415507636,10.389819219204346]
[11.050002956440713,10.410395753270626,12.485414699294282,8.4088326784775234,11.225109629155442]
[13.279590663530001,12.388999942547253,11.036290628399176,16.558939588733331,11.66107270467581]
[10.53612194164308,12.699173425992786,10.632035749645127,8.8805279811126194,12.346738915427897]
[12.203621538392952,9.6226688738249422,11.938449988342676,13.817187298566848,11.026120992190739]
[11.794232575466994,11.650349402617151,9.6051118101150781,10.541963916814682,11.03921877561001]
[11.026964445897319,10.436837149092046,13.163154688999683,12.728833568373657,11.387495391869702]
[11.795211505789075,12.949885489097213,8.9661939379796642,9.6502659003607647,9.7640364148813159]
[11.378329884863202,8.8617291319844327,10.988298874604933,14.133762050338479,11.329954526504695]
[13.17405981433963,12.327429243451578,10.836660138453434,8.1660720563098756,11.109770801889177]
[11.423854859348998,10.082158974616185,10.501568560918802,13.872499787505157,11.680605379197477]
[13.527587805793669,12.088595743768643,11.749533706394454,9.3706349947821757,9.5228045058973692]
[10.861363403850742,10.703250557984807,10.319579671843444,13.926379041903038,10.837538049706382]
[11.384868338345067,12.362826372677365,12.105441703774353,10.506142082286612,9.1766851947052572]
[10.253136949988745,9.6171529788041212,10.331375429928499,10.173217888634586,11.395791695167134]
[11.384389587088403,11.878239620249895,12.548335574219035,11.623385555564031,11.985315761411528]
[10.728850613057585,8.5965711724181499,8.7084706213774208,10.261743144164894,11.643431806864449]
[13.132997976582228,11.677906325777895,12.225600070061404,11.116258908830456,10.662491791018221]
[9.5853348286295095,10.014089305135096,11.141681092364204,11.517791365940496,12.802448501416002]
[13.112083568645811,10.580732149397306,12.253996000198722,10.29459231742675,8.6326886326670866]
[11.471608918626655,13.153373708544233,11.594365787769311,11.365942799219557,10.209314438240538]
[13.595705990918873,10.068231008572425,12.454506910205891,11.614762332769518,9.2159781758791155]
[10.472538831402643,11.964274046034086,12.378607065797075,9.4709380474379348,12.261599445002096]
[12.311237272270334,10.070855771870383,12.490887961580613,12.811192574393269,9.5656707905424199]
[9.2257087315295365,11.582201205867008,10.1488181137212,9.4639516781471453,11.661870921359421]
[13.576080872143086,11.77308674527459,13.479058899194222,11.38138724244782,12.032302725204392]
[7.9691490740247337,13.356615383553157,10.188404437061886,11.425431486923495,11.208488842252407]
[13.613944978947082,10.645013463885203,12.641822225792454,10.578844111414561,12.356031289967166]
[9.0228909832379038,10.897047601464962,10.470593802136456,10.586609474529942,9.9311644275107387]
[13.151351564171851,10.238800151365268,12.796390182655722,9.3976721335101985,12.268482340273513]
[10.251437397509374,11.877689838557407,11.306873314182241,11.197584241642133,9.5466434800950601]
[11.647383793307101,10.444686275960999,14.290719877410965,10.911631659562776,13.002235344868513]
[9.5569197657592326,9.7718567848282163,11.160999097050887,11.414557780719738,9.7879164769500928]
[11.939770027084824,9.1140219134396112,13.449806173065634,9.7897997504199079,13.281606759450451]
[11.823075711379843,8.9520497856345216,9.8078887935980603,11.975143577372092,8.6198689950594343]
[11.156794964606602,10.444534569552395,12.296965275715619,10.482703435411819,12.238149151370319]
[10.606815935793087,11.642572008935446,10.333262210238631,10.685540268123297,10.015585507171117]
[12.627605135717179,10.980854438328647,12.89618831635201,12.999518924534499,13.113110937558757]
[9.717226537997746,11.271993653977447,10.870363436534017,10.739457491682652,10.135498163766261]
[11.553817809176671,9.790495911996679,11.76912405450074,10.828431851692917,9.3417278296268762]
[10.625705922919986,10.766169589277613,11.237835145388795,9.6657956014319648,10.517582428286326]
[11.2201779692355,11.085658347025078,12.03090146744325,11.983876842882339,11.24989858992231]
[10.0866456027703,11.436972519263563,10.61951506238195,9.0634222274664946,13.292808690145417]
[9.515779913324387,10.043644133104959,12.524102471910284,13.31480322752938,11.986581163320992]
[10.685238577542227,11.968234270638758,9.5405753941697782,8.6211254902299466,11.708456977538049]
[10.675955308159928,10.60958530290295,12.401265765497859,13.998709817565876,10.604978591369829]
[9.6418988918633577,11.614318665710396,10.231295168839615,8.6620834636396218,12.491370833943231]
[11.854677889782234,10.381750430599169,10.874105809367423,13.349020947608906,10.100211912495446]
[9.777037515830175,10.147339627274546,9.866478023111533,9.4709078549300116,11.62321688022708]
[11.735050419155902,11.854794891838502,9.6594721264668113,12.195613938234152,8.6142785088986003]
[10.420086511379735,10.25508952549727,11.208977230348196,9.9759735200086048,12.718280944341261]
[12.287813731316543,12.492591575736775,10.473254616009342,11.283690948532184,10.691387515552117]
[10.115833621572174,10.317896327532395,9.9222753390430825,10.755195147977158,12.957846277156589]
[11.845420611975737,12.234561604985913,10.510284276896265,11.196695035129615,9.2654891210518322]
[10.581337974914874,10.956421498267909,10.439534200325726,10.665626976486118,12.801127176597438]
[11.687584864012083,12.358470807028112,10.911181059688055,11.110299166437013,9.7878879716184244]
[11.002720304360761,11.783156801103523,10.47906298449265,11.0994392791414,12.530166615168181]
[12.458551448201353,11.705102886163065,12.569632970363534,9.5661383744686592,10.354249307159815]
[11.946860000685245,11.69157530479111,9.7330543741256665,12.219314001736816,12.647927729992697]
[12.192625210667565,8.9092022625494778,12.169718962043214,9.8721081625520899,11.667220738863369]
[10.419027980405996,12.322628917424124,10.546954491525064,12.44613787679134,9.6111282724905465]
[11.400200401626003,9.7614257291665378,12.203826298829792,11.061059749033024,12.231831904387636]
[10.998705112051288,10.033477467987868,10.087593426080197,11.549734596626893,9.7417470484198141]
[12.058559508582265,11.170511487010241,12.830731071867291,12.120296645472807,10.459186705288396]
[11.57174853363512,10.402444058252541,11.95277373495694,12.400369205391765,10.044538970881305]
[10.809109208549245,11.88186872757878,11.636036968735533,12.977699284837385,13.001331515436625]
[9.6655574641158069,11.3225224384125,12.611775827945443,11.853600930695453,10.673107693197744]
[11.040676512309458,11.711865686072311,13.443406198505292,13.050526008989834,12.875345246378835]
[8.3848238571409919,10.099601802567348,11.949279392740618,10.87586579024908,12.235648162968213]
[11.79519378421263,13.245580979322613,11.942889257839653,13.366154652852062,11.31733793924403]
[9.3632967518853771,9.6326194607840758,11.127488708599916,11.21225748628512,10.508118791852496]
[10.445413623681388,12.102322505091477,10.933480173451787,11.684001247198763,9.6261099506164118]
[10.298857190494854,10.791069874625348,11.074777228785447,10.689789578028156,12.007666763923948]
[12.253129471429023,10.427990622375876,11.227577795953724,12.521534201313161,9.5614785329265288]
[11.412605301292675,12.104099480346841,11.670226796955426,10.183173543178954,10.213353469855274]
[11.744981262096761,9.7000251294894202,13.108033475460259,11.69564703624828,12.685647175850621]
[10.343260203855561,12.734447644518777,10.592788506818552,8.9296450966572607,8.931400213951985]
[9.8170583656617172,11.427182470456673,12.942372824749402,12.989465919700146,13.261372918045488]
[9.8263549569434012,12.72066914862863,10.830563679547964,9.547106960481953,9.1192218500605122]
[10.465054358370983,10.862962356107438,11.061484353425506,13.72511404884486,13.754529349322773]
[9.8928689822444582,12.679124480331078,12.675012424253348,8.7837775976081414,9.8363373803440783]
[10.371869333246323,11.169298435171029,10.915103876896357,13.635329263011375,13.726000030097428]
[12.103611043037155,10.252034879004126,12.005663808436333,9.7416932421784139,9.1906797087357024]
[9.5883182244261231,11.494438934133562,11.054914806817244,12.047046937245437,12.615550671415544]
[12.069026310318634,11.547647657340011,12.029614087438352,10.746134497802304,11.01752755824759]
[9.7967062497083859,12.832382963690208,12.734389237243519,9.3780439998997789,11.142741674349608]
[12.574931207257727,12.248779971303453,10.44260404600521,12.971145134054217,11.031999130165516]
[10.372563417126955,13.624939002633173,13.645174692131032,9.1856348292357701,10.64558324304188]
[11.410011309360666,14.09356665542305,11.011712524795845,13.132465758157885,11.289986898947294]
[11.199840685927025,10.757756243966682,12.823941242683986,10.118296662230655,11.261018888569675]
[11.535281133784459,13.380662350982632,12.308065312193325,12.390302099318097,11.037842151429736]
[11.548454958690662,8.9888591447514781,10.882275671500377,10.87526847454145,12.422394036406279]
[9.5496107125549141,12.676134187897848,11.049861935940061,12.341725997759358,11.742874847583321]
[10.200816226898889,9.6304106209888758,13.474618909372531,11.620843551362743,12.524516490627009]
[9.3288303826386816,12.549958308685795,10.904370387787317,13.268035698840125,10.544785256031036]
[12.414308409648067,10.611580220552755,14.488262407346525,11.252636794260589,12.332352425958556]
[10.691704945927862,11.6506496440695,9.9165762949053331,13.383048171472653,11.892665224878291]
[11.158307807183224,11.886881505790825,13.682026504247316,12.175336224838915,10.94431367295881]
[10.012382054276236,10.976265324884173,10.026258399333949,10.295191671321593,11.727504220108848]
[10.375956041885575,12.339059138898374,12.719392617594149,11.006043169347477,10.692576548154598]
[9.8103372396659534,10.74828310559009,9.4100060636898242,10.635508662024749,11.042150636899789]
[12.005486961725822,11.70581164751,13.430784958234234,13.990821698539897,10.142709808054565]
[12.428153898636694,12.59564636506129,9.5491042939189654,10.3857875875403,13.496541778736997]
[11.328579195911242,9.8549563792350927,12.487955753204492,13.212667754988461,10.02541334882403]
[13.087445027287021,12.948569628031954,9.3985338032961945,9.9078922146353747,12.691533613560262]
[11.910462474314862,9.225603174550324,13.65751731507078,13.009753996926829,12.510156527068204]
[12.671718868283007,11.976577179847487,9.5645060679403073,10.676295311071545,12.069464630810351]
[9.8713876748686058,8.6644004765333147,12.383323030161479,12.333094690715633,10.431339382406232]
[11.175429141828758,11.962902909702997,10.829579988035471,10.325439828799132,11.131351837791318]
[11.352713211788386,8.5512584893793093,10.447291887343598,14.73670820221351,9.0103213614669393]
[11.939553994964463,12.994051792656194,10.870293206264453,11.6006548750698,10.978201822015803]
[10.151186759043371,10.029323281324954,12.434128125574038,13.919980928318919,10.207293341800522]
[10.315439146602028,12.256049196088957,11.172399028414935,12.084392410020737,11.758141278419155]
[10.545737711543268,9.2726499382328598,12.277754257398577,13.570870574385918,10.318539514947631]
[9.5808390335883651,12.594995959328596,10.781536065250481,11.04714131445091,12.403515663949758]
[10.894122230728447,8.552834837774169,12.971927242619092,11.911758495007373,8.5238262373484801]
[10.878080352504895,11.329722951427527,10.408175525333791,10.677757131934809,12.157929937869373]
[12.919945020221569,7.8736828438968507,10.522313617152598,13.574161848033651,9.6575300260983603]
[11.152485801608137,12.036423958804024,11.139004627492074,10.852246635272484,10.929751852256203]
[12.113478834743407,7.4752696536686587,10.614750541138122,11.66266346758443,10.894420580181173]
[9.4126459110429632,12.949254945048462,11.194232672407791,11.255896659282815,10.551637990392548]
[11.864042184946054,8.0617067181218864,9.445427932775134,12.408136280720193,11.424976198975202]
[10.605395479734344,12.71462571665241,11.695543279154322,10.739948674420905,11.862490796325705]
[11.355946508445596,8.4859339420533271,9.9741919908263341,12.19942673761614,10.657614354364867]
[10.456752761639326,13.146122108668013,10.21143031487223,11.514226842298173,9.2290023614209531]
[11.429934036377942,10.682592175105221,9.7535056760370775,9.0871443918284456,12.52389655356188]
[10.917650101709237,12.182118377288992,11.698251579130467,11.243622799210007,10.310963014587008]
[10.346059430073199,11.038627194540723,10.367920893530666,10.133400999477963,12.313439794250982]
[12.432691438824532,11.179518196929871,13.458501847334883,10.115482116124703,11.259075937207816]
[10.492380035179764,10.419423597714317,12.265523751875046,10.815287265664304,12.007729771713294]
[13.100235737071188,11.281625577436451,12.819607015642308,9.8203481602811422,11.505960062770594]
[9.5622627048778828,9.2792865608820811,11.740504065695744,11.005500763962695,11.12409698964735]
[12.022527571436022,11.128083367166978,11.260475652745413,9.6570297120892867,11.809605605508715]
[9.4307168901211043,10.122557296347065,10.312468323922413,12.226433799714405,12.744169860823506]
[10.830997091222329,11.703571020293943,10.630966225876421,10.512412879708435,9.1757431096751958]
[12.278005838274757,11.028910478006814,8.7528428335506927,11.784999729367719,13.636685985437822]
[10.984429886099104,9.7446378275339551,11.660519901849607,11.21014670788078,9.5625031613313318]
[11.496036014834129,11.527600490530805,10.303845922363823,9.6295929489576597,14.881445520525061]
[10.859161359587183,9.286421223286963,10.680772673439165,12.013922703281057,10.447278184337064]
[13.28001620357152,13.64111489782322,10.505102198013631,10.088085644914315,12.306528973368346]
[10.095812516872623,10.408758407195482,10.74541746664962,11.072683789827696,8.6838127714329083]
[12.136813520550342,13.387051025302554,11.475157094894922,13.101489095146363,13.111888435671984]
[11.503592842600279,8.6864991571648886,10.356588468191093,9.456103936708832,9.3819884559760229]
[10.842588024201387,13.022758427032178,11.742819657272053,12.530557263044855,13.201565212391046]
[11.100497486288626,9.0504671614569236,9.064276607080707,9.662484737265812,10.023893722737096]
[8.2062593527939036,10.138851378873014,12.901989352941253,11.65113519714863,11.226692861737662]
[10.642433875700585,9.2073317419099698,10.187609904255906,9.8218987427874946,10.7746486480995]
[11.530995180506352,9.3905993632534734,11.105423123048819,12.370084237754822,12.594573129343491]
[10.992628036616491,11.370062744837121,10.793542110144191,9.4185043772013604,8.9829016241706583]
[11.006359203481264,11.166756868717158,11.419543428953743,13.038869574588752,11.681885975432676]
[12.296476614819781,11.857969224487436,11.36955276617358,9.3034312715658096,9.9821811455488696]
[10.543536139515622,10.988770132445131,12.957118191754837,14.630459655775734,11.357922019691038]
[12.191772440819413,9.4834127558978576,11.658361972518392,8.8545908764280483,10.601048018678574]
[9.5269843873237985,11.135705006120943,12.696991852470315,13.635538375937367,12.227901154740366]
[10.260020631016898,10.863296409116835,10.412018675499811,10.670216659208354,11.153135664666118]
[10.155395025672156,10.385103903891856,12.244654494561331,12.984499292677297,12.083028907619358]
[11.854377113776778,12.750484176846374,10.333097202384888,11.958000024279741,11.105280534711529]
[9.7578671741967504,12.187304286908192,11.639192413517133,10.348868570777727,11.969396256269407]
[12.645368628224139,10.485776083583968,12.018569739173891,11.699171876720978,9.3205086087001767]
[10.025841099793624,11.207800025643715,11.36710258339577,11.664705376909865,13.056489468364241]
[12.451398839570651,10.512269841389649,9.7116717117418947,11.891216738789554,9.7807496642048743]
[11.000381294456474,10.928676468673174,11.261478051609782,9.7727684901945668,12.789146784459248]
[11.915097368492271,11.089978557764622,9.4523120939610603,12.325302704610358,10.99603110299825]
[9.8877087378856601,12.000813324646751,11.296289186994935,8.648638533031292,12.364210334785627]
[11.388520212931834,11.22952519699199,10.037356689206582,13.229650931130504,9.9589573621469931]
[12.017940733389688,10.394348691719015,11.506850799124564,9.7344549355157817,12.185997153590835]
[11.803973160261711,11.81884094241256,11.546801797381795,13.280687391703196,9.5180391640118387]
[12.710970252191608,13.33214727206656,10.99229769008587,8.6098660067239017,11.667350518697424]
[9.07138244979107,10.282460608655873,10.215990152341446,12.553223257622196,11.169380106542974]
[12.677079916420357,13.226273242335791,13.043176412524014,8.7465131494733317,10.029255678058894]
[9.3826968490905021,10.691784948622365,8.529298289128036,11.449352997818574,11.144492603030466]
[11.049113910654297,12.541402924227704,13.884308959334316,10.585237413808372,9.1358203874639443]
[11.816692132417435,10.5081516982605,8.8516230541373613,11.938698490836478,12.644953912830315]
[10.891783784484469,13.429663520705899,14.323242990702415,9.4695652271574833,10.288109017665764]
[12.432907947692639,11.409452405212686,7.5824944602228896,12.160254078454201,12.217794286878876]
[11.106933424898198,13.096382957756843,13.188991955840692,12.231661146262695,11.882536569176704]
[12.097912238038013,11.410059089858104,11.25555092709314,10.375306982143481,11.806367059604998]
[11.301425380302939,13.453807203675989,12.413935030856912,10.944017359423121,9.7384978289711661]
[10.756214673457668,9.338531877167469,9.4678817587411697,10.442594751347963,10.457208504757453]
[11.487994820122609,12.353439742943266,12.828952402235391,11.368054421289369,10.467921402534715]
[12.175930739087285,8.9377800143982853,9.3345677458828398,13.163662606685348,11.865365401248203]
[12.874423426374859,11.999079907193583,13.16789266636976,10.042112816572084,11.89523558979656]
[11.621372216546384,9.7656750948157853,8.3277767544720547,12.397258045856846,12.488078395456393]
[13.74471086443384,10.760975226852009,10.794515007525197,11.674072243625165,11.762657467331383]
[12.035783656265949,8.4721978410279029,11.166532272693157,12.113212320294943,11.987647571440897]
[12.011359135820108,12.726864110612635,12.374186705422437,11.827501930371922,11.111257836911973]
[12.497521025589474,9.5500698163513391,11.724995188033061,12.169978790950964,10.349624845945836]
[12.152713964281002,11.168607390362778,10.568941886144339,11.055591450431569,10.394397541904032]
[11.906654133872243,9.7604660964255743,13.249045156519577,10.854149011712492,12.894484347258164]
[12.531992384963257,13.899944575121127,12.71223924964621,12.713213672798211,9.8444378402769992]
[11.653395259513745,9.9892020563729638,13.011922247641877,8.8558776468124663,11.76144958154527]
[11.88056873395618,12.359932958820226,12.854947879308737,14.496675345910376,11.80243657788062]
[10.760831397570159,11.075683133103997,12.127823556560896,9.0412297394255656,10.64619137100776]
[13.726962550101659,13.069288576207098,10.579176100378605,13.319526959202346,11.624449763684822]
[9.4612242553153862,10.688324707026105,11.436134338195938,9.4442643939781092,10.343101082218885]
[13.868284430476182,12.767263982143568,8.8413506705280067,13.242957303404268,11.115649838659399]
[10.061202075556452,9.5261316776329696,13.713139895888798,10.863994201456302,11.112979384709519]
[11.253321794488439,11.207238024575773,9.4666092088294409,12.808190364399278,11.661638852175942]
[10.349525950791113,10.056224513879197,12.141695037632765,13.228330444645344,11.767230080287202]
[10.63183879974259,11.978768810920734,11.457437860065436,13.38665193358635,10.268495841706109]
[11.46505648906879,9.8696713197704877,10.761130255309197,12.831809331443356,12.175207305019642]
[10.412985762985768,12.151090786835306,12.366142285498661,12.89005311271691,9.9624484990857276]
[10.838259313150676,8.3432072637209469,11.489235565165515,10.343356834140604,11.805339067741329]
[10.528532454413469,12.903515855465638,9.7047635844366251,11.408109294544216,9.6975153626250048]
[11.465217356257018,8.0695776151087184,11.167490766686138,9.4144558732139423,12.818172468751444]
[11.611322156868907,11.941306261116045,7.3786496431592496,11.014568623200434,8.8819630127271445]
[11.540995748005065,9.7962030542108973,13.196571297391992,9.8324763984098098,13.220820018370082]
[10.334597834907475,12.195826039082792,8.6628623756981593,11.821514536961606,9.2509857254209518]
[11.885025086634695,9.5352153876222783,11.181003654951901,10.52109505636907,13.290444706460647]
[11.669943413676695,11.392759793917898,9.4302082559536977,11.187507214368811,9.9930285228841722]
[11.613208114428826,8.8408139494241453,12.002361164886963,11.698919447614811,14.447372935662244]
[11.436229024336798,11.185761494390501,9.5198800821657752,12.597585796107102,10.157550090023884]
[11.75922650529121,10.13053232550493,12.533673914966416,11.644937866263005,13.853099175388177]
[10.281020291876363,11.102105010133858,12.174897412719654,12.69035886397937,9.7318476045646261]
[14.033817256873768,10.711897813381938,11.987082487703001,10.745669924431306,13.477495890470435]
[9.8022293961014295,11.841747506014732,11.550766800795415,12.422662808625759,9.1672046253980195]
[13.094763884304806,12.782087214995059,11.773474738315825,12.135997949543704,11.388785207645824]
[10.606968467792644,10.75331904428011,12.194016712295303,12.100801885633384,10.373974938553767]
[13.209914810454348,12.863895442105266,12.00498355335626,11.004876188432895,10.431793073694632]
[10.980737168863103,11.123013611258099,11.11194475502522,13.271964679887288,10.262231482286463]
[12.258488433910063,14.506658233891171,13.295592786873062,11.324074852010902,11.595288229051597]
[11.081968117640791,10.697693558179109,8.9682120570607928,12.688426787177152,12.125343050172182]
[10.557412754908029,12.921300609841387,12.944771478204085,7.6938170049184986,10.003452303226535]
[11.447290210443146,10.047334895127486,9.4364556597150653,12.488883136771445,11.412322657712094]
[10.93946649950858,11.747014443940499,13.205671102156389,8.2980773203149862,9.5389339556754624]
[11.343626139264535,12.606541463487385,8.6072398818574953,12.1291248068003,12.591412348989444]
[11.875467831897945,11.369843970523279,12.861132082343353,8.2597093970976303,10.529359493664625]
[10.489098149283439,13.121543066399637,8.5835462206655961,12.797893469352717,12.786635775762095]
[11.629048280604417,12.050251934846543,13.89581830590738,9.3172730946580966,11.745964627613709]
[10.83710765109007,12.168589716551665,8.7369284313937214,12.347313625086391,13.422215138443518]
[11.140039327888557,10.14828338904638,14.922405256864899,9.2838827592184323,10.982172438162813]
[10.856053635351417,12.347362149257165,10.410497219991258,13.753574854901126,12.356722914480237]
[11.72624064666055,8.9633765374037395,12.46988153644789,6.9664416484079732,10.20430496656261]
[11.795044127911094,13.743101779643565,10.548807445130047,14.686414202892129,12.054405365964056]
[12.130104860773114,9.3873717731226005,13.184579056884814,7.32512800333296,11.235702183747716]
[10.060320619440954,12.46834287333685,9.2208377661652605,13.792483933277246,13.215356842370902]
[13.241500287165824,11.221465059805924,11.26773090446166,8.3737288332203033,9.8858072442006133]
[8.7580342628009387,13.134654898381553,10.337598557290955,13.342198950820823,11.73749935827334]
[12.719262491407431,10.981475419481669,11.374093028015517,9.036364246303334,9.2709511080947511]
[9.3368528066634067,12.260239374644119,10.763611631073676,12.232296262052921,12.259616327013649]
[10.999236850249705,12.369189860595126,11.680601130481637,9.0044269481648893,10.232832124801899]
[10.133333349748415,11.100147976814258,10.116032597634687,13.276718991119694,11.685863133004917]
[11.248123799795181,11.693342445413345,11.956334988226468,9.1540521024834689,10.391124355583822]
[12.384384634150321,10.658710850795917,10.40005135544785,13.199858767072961,8.5983959712731277]
[9.5517588668069902,12.946077082412124,11.68063881102764,9.8398663219824396,12.719915818083757]
[13.386423253582096,10.216511839808604,10.468551721358029,12.024320762807379,9.5256301506467196]
[9.7104610890347924,11.393921687242745,11.255217773300892,8.590472559573346,12.082085535810062]
[12.390891824064699,11.812415758559681,9.8169431382384644,13.250452615732661,11.790760112125486]
[10.907839762058639,9.9955579392366669,12.839341241840167,10.932165588552742,12.175251150054191]
[12.644870142214685,11.088234008418183,9.6801212309962423,11.325931076501048,9.9446983804662601]
[11.032085374440303,10.581487416328891,11.747971797239332,9.8415846279916916,10.802634183874328]
[11.487673048046533,10.951258551015552,10.71504019457033,11.502860979139648,10.769528156920343]
[10.226677629701085,10.321029342809339,11.68132329183101,9.6195472531640753,10.907601318952]
[11.929730403317979,10.619835243953123,10.549777613914964,11.981073363044214,11.240144094838955]
[9.1746829170968045,10.55544413364299,12.893737395036663,9.7341781711971382,10.319556872446073]
[14.370058147509482,10.888618847255934,10.680510182478887,12.2267097097846,12.601093293219765]
[8.97147427622577,10.980062881764104,11.977510918128992,11.13480728690379,12.828335007109658]
[15.620109700533341,11.238302694554903,10.381291692381902,11.515974273768732,10.358951416256897]
[7.7758399663269362,10.682489452575899,11.77540810650253,11.521200422776296,11.491434599366029]
[13.628379562134775,12.674755564666608,10.165520145986099,12.004964384526367,11.537741324347387]
[9.8513518533456388,10.553581418029715,10.616105854754537,10.624271494853193,12.792230379709423]
[14.268046652389504,12.534161650465457,11.080895827166996,12.056574768634587,10.541466104895449]
[11.278872086634154,8.0829999119820464,12.155496717417188,11.940248797187675,13.145462774527696]
[12.85106337408441,11.211491048945327,11.517901505947785,12.621753649605571,9.7875912673322532]
[12.474334773830872,11.51976449140435,10.562744709955338,10.844716677777575,13.904590480559726]
[10.987198319817029,11.714755935668656,11.622995096236902,9.6307986353586728,8.7552754341426411]
[11.454113470919971,11.139680461194001,9.2210847098357398,10.147959267797336,13.214567691538271]
[11.519401713226097,12.008591217007854,13.812992749613606,11.693856490388212,8.9206885875021342]
[11.547619962348465,10.627913440010659,9.8585664117744152,9.589919772511573,12.509396343233096]
[12.429802735225117,11.719877463261087,14.903427500386369,12.241654676284043,11.714007856180785]
[8.8074178680178754,10.839049582149013,10.582826085189982,10.695982266265139,11.305024198161272]
[12.279296710547239,11.11504370903862,12.254230736306388,12.128701610743889,11.256891722561157]
[7.8535087355507462,12.701170562241968,10.569486047421353,11.951521050276071,10.879872546051134]
[12.320566952051056,9.3841571848175427,12.011337679294547,12.461968602795508,11.674313487962699]
[9.8977352954624056,12.10881816536056,10.291774774591351,12.942189180525764,11.782773652204256]
[13.267400720370649,8.9565908625836581,12.364283235825447,11.272552995495854,11.413199944118299]
[9.7800849895498008,14.231899845844822,10.348748126723875,10.686895078685218,11.670205229603633]
[15.52851323743044,9.4226821127239564,11.422993762846192,11.340497936985418,10.626517495438911]
[10.516886899350197,14.410941360816246,11.697446219095518,11.236917688528777,10.221140878746009]
[14.035397904416341,9.1479799778579398,12.434163640345698,12.091527545992971,11.092833422738041]
[10.956974385190639,13.01128154531072,10.00399769388223,13.32767599761835,9.9651868633979124]
[12.429108700253355,8.755430798199713,13.040041331084641,10.846789010807274,10.959456597969782]
[10.83052513469643,12.263954531748732,9.3244841210948035,11.957013524361113,9.9488625216807591]
[14.989379807609975,10.116132118497429,12.319872415864443,10.774577420114264,13.117651259320175]
[8.6208657577334176,11.783707487980388,11.592146993337913,11.108674374168894,10.72451202403311]
[13.676766958852941,11.024714518974333,11.023112261171313,11.119726172782379,12.152977991515471]
[9.4635564417350952,10.209515512241772,10.80380810652616,9.991651679066095,8.9809274522657514]
[13.323394116219292,11.511756711251156,12.238971500515902,10.932186454068354,12.351609487980552]
[10.343340935319128,11.168953233854076,11.149650091091804,11.944367484050384,11.277191157162614]
[12.072234098852737,11.784935084693313,11.961084752568929,12.778104419805032,12.543123455743636]
[11.143669982252584,12.038873075529317,12.820124289235347,12.899576749555713,9.9170869926067606]
[13.351467032081588,8.6436334323828348,11.759614619613316,9.6705662784470441,11.70161662537819]
[11.445283046161238,12.890815545348545,12.032813120897604,12.197307225151022,11.34943290341605]
[13.575708054582222,9.8492935053188084,12.442229454160005,9.7241007882463624,11.34215313955915]
[11.481618042729327,11.456979406389324,12.851969649182843,13.388990987427137,10.561770294680722]
[12.116538031342673,10.47977843268314,11.995231654341174,11.123854656866495,11.506770543148567]
[11.912114831803557,11.701914871323357,12.619699475163493,11.196355159578957,11.583896373787924]
[11.290485085582437,10.829727302963772,11.574150077943454,11.499194330153543,10.944080192120836]
[13.169726224719879,10.250760987076175,11.003406131199714,11.489108171564835,11.976985850272001]
[12.650383357814892,10.54929536714037,10.812325561778287,12.144295501777929,9.7516996270325009]
[10.444356392816141,12.192578321107181,11.404027926411608,11.965046045434695,13.568856789476593]
[9.8136987306767729,13.094927805198116,10.472135882472791,11.913304098829791,10.550358595558755]
[10.166456229461877,9.2976958392402267,12.600385882397589,11.501608981685782,11.898117791425193]
[12.12235823912817,12.400387729577547,9.1902689379292468,10.700609564677107,10.345738056291117]
[12.592514277918607,9.9338475020780788,13.425477382889619,10.339262908310527,14.269649008342009]
[11.941109646170041,12.937158053603302,8.8143945680150626,10.1428269654593,11.278436976788095]
[11.696774670356231,10.974869808779285,12.793774433098992,12.005856881223263,11.911811828259321]
[11.825606881391728,11.23394955018235,11.260519779968375,9.2545503503496214,10.273195875238063]
[11.816732684190821,10.78144172948859,11.577574689291653,11.678566240569218,12.090603001247223]
[10.68590801770087,11.006236499968509,11.593549996263798,10.344332486888833,11.101554214273673]
[13.103011201133953,10.032469246629766,12.261644260798445,10.928134126889057,11.822253133410014]
[8.5470480829588045,13.070247671355578,12.618086046049193,11.35744799418093,9.7447267033698459]
[12.850365520215929,11.18325529495668,11.211526348726631,9.7771453526023073,11.844840510124866]
[9.7949046387458356,12.118274721545994,12.99460997223343,13.242135479254774,10.354155349310432]
[10.238798819018259,10.774833888572108,10.942957454470902,10.126592952331993,11.95640094320718]
[11.089435823521995,9.5780764344557987,11.673576775617164,13.250156129102892,11.692291964440926]
[11.205201847712802,11.226969622182056,10.486612578537345,11.564371901779074,10.921270891640955]
[12.416051695204828,10.768383063065784,11.320689873917715,10.576222869426797,13.301616788480965]
[10.978044075841822,11.571318437597489,9.3724727869912616,11.93820434902911,10.385123427700277]
[13.038788143394541,11.169248158558586,12.723465403399068,11.09363909461368,12.824748930728594]
[11.440798735913011,12.359762798653973,10.387519357542555,13.333804929434034,10.774450235896314]
[13.173839198562375,11.055511809946147,14.059470710431421,11.043970573890885,13.488123288223541]
[9.6647279969263291,11.215894046959583,9.4528995887503466,12.501302641337821,11.013270195443546]
[12.254291941982105,11.388713719774227,15.007424473274016,11.029176004962926,13.045491422676324]
[9.5323025208143086,11.35049929409962,7.960092069398879,12.45030182973103,12.242540097987474]
[11.743606789222065,11.817928319166047,13.268580545157228,11.376381389134322,11.986280627463636]
[8.3798307735196662,12.034919712605859,11.467466656305881,10.708217909406329,11.405578570602623]
[12.924499528000457,11.219299255690187,13.713581361894363,11.740256007974361,12.597951263910375]
[8.239104770539333,11.495222116417569,11.202957756046329,9.3424882124949296,9.743715272237111]
[14.361692865850559,11.446493716261022,12.507716922201595,10.666606723690306,11.117848997237662]
[10.920191249804359,10.64176980889523,11.116799974676294,12.421116323923815,10.451975645458173]
[14.504103408663244,11.357129126252286,12.024234523821866,9.5145056948153979,10.9543384909102]
[12.657141714207793,9.287539412615347,11.326620134159603,11.588443567083786,12.094171628909336]
[14.164141639152557,12.608397450504745,9.8490274143773942,10.651187414870854,10.482851332969497]
[9.9839807039997854,9.1913713868220253,11.542439523659274,11.351263942664396,12.918384519602942]
[12.740117654293231,12.072931503621257,10.017679840392333,10.952790854261368,9.7398454083631805]
[10.50752363747918,13.009939245083492,13.035316707018406,10.328931247914495,12.368058280922201]
[12.221318713537237,11.674139530684048,10.826508220744133,10.188890746492422,10.156702469459379]
[11.029165127360912,12.264436492751683,11.144050917432077,12.303025497152825,13.151399429352935]
[13.326726877305132,12.078225261973849,10.535441668723108,11.021864840835804,10.23772630055228]
[9.6897189693556918,13.163518250703676,10.407577617766858,13.120933884647133,12.6892069637142]
[12.87090718848431,10.085021711659014,12.098718127167661,10.936535916573961,11.336075604531823]
[9.826379075352774,12.478902882327347,11.122039726883379,11.150148686903187,12.780956968404908]
[12.604625458762552,8.7135073263620075,11.633535974904939,11.872778307472929,10.928509643823652]
[12.077502627324424,12.192595221986775,9.8450161764578699,10.717151040205385,12.68344436151917]
[10.895903703971138,10.71515079262276,11.780304302814747,14.066021546861982,10.244364997945725]
[10.60805547231786,10.825178298078727,9.6725536032661079,10.855855810588768,11.591648456549487]
[11.678367237934662,9.8520917901366367,13.415699469897891,12.617781716113694,10.89684459095896]
[8.960694005820633,12.534028627241053,9.8103627227307761,10.534103872399758,12.495621205434627]
[11.915937682017884,11.182620426648564,11.814987453523051,11.301945667176463,12.806216580764728]
[7.2772859923941642,11.921943073772978,12.43254022740698,11.185975370441776,12.426297717295325]

{"sheet":"Time Series","index":1,"n_rows":1004,"n_cols":2,"rows_kept":1004,"cut":false,"hidden":false,"merged":[]}
["Time Series Method"]
["Time-series of mean of replication observations"]
[]
["Period","Data"]
[1,{"$f":"IF('Base Data'!A11<>\"\",AVERAGE('Base Data'!A11:T11),\"\")","v":5.5078419842372082}]
[2,{"$f":"IF('Base Data'!A12<>\"\",AVERAGE('Base Data'!A12:T12),\"\")","v":5.3307915799945302}]
[3,{"$f":"IF('Base Data'!A13<>\"\",AVERAGE('Base Data'!A13:T13),\"\")","v":5.6008630270024957}]
[4,{"$f":"IF('Base Data'!A14<>\"\",AVERAGE('Base Data'!A14:T14),\"\")","v":4.5950277716362127}]
[5,{"$f":"IF('Base Data'!A15<>\"\",AVERAGE('Base Data'!A15:T15),\"\")","v":6.133452715908132}]
[6,{"$f":"IF('Base Data'!A16<>\"\",AVERAGE('Base Data'!A16:T16),\"\")","v":5.2185998347853353}]
[7,{"$f":"IF('Base Data'!A17<>\"\",AVERAGE('Base Data'!A17:T17),\"\")","v":6.1207317823502443}]
[8,{"$f":"IF('Base Data'!A18<>\"\",AVERAGE('Base Data'!A18:T18),\"\")","v":5.917088646333589}]
[9,{"$f":"IF('Base Data'!A19<>\"\",AVERAGE('Base Data'!A19:T19),\"\")","v":6.1664409443047861}]
[10,{"$f":"IF('Base Data'!A20<>\"\",AVERAGE('Base Data'!A20:T20),\"\")","v":5.7758620881124898}]
[11,{"$f":"IF('Base Data'!A21<>\"\",AVERAGE('Base Data'!A21:T21),\"\")","v":5.8384420575733946}]
[12,{"$f":"IF('Base Data'!A22<>\"\",AVERAGE('Base Data'!A22:T22),\"\")","v":5.5648438307332118}]
[13,{"$f":"IF('Base Data'!A23<>\"\",AVERAGE('Base Data'!A23:T23),\"\")","v":5.8368656202753089}]
[14,{"$f":"IF('Base Data'!A24<>\"\",AVERAGE('Base Data'!A24:T24),\"\")","v":5.4989955347135382}]
[15,{"$f":"IF('Base Data'!A25<>\"\",AVERAGE('Base Data'!A25:T25),\"\")","v":5.4786259224141221}]
[16,{"$f":"IF('Base Data'!A26<>\"\",AVERAGE('Base Data'!A26:T26),\"\")","v":5.8867499955716305}]
[17,{"$f":"IF('Base Data'!A27<>\"\",AVERAGE('Base Data'!A27:T27),\"\")","v":5.2502433812507503}]
[18,{"$f":"IF('Base Data'!A28<>\"\",AVERAGE('Base Data'!A28:T28),\"\")","v":6.2124111102020141}]
[19,{"$f":"IF('Base Data'!A29<>\"\",AVERAGE('Base Data'!A29:T29),\"\")","v":5.0315321407923994}]
[20,{"$f":"IF('Base Data'!A30<>\"\",AVERAGE('Base Data'!A30:T30),\"\")","v":5.5438473810768176}]
[21,{"$f":"IF('Base Data'!A31<>\"\",AVERAGE('Base Data'!A31:T31),\"\")","v":6.1145261923259966}]
[22,{"$f":"IF('Base Data'!A32<>\"\",AVERAGE('Base Data'!A32:T32),\"\")","v":5.743819935246683}]
[23,{"$f":"IF('Base Data'!A33<>\"\",AVERAGE('Base Data'!A33:T33),\"\")","v":6.2246032088637477}]
[24,{"$f":"IF('Base Data'!A34<>\"\",AVERAGE('Base Data'!A34:T34),\"\")","v":6.3716948304753958}]
[25,{"$f":"IF('Base Data'!A35<>\"\",AVERAGE('Base Data'!A35:T35),\"\")","v":5.2617633289183443}]
[26,{"$f":"IF('Base Data'!A36<>\"\",AVERAGE('Base Data'!A36:T36),\"\")","v":6.7913139716210349}]
[27,{"$f":"IF('Base Data'!A37<>\"\",AVERAGE('Base Data'!A37:T37),\"\")","v":4.5865959776637526}]
[28,{"$f":"IF('Base Data'!A38<>\"\",AVERAGE('Base Data'!A38:T38),\"\")","v":6.1459937544771508}]
[29,{"$f":"IF('Base Data'!A39<>\"\",AVERAGE('Base Data'!A39:T39),\"\")","v":5.6340194629439573}]
[30,{"$f":"IF('Base Data'!A40<>\"\",AVERAGE('Base Data'!A40:T40),\"\")","v":5.5906060300708003}]
[31,{"$f":"IF('Base Data'!A41<>\"\",AVERAGE('Base Data'!A41:T41),\"\")","v":5.7769726613987613}]
[32,{"$f":"IF('Base Data'!A42<>\"\",AVERAGE('Base Data'!A42:T42),\"\")","v":5.8506372411952174}]
[33,{"$f":"IF('Base Data'!A43<>\"\",AVERAGE('Base Data'!A43:T43),\"\")","v":4.9429146979612231}]
[34,{"$f":"IF('Base Data'!A44<>\"\",AVERAGE('Base Data'!A44:T44),\"\")","v":6.5804853554998077}]
[35,{"$f":"IF('Base Data'!A45<>\"\",AVERAGE('Base Data'!A45:T45),\"\")","v":6.5206488946350616}]
[36,{"$f":"IF('Base Data'!A46<>\"\",AVERAGE('Base Data'!A46:T46),\"\")","v":5.1094935715927878}]
[37,{"$f":"IF('Base Data'!A47<>\"\",AVERAGE('Base Data'!A47:T47),\"\")","v":7.322949089258401}]
[38,{"$f":"IF('Base Data'!A48<>\"\",AVERAGE('Base Data'!A48:T48),\"\")","v":6.0365058516581147}]
[39,{"$f":"IF('Base Data'!A49<>\"\",AVERAGE('Base Data'!A49:T49),\"\")","v":6.8297580337755743}]
[40,{"$f":"IF('Base Data'!A50<>\"\",AVERAGE('Base Data'!A50:T50),\"\")","v":6.2011971951367668}]
[41,{"$f":"IF('Base Data'!A51<>\"\",AVERAGE('Base Data'!A51:T51),\"\")","v":7.1982843685491984}]
[42,{"$f":"IF('Base Data'!A52<>\"\",AVERAGE('Base Data'!A52:T52),\"\")","v":6.4667979035100629}]
[43,{"$f":"IF('Base Data'!A53<>\"\",AVERAGE('Base Data'!A53:T53),\"\")","v":6.2693278820945286}]
[44,{"$f":"IF('Base Data'!A54<>\"\",AVERAGE('Base Data'!A54:T54),\"\")","v":6.3084736340569485}]
[45,{"$f":"IF('Base Data'!A55<>\"\",AVERAGE('Base Data'!A55:T55),\"\")","v":6.9495186020652708}]
[46,{"$f":"IF('Base Data'!A56<>\"\",AVERAGE('Base Data'!A56:T56),\"\")","v":5.1236986563296627}]
[47,{"$f":"IF('Base Data'!A57<>\"\",AVERAGE('Base Data'!A57:T57),\"\")","v":7.5188163804447345}]
[48,{"$f":"IF('Base Data'!A58<>\"\",AVERAGE('Base Data'!A58:T58),\"\")","v":6.2468719629970177}]
[49,{"$f":"IF('Base Data'!A59<>\"\",AVERAGE('Base Data'!A59:T59),\"\")","v":6.9407465379115818}]
[50,{"$f":"IF('Base Data'!A60<>\"\",AVERAGE('Base Data'!A60:T60),\"\")","v":5.8045366111047612}]
[51,{"$f":"IF('Base Data'!A61<>\"\",AVERAGE('Base Data'!A61:T61),\"\")","v":6.7629557407886107}]
[52,{"$f":"IF('Base Data'!A62<>\"\",AVERAGE('Base Data'!A62:T62),\"\")","v":6.2654056628152492}]
[53,{"$f":"IF('Base Data'!A63<>\"\",AVERAGE('Base Data'!A63:T63),\"\")","v":6.5805611389772478}]
[54,{"$f":"IF('Base Data'!A64<>\"\",AVERAGE('Base Data'!A64:T64),\"\")","v":5.8298821200965563}]
[55,{"$f":"IF('Base Data'!A65<>\"\",AVERAGE('Base Data'!A65:T65),\"\")","v":6.6589564324313866}]
[56,{"$f":"IF('Base Data'!A66<>\"\",AVERAGE('Base Data'!A66:T66),\"\")","v":6.7707242569880375}]
[57,{"$f":"IF('Base Data'!A67<>\"\",AVERAGE('Base Data'!A67:T67),\"\")","v":6.7439354350731522}]
[58,{"$f":"IF('Base Data'!A68<>\"\",AVERAGE('Base Data'!A68:T68),\"\")","v":5.9561493251009718}]
[59,{"$f":"IF('Base Data'!A69<>\"\",AVERAGE('Base Data'!A69:T69),\"\")","v":6.7659618963774815}]
[60,{"$f":"IF('Base Data'!A70<>\"\",AVERAGE('Base Data'!A70:T70),\"\")","v":5.9455106675441893}]
[61,{"$f":"IF('Base Data'!A71<>\"\",AVERAGE('Base Data'!A71:T71),\"\")","v":7.0085612300506259}]
[62,{"$f":"IF('Base Data'!A72<>\"\",AVERAGE('Base Data'!A72:T72),\"\")","v":5.9224402656367596}]
[63,{"$f":"IF('Base Data'!A73<>\"\",AVERAGE('Base Data'!A73:T73),\"\")","v":6.4922690259321127}]
[64,{"$f":"IF('Base Data'!A74<>\"\",AVERAGE('Base Data'!A74:T74),\"\")","v":7.4660146959379947}]
[65,{"$f":"IF('Base Data'!A75<>\"\",AVERAGE('Base Data'!A75:T75),\"\")","v":6.2988885233935878}]
[66,{"$f":"IF('Base Data'!A76<>\"\",AVERAGE('Base Data'!A76:T76),\"\")","v":7.0535830500894026}]
[67,{"$f":"IF('Base Data'!A77<>\"\",AVERAGE('Base Data'!A77:T77),\"\")","v":6.8488376378536184}]
[68,{"$f":"IF('Base Data'!A78<>\"\",AVERAGE('Base Data'!A78:T78),\"\")","v":6.5164690672053798}]
[69,{"$f":"IF('Base Data'!A79<>\"\",AVERAGE('Base Data'!A79:T79),\"\")","v":8.2373900111119944}]
[70,{"$f":"IF('Base Data'!A80<>\"\",AVERAGE('Base Data'!A80:T80),\"\")","v":5.9233084114930126}]
[71,{"$f":"IF('Base Data'!A81<>\"\",AVERAGE('Base Data'!A81:T81),\"\")","v":8.3667070823294374}]
[72,{"$f":"IF('Base Data'!A82<>\"\",AVERAGE('Base Data'!A82:T82),\"\")","v":7.0101291625387177}]
[73,{"$f":"IF('Base Data'!A83<>\"\",AVERAGE('Base Data'!A83:T83),\"\")","v":8.5457544719811267}]
[74,{"$f":"IF('Base Data'!A84<>\"\",AVERAGE('Base Data'!A84:T84),\"\")","v":6.6588287321870583}]
[75,{"$f":"IF('Base Data'!A85<>\"\",AVERAGE('Base Data'!A85:T85),\"\")","v":7.7823779152358838}]
[76,{"$f":"IF('Base Data'!A86<>\"\",AVERAGE('Base Data'!A86:T86),\"\")","v":5.8084365196082093}]
[77,{"$f":"IF('Base Data'!A87<>\"\",AVERAGE('Base Data'!A87:T87),\"\")","v":7.76660527881572}]
[78,{"$f":"IF('Base Data'!A88<>\"\",AVERAGE('Base Data'!A88:T88),\"\")","v":6.4711449800854624}]
[79,{"$f":"IF('Base Data'!A89<>\"\",AVERAGE('Base Data'!A89:T89),\"\")","v":8.2444476642182067}]
[80,{"$f":"IF('Base Data'!A90<>\"\",AVERAGE('Base Data'!A90:T90),\"\")","v":6.5863979659818428}]
[81,{"$f":"IF('Base Data'!A91<>\"\",AVERAGE('Base Data'!A91:T91),\"\")","v":7.5888931315613801}]
[82,{"$f":"IF('Base Data'!A92<>\"\",AVERAGE('Base Data'!A92:T92),\"\")","v":7.9193305449838007}]
[83,{"$f":"IF('Base Data'!A93<>\"\",AVERAGE('Base Data'!A93:T93),\"\")","v":7.4924372215109951}]
[84,{"$f":"IF('Base Data'!A94<>\"\",AVERAGE('Base Data'!A94:T94),\"\")","v":8.1564291594107026}]
[85,{"$f":"IF('Base Data'!A95<>\"\",AVERAGE('Base Data'!A95:T95),\"\")","v":7.6076426343784052}]
[86,{"$f":"IF('Base Data'!A96<>\"\",AVERAGE('Base Data'!A96:T96),\"\")","v":7.6473241391209568}]
[87,{"$f":"IF('Base Data'!A97<>\"\",AVERAGE('Base Data'!A97:T97),\"\")","v":7.6032380097864349}]
[88,{"$f":"IF('Base Data'!A98<>\"\",AVERAGE('Base Data'!A98:T98),\"\")","v":7.727359189914262}]
[89,{"$f":"IF('Base Data'!A99<>\"\",AVERAGE('Base Data'!A99:T99),\"\")","v":7.7750425846920219}]
[90,{"$f":"IF('Base Data'!A100<>\"\",AVERAGE('Base Data'!A100:T100),\"\")","v":7.3323272832069986}]
[91,{"$f":"IF('Base Data'!A101<>\"\",AVERAGE('Base Data'!A101:T101),\"\")","v":7.5301806750965046}]
[92,{"$f":"IF('Base Data'!A102<>\"\",AVERAGE('Base Data'!A102:T102),\"\")","v":7.4826675381396628}]
[93,{"$f":"IF('Base Data'!A103<>\"\",AVERAGE('Base Data'!A103:T103),\"\")","v":8.0783740827363566}]
[94,{"$f":"IF('Base Data'!A104<>\"\",AVERAGE('Base Data'!A104:T104),\"\")","v":7.6767169846302066}]
[95,{"$f":"IF('Base Data'!A105<>\"\",AVERAGE('Base Data'!A105:T105),\"\")","v":7.8157353467285757}]
[96,{"$f":"IF('Base Data'!A106<>\"\",AVERAGE('Base Data'!A106:T106),\"\")","v":7.7457518114909307}]
[97,{"$f":"IF('Base Data'!A107<>\"\",AVERAGE('Base Data'!A107:T107),\"\")","v":7.7740834362802618}]
[98,{"$f":"IF('Base Data'!A108<>\"\",AVERAGE('Base Data'!A108:T108),\"\")","v":7.7534543919991652}]
[99,{"$f":"IF('Base Data'!A109<>\"\",AVERAGE('Base Data'!A109:T109),\"\")","v":7.1830233844652325}]
[100,{"$f":"IF('Base Data'!A110<>\"\",AVERAGE('Base Data'!A110:T110),\"\")","v":7.3281375470262304}]
[101,{"$f":"IF('Base Data'!A111<>\"\",AVERAGE('Base Data'!A111:T111),\"\")","v":7.3255287064336541}]
[102,{"$f":"IF('Base Data'!A112<>\"\",AVERAGE('Base Data'!A112:T112),\"\")","v":7.9476164392805391}]
[103,{"$f":"IF('Base Data'!A113<>\"\",AVERAGE('Base Data'!A113:T113),\"\")","v":7.1161441530380412}]
[104,{"$f":"IF('Base Data'!A114<>\"\",AVERAGE('Base Data'!A114:T114),\"\")","v":7.7294846346918691}]
[105,{"$f":"IF('Base Data'!A115<>\"\",AVERAGE('Base Data'!A115:T115),\"\")","v":7.8208728669472567}]
[106,{"$f":"IF('Base Data'!A116<>\"\",AVERAGE('Base Data'!A116:T116),\"\")","v":7.72755667915286}]
[107,{"$f":"IF('Base Data'!A117<>\"\",AVERAGE('Base Data'!A117:T117),\"\")","v":7.8943349302450958}]
[108,{"$f":"IF('Base Data'!A118<>\"\",AVERAGE('Base Data'!A118:T118),\"\")","v":8.3633729300113497}]
[109,{"$f":"IF('Base Data'!A119<>\"\",AVERAGE('Base Data'!A119:T119),\"\")","v":8.040253533331633}]
[110,{"$f":"IF('Base Data'!A120<>\"\",AVERAGE('Base Data'!A120:T120),\"\")","v":7.521095476930169}]
[111,{"$f":"IF('Base Data'!A121<>\"\",AVERAGE('Base Data'!A121:T121),\"\")","v":8.4807526509672275}]
[112,{"$f":"IF('Base Data'!A122<>\"\",AVERAGE('Base Data'!A122:T122),\"\")","v":7.8949582169463657}]
[113,{"$f":"IF('Base Data'!A123<>\"\",AVERAGE('Base Data'!A123:T123),\"\")","v":8.1752815214244627}]
[114,{"$f":"IF('Base Data'!A124<>\"\",AVERAGE('Base Data'!A124:T124),\"\")","v":7.4506256935319568}]
[115,{"$f":"IF('Base Data'!A125<>\"\",AVERAGE('Base Data'!A125:T125),\"\")","v":8.3923612592529064}]
[116,{"$f":"IF('Base Data'!A126<>\"\",AVERAGE('Base Data'!A126:T126),\"\")","v":7.7727406452876959}]
[117,{"$f":"IF('Base Data'!A127<>\"\",AVERAGE('Base Data'!A127:T127),\"\")","v":8.8531838043037201}]
[118,{"$f":"IF('Base Data'!A128<>\"\",AVERAGE('Base Data'!A128:T128),\"\")","v":8.1005331717512181}]
[119,{"$f":"IF('Base Data'!A129<>\"\",AVERAGE('Base Data'!A129:T129),\"\")","v":7.7985887404308958}]
[120,{"$f":"IF('Base Data'!A130<>\"\",AVERAGE('Base Data'!A130:T130),\"\")","v":8.8681555084932526}]
[121,{"$f":"IF('Base Data'!A131<>\"\",AVERAGE('Base Data'!A131:T131),\"\")","v":8.084483103299263}]
[122,{"$f":"IF('Base Data'!A132<>\"\",AVERAGE('Base Data'!A132:T132),\"\")","v":8.6326992085040999}]
[123,{"$f":"IF('Base Data'!A133<>\"\",AVERAGE('Base Data'!A133:T133),\"\")","v":7.8082247016115378}]
[124,{"$f":"IF('Base Data'!A134<>\"\",AVERAGE('Base Data'!A134:T134),\"\")","v":8.7205938054057572}]
[125,{"$f":"IF('Base Data'!A135<>\"\",AVERAGE('Base Data'!A135:T135),\"\")","v":7.9079069819218617}]
[126,{"$f":"IF('Base Data'!A136<>\"\",AVERAGE('Base Data'!A136:T136),\"\")","v":9.2246441060972018}]
[127,{"$f":"IF('Base Data'!A137<>\"\",AVERAGE('Base Data'!A137:T137),\"\")","v":7.6949175829080092}]
[128,{"$f":"IF('Base Data'!A138<>\"\",AVERAGE('Base Data'!A138:T138),\"\")","v":9.3836269901209128}]
[129,{"$f":"IF('Base Data'!A139<>\"\",AVERAGE('Base Data'!A139:T139),\"\")","v":8.4834874633873429}]
[130,{"$f":"IF('Base Data'!A140<>\"\",AVERAGE('Base Data'!A140:T140),\"\")","v":9.2152211147214427}]
[131,{"$f":"IF('Base Data'!A141<>\"\",AVERAGE('Base Data'!A141:T141),\"\")","v":8.2783955344063624}]
[132,{"$f":"IF('Base Data'!A142<>\"\",AVERAGE('Base Data'!A142:T142),\"\")","v":9.1025003210201287}]
[133,{"$f":"IF('Base Data'!A143<>\"\",AVERAGE('Base Data'!A143:T143),\"\")","v":8.3514056284224516}]
[134,{"$f":"IF('Base Data'!A144<>\"\",AVERAGE('Base Data'!A144:T144),\"\")","v":8.2507593970158322}]
[135,{"$f":"IF('Base Data'!A145<>\"\",AVERAGE('Base Data'!A145:T145),\"\")","v":8.489106098886122}]
[136,{"$f":"IF('Base Data'!A146<>\"\",AVERAGE('Base Data'!A146:T146),\"\")","v":8.1654044303704971}]
[137,{"$f":"IF('Base Data'!A147<>\"\",AVERAGE('Base Data'!A147:T147),\"\")","v":9.0585627172844791}]
[138,{"$f":"IF('Base Data'!A148<>\"\",AVERAGE('Base Data'!A148:T148),\"\")","v":8.228825983495053}]
[139,{"$f":"IF('Base Data'!A149<>\"\",AVERAGE('Base Data'!A149:T149),\"\")","v":8.394572653861939}]
[140,{"$f":"IF('Base Data'!A150<>\"\",AVERAGE('Base Data'!A150:T150),\"\")","v":8.5664968859343738}]
[141,{"$f":"IF('Base Data'!A151<>\"\",AVERAGE('Base Data'!A151:T151),\"\")","v":7.9769495021484413}]
[142,{"$f":"IF('Base Data'!A152<>\"\",AVERAGE('Base Data'!A152:T152),\"\")","v":8.4844782641733438}]
[143,{"$f":"IF('Base Data'!A153<>\"\",AVERAGE('Base Data'!A153:T153),\"\")","v":8.4318708525446215}]
[144,{"$f":"IF('Base Data'!A154<>\"\",AVERAGE('Base Data'!A154:T154),\"\")","v":8.4539039588250127}]
[145,{"$f":"IF('Base Data'!A155<>\"\",AVERAGE('Base Data'!A155:T155),\"\")","v":8.8786352022481463}]
[146,{"$f":"IF('Base Data'!A156<>\"\",AVERAGE('Base Data'!A156:T156),\"\")","v":8.90041353984466}]
[147,{"$f":"IF('Base Data'!A157<>\"\",AVERAGE('Base Data'!A157:T157),\"\")","v":8.5025664537991563}]
[148,{"$f":"IF('Base Data'!A158<>\"\",AVERAGE('Base Data'!A158:T158),\"\")","v":8.6901033491713449}]
[149,{"$f":"IF('Base Data'!A159<>\"\",AVERAGE('Base Data'!A159:T159),\"\")","v":8.9690230946712699}]
[150,{"$f":"IF('Base Data'!A160<>\"\",AVERAGE('Base Data'!A160:T160),\"\")","v":8.924259291689566}]
[151,{"$f":"IF('Base Data'!A161<>\"\",AVERAGE('Base Data'!A161:T161),\"\")","v":9.0152125882932754}]
[152,{"$f":"IF('Base Data'!A162<>\"\",AVERAGE('Base Data'!A162:T162),\"\")","v":9.0342752633181842}]
[153,{"$f":"IF('Base Data'!A163<>\"\",AVERAGE('Base Data'!A163:T163),\"\")","v":8.2226317010772902}]
[154,{"$f":"IF('Base Data'!A164<>\"\",AVERAGE('Base Data'!A164:T164),\"\")","v":8.7345247478065975}]
[155,{"$f":"IF('Base Data'!A165<>\"\",AVERAGE('Base Data'!A165:T165),\"\")","v":9.4647293115747573}]
[156,{"$f":"IF('Base Data'!A166<>\"\",AVERAGE('Base Data'!A166:T166),\"\")","v":8.9587178939046161}]
[157,{"$f":"IF('Base Data'!A167<>\"\",AVERAGE('Base Data'!A167:T167),\"\")","v":9.1489231799696178}]
[158,{"$f":"IF('Base Data'!A168<>\"\",AVERAGE('Base Data'!A168:T168),\"\")","v":9.8721093494576628}]
[159,{"$f":"IF('Base Data'!A169<>\"\",AVERAGE('Base Data'!A169:T169),\"\")","v":9.7858165635927854}]
[160,{"$f":"IF('Base Data'!A170<>\"\",AVERAGE('Base Data'!A170:T170),\"\")","v":9.2455665865374108}]
[161,{"$f":"IF('Base Data'!A171<>\"\",AVERAGE('Base Data'!A171:T171),\"\")","v":9.3799667147704682}]
[162,{"$f":"IF('Base Data'!A172<>\"\",AVERAGE('Base Data'!A172:T172),\"\")","v":9.9234381206228601}]
[163,{"$f":"IF('Base Data'!A173<>\"\",AVERAGE('Base Data'!A173:T173),\"\")","v":9.1005522453632235}]
[164,{"$f":"IF('Base Data'!A174<>\"\",AVERAGE('Base Data'!A174:T174),\"\")","v":9.3061200225640235}]
[165,{"$f":"IF('Base Data'!A175<>\"\",AVERAGE('Base Data'!A175:T175),\"\")","v":8.8236608689625822}]
[166,{"$f":"IF('Base Data'!A176<>\"\",AVERAGE('Base Data'!A176:T176),\"\")","v":9.5033652053683859}]
[167,{"$f":"IF('Base Data'!A177<>\"\",AVERAGE('Base Data'!A177:T177),\"\")","v":9.2854857983805683}]
[168,{"$f":"IF('Base Data'!A178<>\"\",AVERAGE('Base Data'!A178:T178),\"\")","v":9.8618177376411271}]
[169,{"$f":"IF('Base Data'!A179<>\"\",AVERAGE('Base Data'!A179:T179),\"\")","v":9.146244424308744}]
[170,{"$f":"IF('Base Data'!A180<>\"\",AVERAGE('Base Data'!A180:T180),\"\")","v":9.662370029810095}]
[171,{"$f":"IF('Base Data'!A181<>\"\",AVERAGE('Base Data'!A181:T181),\"\")","v":9.6203111149264142}]
[172,{"$f":"IF('Base Data'!A182<>\"\",AVERAGE('Base Data'!A182:T182),\"\")","v":9.2712598114997551}]
[173,{"$f":"IF('Base Data'!A183<>\"\",AVERAGE('Base Data'!A183:T183),\"\")","v":10.276086005960284}]
[174,{"$f":"IF('Base Data'!A184<>\"\",AVERAGE('Base Data'!A184:T184),\"\")","v":8.3229480732811876}]
[175,{"$f":"IF('Base Data'!A185<>\"\",AVERAGE('Base Data'!A185:T185),\"\")","v":10.74801884383918}]
[176,{"$f":"IF('Base Data'!A186<>\"\",AVERAGE('Base Data'!A186:T186),\"\")","v":8.5313939204823797}]
[177,{"$f":"IF('Base Data'!A187<>\"\",AVERAGE('Base Data'!A187:T187),\"\")","v":10.015687298335592}]
[178,{"$f":"IF('Base Data'!A188<>\"\",AVERAGE('Base Data'!A188:T188),\"\")","v":8.5071291742757076}]
[179,{"$f":"IF('Base Data'!A189<>\"\",AVERAGE('Base Data'!A189:T189),\"\")","v":9.9590555257991404}]
[180,{"$f":"IF('Base Data'!A190<>\"\",AVERAGE('Base Data'!A190:T190),\"\")","v":8.9084591443321255}]
[181,{"$f":"IF('Base Data'!A191<>\"\",AVERAGE('Base Data'!A191:T191),\"\")","v":10.010721487393866}]
[182,{"$f":"IF('Base Data'!A192<>\"\",AVERAGE('Base Data'!A192:T192),\"\")","v":9.0703443390207816}]
[183,{"$f":"IF('Base Data'!A193<>\"\",AVERAGE('Base Data'!A193:T193),\"\")","v":9.5991313967838749}]
[184,{"$f":"IF('Base Data'!A194<>\"\",AVERAGE('Base Data'!A194:T194),\"\")","v":9.2585990325950096}]
[185,{"$f":"IF('Base Data'!A195<>\"\",AVERAGE('Base Data'!A195:T195),\"\")","v":10.259200759028099}]
[186,{"$f":"IF('Base Data'!A196<>\"\",AVERAGE('Base Data'!A196:T196),\"\")","v":9.255101371672243}]
[187,{"$f":"IF('Base Data'!A197<>\"\",AVERAGE('Base Data'!A197:T197),\"\")","v":9.9829248072056824}]
[188,{"$f":"IF('Base Data'!A198<>\"\",AVERAGE('Base Data'!A198:T198),\"\")","v":9.8339635223465987}]
[189,{"$f":"IF('Base Data'!A199<>\"\",AVERAGE('Base Data'!A199:T199),\"\")","v":9.4476110446865444}]
[190,{"$f":"IF('Base Data'!A200<>\"\",AVERAGE('Base Data'!A200:T200),\"\")","v":9.7896651316526118}]
[191,{"$f":"IF('Base Data'!A201<>\"\",AVERAGE('Base Data'!A201:T201),\"\")","v":9.3022461159518581}]
[192,{"$f":"IF('Base Data'!A202<>\"\",AVERAGE('Base Data'!A202:T202),\"\")","v":9.9199583818721155}]
[193,{"$f":"IF('Base Data'!A203<>\"\",AVERAGE('Base Data'!A203:T203),\"\")","v":8.8859086672411713}]
[194,{"$f":"IF('Base Data'!A204<>\"\",AVERAGE('Base Data'!A204:T204),\"\")","v":10.023191095782693}]
[195,{"$f":"IF('Base Data'!A205<>\"\",AVERAGE('Base Data'!A205:T205),\"\")","v":8.4812650740137574}]
[196,{"$f":"IF('Base Data'!A206<>\"\",AVERAGE('Base Data'!A206:T206),\"\")","v":10.285371785780931}]
[197,{"$f":"IF('Base Data'!A207<>\"\",AVERAGE('Base Data'!A207:T207),\"\")","v":9.2995553233309352}]
[198,{"$f":"IF('Base Data'!A208<>\"\",AVERAGE('Base Data'!A208:T208),\"\")","v":10.679244795203244}]
[199,{"$f":"IF('Base Data'!A209<>\"\",AVERAGE('Base Data'!A209:T209),\"\")","v":9.3305334247448037}]
[200,{"$f":"IF('Base Data'!A210<>\"\",AVERAGE('Base Data'!A210:T210),\"\")","v":10.890766780115314}]
[201,{"$f":"IF('Base Data'!A211<>\"\",AVERAGE('Base Data'!A211:T211),\"\")","v":8.7374121072737303}]
[202,{"$f":"IF('Base Data'!A212<>\"\",AVERAGE('Base Data'!A212:T212),\"\")","v":10.4255142602112}]
[203,{"$f":"IF('Base Data'!A213<>\"\",AVERAGE('Base Data'!A213:T213),\"\")","v":10.715812714684397}]
[204,{"$f":"IF('Base Data'!A214<>\"\",AVERAGE('Base Data'!A214:T214),\"\")","v":10.470668062054182}]
[205,{"$f":"IF('Base Data'!A215<>\"\",AVERAGE('Base Data'!A215:T215),\"\")","v":10.56602411383467}]
[206,{"$f":"IF('Base Data'!A216<>\"\",AVERAGE('Base Data'!A216:T216),\"\")","v":10.005389327715568}]
[207,{"$f":"IF('Base Data'!A217<>\"\",AVERAGE('Base Data'!A217:T217),\"\")","v":9.2274014406019038}]
[208,{"$f":"IF('Base Data'!A218<>\"\",AVERAGE('Base Data'!A218:T218),\"\")","v":10.01217749295394}]
[209,{"$f":"IF('Base Data'!A219<>\"\",AVERAGE('Base Data'!A219:T219),\"\")","v":9.9659925311921214}]
[210,{"$f":"IF('Base Data'!A220<>\"\",AVERAGE('Base Data'!A220:T220),\"\")","v":10.636936509371552}]
[211,{"$f":"IF('Base Data'!A221<>\"\",AVERAGE('Base Data'!A221:T221),\"\")","v":10.032446160500218}]
[212,{"$f":"IF('Base Data'!A222<>\"\",AVERAGE('Base Data'!A222:T222),\"\")","v":10.258305623630612}]
[213,{"$f":"IF('Base Data'!A223<>\"\",AVERAGE('Base Data'!A223:T223),\"\")","v":9.4360338420231482}]
[214,{"$f":"IF('Base Data'!A224<>\"\",AVERAGE('Base Data'!A224:T224),\"\")","v":9.5160037590886137}]
[215,{"$f":"IF('Base Data'!A225<>\"\",AVERAGE('Base Data'!A225:T225),\"\")","v":10.016535584463025}]
[216,{"$f":"IF('Base Data'!A226<>\"\",AVERAGE('Base Data'!A226:T226),\"\")","v":9.465885476041155}]
[217,{"$f":"IF('Base Data'!A227<>\"\",AVERAGE('Base Data'!A227:T227),\"\")","v":10.45285536199982}]
[218,{"$f":"IF('Base Data'!A228<>\"\",AVERAGE('Base Data'!A228:T228),\"\")","v":8.4378374262392235}]
[219,{"$f":"IF('Base Data'!A229<>\"\",AVERAGE('Base Data'!A229:T229),\"\")","v":10.479569220880087}]
[220,{"$f":"IF('Base Data'!A230<>\"\",AVERAGE('Base Data'!A230:T230),\"\")","v":8.4649135477170194}]
[221,{"$f":"IF('Base Data'!A231<>\"\",AVERAGE('Base Data'!A231:T231),\"\")","v":10.621267446972436}]
[222,{"$f":"IF('Base Data'!A232<>\"\",AVERAGE('Base Data'!A232:T232),\"\")","v":8.280263459277208}]
[223,{"$f":"IF('Base Data'!A233<>\"\",AVERAGE('Base Data'!A233:T233),\"\")","v":10.70681278426383}]
[224,{"$f":"IF('Base Data'!A234<>\"\",AVERAGE('Base Data'!A234:T234),\"\")","v":8.8937524673058874}]
[225,{"$f":"IF('Base Data'!A235<>\"\",AVERAGE('Base Data'!A235:T235),\"\")","v":10.69227050666297}]
[226,{"$f":"IF('Base Data'!A236<>\"\",AVERAGE('Base Data'!A236:T236),\"\")","v":9.3512109067201941}]
[227,{"$f":"IF('Base Data'!A237<>\"\",AVERAGE('Base Data'!A237:T237),\"\")","v":10.67195875304494}]
[228,{"$f":"IF('Base Data'!A238<>\"\",AVERAGE('Base Data'!A238:T238),\"\")","v":9.860007848170401}]
[229,{"$f":"IF('Base Data'!A239<>\"\",AVERAGE('Base Data'!A239:T239),\"\")","v":9.8654037578779832}]
[230,{"$f":"IF('Base Data'!A240<>\"\",AVERAGE('Base Data'!A240:T240),\"\")","v":10.266592548252913}]
[231,{"$f":"IF('Base Data'!A241<>\"\",AVERAGE('Base Data'!A241:T241),\"\")","v":10.010072068726194}]
[232,{"$f":"IF('Base Data'!A242<>\"\",AVERAGE('Base Data'!A242:T242),\"\")","v":10.482385143297309}]
[233,{"$f":"IF('Base Data'!A243<>\"\",AVERAGE('Base Data'!A243:T243),\"\")","v":10.105549588292567}]
[234,{"$f":"IF('Base Data'!A244<>\"\",AVERAGE('Base Data'!A244:T244),\"\")","v":9.6030953974844095}]
[235,{"$f":"IF('Base Data'!A245<>\"\",AVERAGE('Base Data'!A245:T245),\"\")","v":10.49871042882312}]
[236,{"$f":"IF('Base Data'!A246<>\"\",AVERAGE('Base Data'!A246:T246),\"\")","v":8.9464160513958486}]
[237,{"$f":"IF('Base Data'!A247<>\"\",AVERAGE('Base Data'!A247:T247),\"\")","v":11.211018253321983}]
[238,{"$f":"IF('Base Data'!A248<>\"\",AVERAGE('Base Data'!A248:T248),\"\")","v":9.0448035905921564}]
[239,{"$f":"IF('Base Data'!A249<>\"\",AVERAGE('Base Data'!A249:T249),\"\")","v":10.503477525130942}]
[240,{"$f":"IF('Base Data'!A250<>\"\",AVERAGE('Base Data'!A250:T250),\"\")","v":9.7537294976849687}]
[241,{"$f":"IF('Base Data'!A251<>\"\",AVERAGE('Base Data'!A251:T251),\"\")","v":11.186096167612533}]
[242,{"$f":"IF('Base Data'!A252<>\"\",AVERAGE('Base Data'!A252:T252),\"\")","v":10.443614679280492}]
[243,{"$f":"IF('Base Data'!A253<>\"\",AVERAGE('Base Data'!A253:T253),\"\")","v":10.86166751004156}]
[244,{"$f":"IF('Base Data'!A254<>\"\",AVERAGE('Base Data'!A254:T254),\"\")","v":10.34460081274705}]
[245,{"$f":"IF('Base Data'!A255<>\"\",AVERAGE('Base Data'!A255:T255),\"\")","v":11.220229319401442}]
[246,{"$f":"IF('Base Data'!A256<>\"\",AVERAGE('Base Data'!A256:T256),\"\")","v":9.4880129809765616}]
[247,{"$f":"IF('Base Data'!A257<>\"\",AVERAGE('Base Data'!A257:T257),\"\")","v":11.011537849661519}]
[248,{"$f":"IF('Base Data'!A258<>\"\",AVERAGE('Base Data'!A258:T258),\"\")","v":9.805406871198949}]
[249,{"$f":"IF('Base Data'!A259<>\"\",AVERAGE('Base Data'!A259:T259),\"\")","v":11.480819733943985}]
[250,{"$f":"IF('Base Data'!A260<>\"\",AVERAGE('Base Data'!A260:T260),\"\")","v":9.8543760719456888}]
[251,{"$f":"IF('Base Data'!A261<>\"\",AVERAGE('Base Data'!A261:T261),\"\")","v":10.516631215493884}]
[252,{"$f":"IF('Base Data'!A262<>\"\",AVERAGE('Base Data'!A262:T262),\"\")","v":10.516074418434318}]
[253,{"$f":"IF('Base Data'!A263<>\"\",AVERAGE('Base Data'!A263:T263),\"\")","v":10.279844720962355}]
[254,{"$f":"IF('Base Data'!A264<>\"\",AVERAGE('Base Data'!A264:T264),\"\")","v":11.137908190948359}]
[255,{"$f":"IF('Base Data'!A265<>\"\",AVERAGE('Base Data'!A265:T265),\"\")","v":10.257145808728897}]
[256,{"$f":"IF('Base Data'!A266<>\"\",AVERAGE('Base Data'!A266:T266),\"\")","v":11.293803640507218}]
[257,{"$f":"IF('Base Data'!A267<>\"\",AVERAGE('Base Data'!A267:T267),\"\")","v":10.195172018803916}]
[258,{"$f":"IF('Base Data'!A268<>\"\",AVERAGE('Base Data'!A268:T268),\"\")","v":11.061468593863712}]
[259,{"$f":"IF('Base Data'!A269<>\"\",AVERAGE('Base Data'!A269:T269),\"\")","v":10.105039168865696}]
[260,{"$f":"IF('Base Data'!A270<>\"\",AVERAGE('Base Data'!A270:T270),\"\")","v":11.730391053135282}]
[261,{"$f":"IF('Base Data'!A271<>\"\",AVERAGE('Base Data'!A271:T271),\"\")","v":10.403575576666885}]
[262,{"$f":"IF('Base Data'!A272<>\"\",AVERAGE('Base Data'!A272:T272),\"\")","v":12.152069999356163}]
[263,{"$f":"IF('Base Data'!A273<>\"\",AVERAGE('Base Data'!A273:T273),\"\")","v":10.633126226215071}]
[264,{"$f":"IF('Base Data'!A274<>\"\",AVERAGE('Base Data'!A274:T274),\"\")","v":10.739192020896915}]
[265,{"$f":"IF('Base Data'!A275<>\"\",AVERAGE('Base Data'!A275:T275),\"\")","v":9.9841753374101412}]
[266,{"$f":"IF('Base Data'!A276<>\"\",AVERAGE('Base Data'!A276:T276),\"\")","v":11.295829756068262}]
[267,{"$f":"IF('Base Data'!A277<>\"\",AVERAGE('Base Data'!A277:T277),\"\")","v":10.349295834335663}]
[268,{"$f":"IF('Base Data'!A278<>\"\",AVERAGE('Base Data'!A278:T278),\"\")","v":10.832973271276035}]
[269,{"$f":"IF('Base Data'!A279<>\"\",AVERAGE('Base Data'!A279:T279),\"\")","v":10.330962012957885}]
[270,{"$f":"IF('Base Data'!A280<>\"\",AVERAGE('Base Data'!A280:T280),\"\")","v":11.231185415502186}]
[271,{"$f":"IF('Base Data'!A281<>\"\",AVERAGE('Base Data'!A281:T281),\"\")","v":10.116561423177654}]
[272,{"$f":"IF('Base Data'!A282<>\"\",AVERAGE('Base Data'!A282:T282),\"\")","v":10.465361556400143}]
[273,{"$f":"IF('Base Data'!A283<>\"\",AVERAGE('Base Data'!A283:T283),\"\")","v":10.275026054016124}]
[274,{"$f":"IF('Base Data'!A284<>\"\",AVERAGE('Base Data'!A284:T284),\"\")","v":10.750319869003441}]
[275,{"$f":"IF('Base Data'!A285<>\"\",AVERAGE('Base Data'!A285:T285),\"\")","v":10.490688351892619}]
[276,{"$f":"IF('Base Data'!A286<>\"\",AVERAGE('Base Data'!A286:T286),\"\")","v":11.097751408171201}]
[277,{"$f":"IF('Base Data'!A287<>\"\",AVERAGE('Base Data'!A287:T287),\"\")","v":10.648738287655437}]
[278,{"$f":"IF('Base Data'!A288<>\"\",AVERAGE('Base Data'!A288:T288),\"\")","v":11.062722254957738}]
[279,{"$f":"IF('Base Data'!A289<>\"\",AVERAGE('Base Data'!A289:T289),\"\")","v":11.101265680078422}]
[280,{"$f":"IF('Base Data'!A290<>\"\",AVERAGE('Base Data'!A290:T290),\"\")","v":10.321635845849176}]
[281,{"$f":"IF('Base Data'!A291<>\"\",AVERAGE('Base Data'!A291:T291),\"\")","v":10.853041963141822}]
[282,{"$f":"IF('Base Data'!A292<>\"\",AVERAGE('Base Data'!A292:T292),\"\")","v":10.349429163806711}]
[283,{"$f":"IF('Base Data'!A293<>\"\",AVERAGE('Base Data'!A293:T293),\"\")","v":10.394246563652668}]
[284,{"$f":"IF('Base Data'!A294<>\"\",AVERAGE('Base Data'!A294:T294),\"\")","v":11.504996614294116}]
[285,{"$f":"IF('Base Data'!A295<>\"\",AVERAGE('Base Data'!A295:T295),\"\")","v":10.157665668970409}]
[286,{"$f":"IF('Base Data'!A296<>\"\",AVERAGE('Base Data'!A296:T296),\"\")","v":11.645094250406117}]
[287,{"$f":"IF('Base Data'!A297<>\"\",AVERAGE('Base Data'!A297:T297),\"\")","v":9.5704261632437984}]
[288,{"$f":"IF('Base Data'!A298<>\"\",AVERAGE('Base Data'!A298:T298),\"\")","v":11.504053068335899}]
[289,{"$f":"IF('Base Data'!A299<>\"\",AVERAGE('Base Data'!A299:T299),\"\")","v":9.9038786614470702}]
[290,{"$f":"IF('Base Data'!A300<>\"\",AVERAGE('Base Data'!A300:T300),\"\")","v":11.411247360054976}]
[291,{"$f":"IF('Base Data'!A301<>\"\",AVERAGE('Base Data'!A301:T301),\"\")","v":9.8073080289063306}]
[292,{"$f":"IF('Base Data'!A302<>\"\",AVERAGE('Base Data'!A302:T302),\"\")","v":10.521014560452373}]
[293,{"$f":"IF('Base Data'!A303<>\"\",AVERAGE('Base Data'!A303:T303),\"\")","v":10.509311332563822}]
[294,{"$f":"IF('Base Data'!A304<>\"\",AVERAGE('Base Data'!A304:T304),\"\")","v":9.9304285436937647}]
[295,{"$f":"IF('Base Data'!A305<>\"\",AVERAGE('Base Data'!A305:T305),\"\")","v":10.718166436489375}]
[296,{"$f":"IF('Base Data'!A306<>\"\",AVERAGE('Base Data'!A306:T306),\"\")","v":11.252437205334875}]
[297,{"$f":"IF('Base Data'!A307<>\"\",AVERAGE('Base Data'!A307:T307),\"\")","v":10.519802462686872}]
[298,{"$f":"IF('Base Data'!A308<>\"\",AVERAGE('Base Data'!A308:T308),\"\")","v":11.149997897822743}]
[299,{"$f":"IF('Base Data'!A309<>\"\",AVERAGE('Base Data'!A309:T309),\"\")","v":10.767407680190285}]
[300,{"$f":"IF('Base Data'!A310<>\"\",AVERAGE('Base Data'!A310:T310),\"\")","v":11.096816155792682}]
[301,{"$f":"IF('Base Data'!A311<>\"\",AVERAGE('Base Data'!A311:T311),\"\")","v":10.325732451304905}]
[302,{"$f":"IF('Base Data'!A312<>\"\",AVERAGE('Base Data'!A312:T312),\"\")","v":10.756334536713078}]
[303,{"$f":"IF('Base Data'!A313<>\"\",AVERAGE('Base Data'!A313:T313),\"\")","v":10.453500998805351}]
[304,{"$f":"IF('Base Data'!A314<>\"\",AVERAGE('Base Data'!A314:T314),\"\")","v":11.026671250294608}]
[305,{"$f":"IF('Base Data'!A315<>\"\",AVERAGE('Base Data'!A315:T315),\"\")","v":10.351746825938813}]
[306,{"$f":"IF('Base Data'!A316<>\"\",AVERAGE('Base Data'!A316:T316),\"\")","v":11.339998245461379}]
[307,{"$f":"IF('Base Data'!A317<>\"\",AVERAGE('Base Data'!A317:T317),\"\")","v":10.691337677069216}]
[308,{"$f":"IF('Base Data'!A318<>\"\",AVERAGE('Base Data'!A318:T318),\"\")","v":11.616811284906719}]
[309,{"$f":"IF('Base Data'!A319<>\"\",AVERAGE('Base Data'!A319:T319),\"\")","v":10.328856419268506}]
[310,{"$f":"IF('Base Data'!A320<>\"\",AVERAGE('Base Data'!A320:T320),\"\")","v":11.542204062474264}]
[311,{"$f":"IF('Base Data'!A321<>\"\",AVERAGE('Base Data'!A321:T321),\"\")","v":10.549757740047212}]
[312,{"$f":"IF('Base Data'!A322<>\"\",AVERAGE('Base Data'!A322:T322),\"\")","v":11.701842671323384}]
[313,{"$f":"IF('Base Data'!A323<>\"\",AVERAGE('Base Data'!A323:T323),\"\")","v":11.617247868210672}]
[314,{"$f":"IF('Base Data'!A324<>\"\",AVERAGE('Base Data'!A324:T324),\"\")","v":11.483331853942538}]
[315,{"$f":"IF('Base Data'!A325<>\"\",AVERAGE('Base Data'!A325:T325),\"\")","v":11.505132455776083}]
[316,{"$f":"IF('Base Data'!A326<>\"\",AVERAGE('Base Data'!A326:T326),\"\")","v":11.204876955608086}]
[317,{"$f":"IF('Base Data'!A327<>\"\",AVERAGE('Base Data'!A327:T327),\"\")","v":11.429820551412487}]
[318,{"$f":"IF('Base Data'!A328<>\"\",AVERAGE('Base Data'!A328:T328),\"\")","v":10.908666631672242}]
[319,{"$f":"IF('Base Data'!A329<>\"\",AVERAGE('Base Data'!A329:T329),\"\")","v":10.738015694785142}]
[320,{"$f":"IF('Base Data'!A330<>\"\",AVERAGE('Base Data'!A330:T330),\"\")","v":10.993145828271832}]
[321,{"$f":"IF('Base Data'!A331<>\"\",AVERAGE('Base Data'!A331:T331),\"\")","v":10.578924489099602}]
[322,{"$f":"IF('Base Data'!A332<>\"\",AVERAGE('Base Data'!A332:T332),\"\")","v":11.324704800188611}]
[323,{"$f":"IF('Base Data'!A333<>\"\",AVERAGE('Base Data'!A333:T333),\"\")","v":10.52573554920208}]
[324,{"$f":"IF('Base Data'!A334<>\"\",AVERAGE('Base Data'!A334:T334),\"\")","v":11.317684274142049}]
[325,{"$f":"IF('Base Data'!A335<>\"\",AVERAGE('Base Data'!A335:T335),\"\")","v":10.602371922582451}]
[326,{"$f":"IF('Base Data'!A336<>\"\",AVERAGE('Base Data'!A336:T336),\"\")","v":11.064058634493453}]
[327,{"$f":"IF('Base Data'!A337<>\"\",AVERAGE('Base Data'!A337:T337),\"\")","v":11.110484118092254}]
[328,{"$f":"IF('Base Data'!A338<>\"\",AVERAGE('Base Data'!A338:T338),\"\")","v":11.763391731999288}]
[329,{"$f":"IF('Base Data'!A339<>\"\",AVERAGE('Base Data'!A339:T339),\"\")","v":11.128889279430341}]
[330,{"$f":"IF('Base Data'!A340<>\"\",AVERAGE('Base Data'!A340:T340),\"\")","v":11.69519358286913}]
[331,{"$f":"IF('Base Data'!A341<>\"\",AVERAGE('Base Data'!A341:T341),\"\")","v":11.00711727503707}]
[332,{"$f":"IF('Base Data'!A342<>\"\",AVERAGE('Base Data'!A342:T342),\"\")","v":11.247598950867749}]
[333,{"$f":"IF('Base Data'!A343<>\"\",AVERAGE('Base Data'!A343:T343),\"\")","v":10.833604752627719}]
[334,{"$f":"IF('Base Data'!A344<>\"\",AVERAGE('Base Data'!A344:T344),\"\")","v":11.371382839927808}]
[335,{"$f":"IF('Base Data'!A345<>\"\",AVERAGE('Base Data'!A345:T345),\"\")","v":10.584105375615499}]
[336,{"$f":"IF('Base Data'!A346<>\"\",AVERAGE('Base Data'!A346:T346),\"\")","v":11.394057309679734}]
[337,{"$f":"IF('Base Data'!A347<>\"\",AVERAGE('Base Data'!A347:T347),\"\")","v":10.688828367917306}]
[338,{"$f":"IF('Base Data'!A348<>\"\",AVERAGE('Base Data'!A348:T348),\"\")","v":11.541194551476522}]
[339,{"$f":"IF('Base Data'!A349<>\"\",AVERAGE('Base Data'!A349:T349),\"\")","v":10.666652689804071}]
[340,{"$f":"IF('Base Data'!A350<>\"\",AVERAGE('Base Data'!A350:T350),\"\")","v":11.524681166883713}]
[341,{"$f":"IF('Base Data'!A351<>\"\",AVERAGE('Base Data'!A351:T351),\"\")","v":10.634107960536015}]
[342,{"$f":"IF('Base Data'!A352<>\"\",AVERAGE('Base Data'!A352:T352),\"\")","v":11.708980429079066}]
[343,{"$f":"IF('Base Data'!A353<>\"\",AVERAGE('Base Data'!A353:T353),\"\")","v":11.170880680693022}]
[344,{"$f":"IF('Base Data'!A354<>\"\",AVERAGE('Base Data'!A354:T354),\"\")","v":10.932118133766435}]
[345,{"$f":"IF('Base Data'!A355<>\"\",AVERAGE('Base Data'!A355:T355),\"\")","v":11.099689749482959}]
[346,{"$f":"IF('Base Data'!A356<>\"\",AVERAGE('Base Data'!A356:T356),\"\")","v":11.219164442669834}]
[347,{"$f":"IF('Base Data'!A357<>\"\",AVERAGE('Base Data'!A357:T357),\"\")","v":10.072283962812444}]
[348,{"$f":"IF('Base Data'!A358<>\"\",AVERAGE('Base Data'!A358:T358),\"\")","v":12.039496631952852}]
[349,{"$f":"IF('Base Data'!A359<>\"\",AVERAGE('Base Data'!A359:T359),\"\")","v":10.36315148290034}]
[350,{"$f":"IF('Base Data'!A360<>\"\",AVERAGE('Base Data'!A360:T360),\"\")","v":12.080383774206592}]
[351,{"$f":"IF('Base Data'!A361<>\"\",AVERAGE('Base Data'!A361:T361),\"\")","v":10.131622817019501}]
[352,{"$f":"IF('Base Data'!A362<>\"\",AVERAGE('Base Data'!A362:T362),\"\")","v":12.494649864647741}]
[353,{"$f":"IF('Base Data'!A363<>\"\",AVERAGE('Base Data'!A363:T363),\"\")","v":10.759601405298843}]
[354,{"$f":"IF('Base Data'!A364<>\"\",AVERAGE('Base Data'!A364:T364),\"\")","v":11.946110419987555}]
[355,{"$f":"IF('Base Data'!A365<>\"\",AVERAGE('Base Data'!A365:T365),\"\")","v":10.462483109016707}]
[356,{"$f":"IF('Base Data'!A366<>\"\",AVERAGE('Base Data'!A366:T366),\"\")","v":12.802381209478373}]
[357,{"$f":"IF('Base Data'!A367<>\"\",AVERAGE('Base Data'!A367:T367),\"\")","v":10.077190270362916}]
[358,{"$f":"IF('Base Data'!A368<>\"\",AVERAGE('Base Data'!A368:T368),\"\")","v":11.762626531850088}]
[359,{"$f":"IF('Base Data'!A369<>\"\",AVERAGE('Base Data'!A369:T369),\"\")","v":11.26569627951266}]
[360,{"$f":"IF('Base Data'!A370<>\"\",AVERAGE('Base Data'!A370:T370),\"\")","v":11.983945132825726}]
[361,{"$f":"IF('Base Data'!A371<>\"\",AVERAGE('Base Data'!A371:T371),\"\")","v":10.677046826822451}]
[362,{"$f":"IF('Base Data'!A372<>\"\",AVERAGE('Base Data'!A372:T372),\"\")","v":12.404784681066312}]
[363,{"$f":"IF('Base Data'!A373<>\"\",AVERAGE('Base Data'!A373:T373),\"\")","v":9.4007669425767606}]
[364,{"$f":"IF('Base Data'!A374<>\"\",AVERAGE('Base Data'!A374:T374),\"\")","v":11.770096211876497}]
[365,{"$f":"IF('Base Data'!A375<>\"\",AVERAGE('Base Data'!A375:T375),\"\")","v":10.063340787288492}]
[366,{"$f":"IF('Base Data'!A376<>\"\",AVERAGE('Base Data'!A376:T376),\"\")","v":11.363543025681352}]
[367,{"$f":"IF('Base Data'!A377<>\"\",AVERAGE('Base Data'!A377:T377),\"\")","v":10.113546508151638}]
[368,{"$f":"IF('Base Data'!A378<>\"\",AVERAGE('Base Data'!A378:T378),\"\")","v":12.401803953582116}]
[369,{"$f":"IF('Base Data'!A379<>\"\",AVERAGE('Base Data'!A379:T379),\"\")","v":10.73060780420391}]
[370,{"$f":"IF('Base Data'!A380<>\"\",AVERAGE('Base Data'!A380:T380),\"\")","v":11.896347945545402}]
[371,{"$f":"IF('Base Data'!A381<>\"\",AVERAGE('Base Data'!A381:T381),\"\")","v":10.622188261828516}]
[372,{"$f":"IF('Base Data'!A382<>\"\",AVERAGE('Base Data'!A382:T382),\"\")","v":11.931654978300662}]
[373,{"$f":"IF('Base Data'!A383<>\"\",AVERAGE('Base Data'!A383:T383),\"\")","v":10.767579098056256}]
[374,{"$f":"IF('Base Data'!A384<>\"\",AVERAGE('Base Data'!A384:T384),\"\")","v":11.298480882442531}]
[375,{"$f":"IF('Base Data'!A385<>\"\",AVERAGE('Base Data'!A385:T385),\"\")","v":11.290947228371243}]
[376,{"$f":"IF('Base Data'!A386<>\"\",AVERAGE('Base Data'!A386:T386),\"\")","v":11.642519416895203}]
[377,{"$f":"IF('Base Data'!A387<>\"\",AVERAGE('Base Data'!A387:T387),\"\")","v":10.747143081133379}]
[378,{"$f":"IF('Base Data'!A388<>\"\",AVERAGE('Base Data'!A388:T388),\"\")","v":12.078213367041117}]
[379,{"$f":"IF('Base Data'!A389<>\"\",AVERAGE('Base Data'!A389:T389),\"\")","v":11.135811233474133}]
[380,{"$f":"IF('Base Data'!A390<>\"\",AVERAGE('Base Data'!A390:T390),\"\")","v":11.941900769847484}]
[381,{"$f":"IF('Base Data'!A391<>\"\",AVERAGE('Base Data'!A391:T391),\"\")","v":9.9218942559252543}]
[382,{"$f":"IF('Base Data'!A392<>\"\",AVERAGE('Base Data'!A392:T392),\"\")","v":12.184583479553275}]
[383,{"$f":"IF('Base Data'!A393<>\"\",AVERAGE('Base Data'!A393:T393),\"\")","v":9.7368784672646349}]
[384,{"$f":"IF('Base Data'!A394<>\"\",AVERAGE('Base Data'!A394:T394),\"\")","v":12.284755529344151}]
[385,{"$f":"IF('Base Data'!A395<>\"\",AVERAGE('Base Data'!A395:T395),\"\")","v":10.889034914492905}]
[386,{"$f":"IF('Base Data'!A396<>\"\",AVERAGE('Base Data'!A396:T396),\"\")","v":12.391456730015857}]
[387,{"$f":"IF('Base Data'!A397<>\"\",AVERAGE('Base Data'!A397:T397),\"\")","v":10.948189568841217}]
[388,{"$f":"IF('Base Data'!A398<>\"\",AVERAGE('Base Data'!A398:T398),\"\")","v":11.44465764614943}]
[389,{"$f":"IF('Base Data'!A399<>\"\",AVERAGE('Base Data'!A399:T399),\"\")","v":10.425912502437452}]
[390,{"$f":"IF('Base Data'!A400<>\"\",AVERAGE('Base Data'!A400:T400),\"\")","v":11.154249051624252}]
[391,{"$f":"IF('Base Data'!A401<>\"\",AVERAGE('Base Data'!A401:T401),\"\")","v":11.062727590124956}]
[392,{"$f":"IF('Base Data'!A402<>\"\",AVERAGE('Base Data'!A402:T402),\"\")","v":10.916191333040578}]
[393,{"$f":"IF('Base Data'!A403<>\"\",AVERAGE('Base Data'!A403:T403),\"\")","v":11.113374671004509}]
[394,{"$f":"IF('Base Data'!A404<>\"\",AVERAGE('Base Data'!A404:T404),\"\")","v":11.774829321394954}]
[395,{"$f":"IF('Base Data'!A405<>\"\",AVERAGE('Base Data'!A405:T405),\"\")","v":11.619725525990095}]
[396,{"$f":"IF('Base Data'!A406<>\"\",AVERAGE('Base Data'!A406:T406),\"\")","v":11.640513668426365}]
[397,{"$f":"IF('Base Data'!A407<>\"\",AVERAGE('Base Data'!A407:T407),\"\")","v":11.683780457951105}]
[398,{"$f":"IF('Base Data'!A408<>\"\",AVERAGE('Base Data'!A408:T408),\"\")","v":12.220062067773956}]
[399,{"$f":"IF('Base Data'!A409<>\"\",AVERAGE('Base Data'!A409:T409),\"\")","v":10.835521297435989}]
[400,{"$f":"IF('Base Data'!A410<>\"\",AVERAGE('Base Data'!A410:T410),\"\")","v":11.677756940461414}]
[401,{"$f":"IF('Base Data'!A411<>\"\",AVERAGE('Base Data'!A411:T411),\"\")","v":11.109726570040166}]
[402,{"$f":"IF('Base Data'!A412<>\"\",AVERAGE('Base Data'!A412:T412),\"\")","v":11.417240521185533}]
[403,{"$f":"IF('Base Data'!A413<>\"\",AVERAGE('Base Data'!A413:T413),\"\")","v":11.417616650748309}]
[404,{"$f":"IF('Base Data'!A414<>\"\",AVERAGE('Base Data'!A414:T414),\"\")","v":11.869542288420664}]
[405,{"$f":"IF('Base Data'!A415<>\"\",AVERAGE('Base Data'!A415:T415),\"\")","v":11.136997040518953}]
[406,{"$f":"IF('Base Data'!A416<>\"\",AVERAGE('Base Data'!A416:T416),\"\")","v":11.299581285769566}]
[407,{"$f":"IF('Base Data'!A417<>\"\",AVERAGE('Base Data'!A417:T417),\"\")","v":11.570277647375637}]
[408,{"$f":"IF('Base Data'!A418<>\"\",AVERAGE('Base Data'!A418:T418),\"\")","v":10.615334258363054}]
[409,{"$f":"IF('Base Data'!A419<>\"\",AVERAGE('Base Data'!A419:T419),\"\")","v":11.684541602672459}]
[410,{"$f":"IF('Base Data'!A420<>\"\",AVERAGE('Base Data'!A420:T420),\"\")","v":10.75096955684759}]
[411,{"$f":"IF('Base Data'!A421<>\"\",AVERAGE('Base Data'!A421:T421),\"\")","v":12.299692761678406}]
[412,{"$f":"IF('Base Data'!A422<>\"\",AVERAGE('Base Data'!A422:T422),\"\")","v":10.985202562804961}]
[413,{"$f":"IF('Base Data'!A423<>\"\",AVERAGE('Base Data'!A423:T423),\"\")","v":11.242842239165762}]
[414,{"$f":"IF('Base Data'!A424<>\"\",AVERAGE('Base Data'!A424:T424),\"\")","v":11.586432893951187}]
[415,{"$f":"IF('Base Data'!A425<>\"\",AVERAGE('Base Data'!A425:T425),\"\")","v":11.35175899573008}]
[416,{"$f":"IF('Base Data'!A426<>\"\",AVERAGE('Base Data'!A426:T426),\"\")","v":11.897629466435239}]
[417,{"$f":"IF('Base Data'!A427<>\"\",AVERAGE('Base Data'!A427:T427),\"\")","v":11.534856205442383}]
[418,{"$f":"IF('Base Data'!A428<>\"\",AVERAGE('Base Data'!A428:T428),\"\")","v":11.51059087161449}]
[419,{"$f":"IF('Base Data'!A429<>\"\",AVERAGE('Base Data'!A429:T429),\"\")","v":10.446397012055224}]
[420,{"$f":"IF('Base Data'!A430<>\"\",AVERAGE('Base Data'!A430:T430),\"\")","v":12.04746612852494}]
[421,{"$f":"IF('Base Data'!A431<>\"\",AVERAGE('Base Data'!A431:T431),\"\")","v":10.22109439519468}]
[422,{"$f":"IF('Base Data'!A432<>\"\",AVERAGE('Base Data'!A432:T432),\"\")","v":11.537638155763984}]
[423,{"$f":"IF('Base Data'!A433<>\"\",AVERAGE('Base Data'!A433:T433),\"\")","v":11.315849982225499}]
[424,{"$f":"IF('Base Data'!A434<>\"\",AVERAGE('Base Data'!A434:T434),\"\")","v":11.707558643058812}]
[425,{"$f":"IF('Base Data'!A435<>\"\",AVERAGE('Base Data'!A435:T435),\"\")","v":11.00182159443187}]
[426,{"$f":"IF('Base Data'!A436<>\"\",AVERAGE('Base Data'!A436:T436),\"\")","v":11.833929888201187}]
[427,{"$f":"IF('Base Data'!A437<>\"\",AVERAGE('Base Data'!A437:T437),\"\")","v":10.39570542918344}]
[428,{"$f":"IF('Base Data'!A438<>\"\",AVERAGE('Base Data'!A438:T438),\"\")","v":11.854596813083688}]
[429,{"$f":"IF('Base Data'!A439<>\"\",AVERAGE('Base Data'!A439:T439),\"\")","v":11.091911228753997}]
[430,{"$f":"IF('Base Data'!A440<>\"\",AVERAGE('Base Data'!A440:T440),\"\")","v":11.678677037852335}]
[431,{"$f":"IF('Base Data'!A441<>\"\",AVERAGE('Base Data'!A441:T441),\"\")","v":10.894473414127395}]
[432,{"$f":"IF('Base Data'!A442<>\"\",AVERAGE('Base Data'!A442:T442),\"\")","v":11.109455639489955}]
[433,{"$f":"IF('Base Data'!A443<>\"\",AVERAGE('Base Data'!A443:T443),\"\")","v":11.455893704358601}]
[434,{"$f":"IF('Base Data'!A444<>\"\",AVERAGE('Base Data'!A444:T444),\"\")","v":11.596929348515827}]
[435,{"$f":"IF('Base Data'!A445<>\"\",AVERAGE('Base Data'!A445:T445),\"\")","v":11.228009636685552}]
[436,{"$f":"IF('Base Data'!A446<>\"\",AVERAGE('Base Data'!A446:T446),\"\")","v":11.705134371085624}]
[437,{"$f":"IF('Base Data'!A447<>\"\",AVERAGE('Base Data'!A447:T447),\"\")","v":10.808254181666715}]
[438,{"$f":"IF('Base Data'!A448<>\"\",AVERAGE('Base Data'!A448:T448),\"\")","v":11.720811865847008}]
[439,{"$f":"IF('Base Data'!A449<>\"\",AVERAGE('Base Data'!A449:T449),\"\")","v":10.110493713925797}]
[440,{"$f":"IF('Base Data'!A450<>\"\",AVERAGE('Base Data'!A450:T450),\"\")","v":12.492637759844316}]
[441,{"$f":"IF('Base Data'!A451<>\"\",AVERAGE('Base Data'!A451:T451),\"\")","v":10.664609004684346}]
[442,{"$f":"IF('Base Data'!A452<>\"\",AVERAGE('Base Data'!A452:T452),\"\")","v":11.811070864887004}]
[443,{"$f":"IF('Base Data'!A453<>\"\",AVERAGE('Base Data'!A453:T453),\"\")","v":10.835703738227332}]
[444,{"$f":"IF('Base Data'!A454<>\"\",AVERAGE('Base Data'!A454:T454),\"\")","v":12.025192556716284}]
[445,{"$f":"IF('Base Data'!A455<>\"\",AVERAGE('Base Data'!A455:T455),\"\")","v":10.862365126026409}]
[446,{"$f":"IF('Base Data'!A456<>\"\",AVERAGE('Base Data'!A456:T456),\"\")","v":11.969505245889724}]
[447,{"$f":"IF('Base Data'!A457<>\"\",AVERAGE('Base Data'!A457:T457),\"\")","v":10.213760936682533}]
[448,{"$f":"IF('Base Data'!A458<>\"\",AVERAGE('Base Data'!A458:T458),\"\")","v":13.394261485586878}]
[449,{"$f":"IF('Base Data'!A459<>\"\",AVERAGE('Base Data'!A459:T459),\"\")","v":10.844323278172581}]
[450,{"$f":"IF('Base Data'!A460<>\"\",AVERAGE('Base Data'!A460:T460),\"\")","v":12.367171516948478}]
[451,{"$f":"IF('Base Data'!A461<>\"\",AVERAGE('Base Data'!A461:T461),\"\")","v":10.748624560139699}]
[452,{"$f":"IF('Base Data'!A462<>\"\",AVERAGE('Base Data'!A462:T462),\"\")","v":12.33559108480361}]
[453,{"$f":"IF('Base Data'!A463<>\"\",AVERAGE('Base Data'!A463:T463),\"\")","v":10.644483724996501}]
[454,{"$f":"IF('Base Data'!A464<>\"\",AVERAGE('Base Data'!A464:T464),\"\")","v":11.525395563907841}]
[455,{"$f":"IF('Base Data'!A465<>\"\",AVERAGE('Base Data'!A465:T465),\"\")","v":9.9525052647503305}]
[456,{"$f":"IF('Base Data'!A466<>\"\",AVERAGE('Base Data'!A466:T466),\"\")","v":11.726069356898382}]
[457,{"$f":"IF('Base Data'!A467<>\"\",AVERAGE('Base Data'!A467:T467),\"\")","v":10.766851282248888}]
[458,{"$f":"IF('Base Data'!A468<>\"\",AVERAGE('Base Data'!A468:T468),\"\")","v":11.34491836085299}]
[459,{"$f":"IF('Base Data'!A469<>\"\",AVERAGE('Base Data'!A469:T469),\"\")","v":11.464370006237843}]
[460,{"$f":"IF('Base Data'!A470<>\"\",AVERAGE('Base Data'!A470:T470),\"\")","v":11.293291671683628}]
[461,{"$f":"IF('Base Data'!A471<>\"\",AVERAGE('Base Data'!A471:T471),\"\")","v":11.623965980431015}]
[462,{"$f":"IF('Base Data'!A472<>\"\",AVERAGE('Base Data'!A472:T472),\"\")","v":11.712132069587536}]
[463,{"$f":"IF('Base Data'!A473<>\"\",AVERAGE('Base Data'!A473:T473),\"\")","v":11.185911722032918}]
[464,{"$f":"IF('Base Data'!A474<>\"\",AVERAGE('Base Data'!A474:T474),\"\")","v":11.219718299150028}]
[465,{"$f":"IF('Base Data'!A475<>\"\",AVERAGE('Base Data'!A475:T475),\"\")","v":11.164926525043764}]
[466,{"$f":"IF('Base Data'!A476<>\"\",AVERAGE('Base Data'!A476:T476),\"\")","v":12.112918183160156}]
[467,{"$f":"IF('Base Data'!A477<>\"\",AVERAGE('Base Data'!A477:T477),\"\")","v":11.355295928417201}]
[468,{"$f":"IF('Base Data'!A478<>\"\",AVERAGE('Base Data'!A478:T478),\"\")","v":10.906362606403453}]
[469,{"$f":"IF('Base Data'!A479<>\"\",AVERAGE('Base Data'!A479:T479),\"\")","v":11.640162946349459}]
[470,{"$f":"IF('Base Data'!A480<>\"\",AVERAGE('Base Data'!A480:T480),\"\")","v":11.182974437353828}]
[471,{"$f":"IF('Base Data'!A481<>\"\",AVERAGE('Base Data'!A481:T481),\"\")","v":12.226193473454947}]
[472,{"$f":"IF('Base Data'!A482<>\"\",AVERAGE('Base Data'!A482:T482),\"\")","v":11.24222632848995}]
[473,{"$f":"IF('Base Data'!A483<>\"\",AVERAGE('Base Data'!A483:T483),\"\")","v":12.272441305171144}]
[474,{"$f":"IF('Base Data'!A484<>\"\",AVERAGE('Base Data'!A484:T484),\"\")","v":10.222225173454223}]
[475,{"$f":"IF('Base Data'!A485<>\"\",AVERAGE('Base Data'!A485:T485),\"\")","v":11.9144009387593}]
[476,{"$f":"IF('Base Data'!A486<>\"\",AVERAGE('Base Data'!A486:T486),\"\")","v":10.560764113646259}]
[477,{"$f":"IF('Base Data'!A487<>\"\",AVERAGE('Base Data'!A487:T487),\"\")","v":11.932003967483215}]
[478,{"$f":"IF('Base Data'!A488<>\"\",AVERAGE('Base Data'!A488:T488),\"\")","v":10.365402191381099}]
[479,{"$f":"IF('Base Data'!A489<>\"\",AVERAGE('Base Data'!A489:T489),\"\")","v":12.569594412151678}]
[480,{"$f":"IF('Base Data'!A490<>\"\",AVERAGE('Base Data'!A490:T490),\"\")","v":10.845823346388576}]
[481,{"$f":"IF('Base Data'!A491<>\"\",AVERAGE('Base Data'!A491:T491),\"\")","v":11.615503443529715}]
[482,{"$f":"IF('Base Data'!A492<>\"\",AVERAGE('Base Data'!A492:T492),\"\")","v":11.064601922646814}]
[483,{"$f":"IF('Base Data'!A493<>\"\",AVERAGE('Base Data'!A493:T493),\"\")","v":11.566334480902871}]
[484,{"$f":"IF('Base Data'!A494<>\"\",AVERAGE('Base Data'!A494:T494),\"\")","v":11.582197480125592}]
[485,{"$f":"IF('Base Data'!A495<>\"\",AVERAGE('Base Data'!A495:T495),\"\")","v":11.675767817716254}]
[486,{"$f":"IF('Base Data'!A496<>\"\",AVERAGE('Base Data'!A496:T496),\"\")","v":10.844656617532399}]
[487,{"$f":"IF('Base Data'!A497<>\"\",AVERAGE('Base Data'!A497:T497),\"\")","v":11.365489838177217}]
[488,{"$f":"IF('Base Data'!A498<>\"\",AVERAGE('Base Data'!A498:T498),\"\")","v":11.561785773156789}]
[489,{"$f":"IF('Base Data'!A499<>\"\",AVERAGE('Base Data'!A499:T499),\"\")","v":11.672694654920814}]
[490,{"$f":"IF('Base Data'!A500<>\"\",AVERAGE('Base Data'!A500:T500),\"\")","v":11.185102743936806}]
[491,{"$f":"IF('Base Data'!A501<>\"\",AVERAGE('Base Data'!A501:T501),\"\")","v":11.43598679924677}]
[492,{"$f":"IF('Base Data'!A502<>\"\",AVERAGE('Base Data'!A502:T502),\"\")","v":11.337371400672883}]
[493,{"$f":"IF('Base Data'!A503<>\"\",AVERAGE('Base Data'!A503:T503),\"\")","v":10.587573149162584}]
[494,{"$f":"IF('Base Data'!A504<>\"\",AVERAGE('Base Data'!A504:T504),\"\")","v":11.337402709314144}]
[495,{"$f":"IF('Base Data'!A505<>\"\",AVERAGE('Base Data'!A505:T505),\"\")","v":10.728055745505092}]
[496,{"$f":"IF('Base Data'!A506<>\"\",AVERAGE('Base Data'!A506:T506),\"\")","v":11.641913906827307}]
[497,{"$f":"IF('Base Data'!A507<>\"\",AVERAGE('Base Data'!A507:T507),\"\")","v":11.154583142488018}]
[498,{"$f":"IF('Base Data'!A508<>\"\",AVERAGE('Base Data'!A508:T508),\"\")","v":10.93802132536948}]
[499,{"$f":"IF('Base Data'!A509<>\"\",AVERAGE('Base Data'!A509:T509),\"\")","v":10.694190577536366}]
[500,{"$f":"IF('Base Data'!A510<>\"\",AVERAGE('Base Data'!A510:T510),\"\")","v":11.165864350382481}]
[501,{"$f":"IF('Base Data'!A511<>\"\",AVERAGE('Base Data'!A511:T511),\"\")","v":11.660098252278981}]
[502,{"$f":"IF('Base Data'!A512<>\"\",AVERAGE('Base Data'!A512:T512),\"\")","v":11.215065799674111}]
[503,{"$f":"IF('Base Data'!A513<>\"\",AVERAGE('Base Data'!A513:T513),\"\")","v":11.713602440735684}]
[504,{"$f":"IF('Base Data'!A514<>\"\",AVERAGE('Base Data'!A514:T514),\"\")","v":11.613422994253963}]
[505,{"$f":"IF('Base Data'!A515<>\"\",AVERAGE('Base Data'!A515:T515),\"\")","v":11.593213502880934}]
[506,{"$f":"IF('Base Data'!A516<>\"\",AVERAGE('Base Data'!A516:T516),\"\")","v":11.267726824549992}]
[507,{"$f":"IF('Base Data'!A517<>\"\",AVERAGE('Base Data'!A517:T517),\"\")","v":11.484344833487873}]
[508,{"$f":"IF('Base Data'!A518<>\"\",AVERAGE('Base Data'!A518:T518),\"\")","v":10.948883640460988}]
[509,{"$f":"IF('Base Data'!A519<>\"\",AVERAGE('Base Data'!A519:T519),\"\")","v":12.172323481537644}]
[510,{"$f":"IF('Base Data'!A520<>\"\",AVERAGE('Base Data'!A520:T520),\"\")","v":11.611282571332483}]
[511,{"$f":"IF('Base Data'!A521<>\"\",AVERAGE('Base Data'!A521:T521),\"\")","v":11.480626666814796}]
[512,{"$f":"IF('Base Data'!A522<>\"\",AVERAGE('Base Data'!A522:T522),\"\")","v":11.82927530208288}]
[513,{"$f":"IF('Base Data'!A523<>\"\",AVERAGE('Base Data'!A523:T523),\"\")","v":11.278761507911486}]
[514,{"$f":"IF('Base Data'!A524<>\"\",AVERAGE('Base Data'!A524:T524),\"\")","v":11.692543204562938}]
[515,{"$f":"IF('Base Data'!A525<>\"\",AVERAGE('Base Data'!A525:T525),\"\")","v":11.470572078113268}]
[516,{"$f":"IF('Base Data'!A526<>\"\",AVERAGE('Base Data'!A526:T526),\"\")","v":11.898716067260242}]
[517,{"$f":"IF('Base Data'!A527<>\"\",AVERAGE('Base Data'!A527:T527),\"\")","v":11.533873668614946}]
[518,{"$f":"IF('Base Data'!A528<>\"\",AVERAGE('Base Data'!A528:T528),\"\")","v":11.346823738569986}]
[519,{"$f":"IF('Base Data'!A529<>\"\",AVERAGE('Base Data'!A529:T529),\"\")","v":11.424145262722643}]
[520,{"$f":"IF('Base Data'!A530<>\"\",AVERAGE('Base Data'!A530:T530),\"\")","v":11.701065521832158}]
[521,{"$f":"IF('Base Data'!A531<>\"\",AVERAGE('Base Data'!A531:T531),\"\")","v":11.428904083345552}]
[522,{"$f":"IF('Base Data'!A532<>\"\",AVERAGE('Base Data'!A532:T532),\"\")","v":11.269723315615902}]
[523,{"$f":"IF('Base Data'!A533<>\"\",AVERAGE('Base Data'!A533:T533),\"\")","v":11.334231072382845}]
[524,{"$f":"IF('Base Data'!A534<>\"\",AVERAGE('Base Data'!A534:T534),\"\")","v":11.72933960450813}]
[525,{"$f":"IF('Base Data'!A535<>\"\",AVERAGE('Base Data'!A535:T535),\"\")","v":11.847191579115457}]
[526,{"$f":"IF('Base Data'!A536<>\"\",AVERAGE('Base Data'!A536:T536),\"\")","v":11.507758414416369}]
[527,{"$f":"IF('Base Data'!A537<>\"\",AVERAGE('Base Data'!A537:T537),\"\")","v":12.601734192099485}]
[528,{"$f":"IF('Base Data'!A538<>\"\",AVERAGE('Base Data'!A538:T538),\"\")","v":11.512108341274006}]
[529,{"$f":"IF('Base Data'!A539<>\"\",AVERAGE('Base Data'!A539:T539),\"\")","v":12.068364739876845}]
[530,{"$f":"IF('Base Data'!A540<>\"\",AVERAGE('Base Data'!A540:T540),\"\")","v":11.035573123988828}]
[531,{"$f":"IF('Base Data'!A541<>\"\",AVERAGE('Base Data'!A541:T541),\"\")","v":11.008651846104934}]
[532,{"$f":"IF('Base Data'!A542<>\"\",AVERAGE('Base Data'!A542:T542),\"\")","v":11.377864445098485}]
[533,{"$f":"IF('Base Data'!A543<>\"\",AVERAGE('Base Data'!A543:T543),\"\")","v":11.881026526817204}]
[534,{"$f":"IF('Base Data'!A544<>\"\",AVERAGE('Base Data'!A544:T544),\"\")","v":12.255482505388834}]
[535,{"$f":"IF('Base Data'!A545<>\"\",AVERAGE('Base Data'!A545:T545),\"\")","v":11.282562496193846}]
[536,{"$f":"IF('Base Data'!A546<>\"\",AVERAGE('Base Data'!A546:T546),\"\")","v":11.365199249305252}]
[537,{"$f":"IF('Base Data'!A547<>\"\",AVERAGE('Base Data'!A547:T547),\"\")","v":11.154370434645193}]
[538,{"$f":"IF('Base Data'!A548<>\"\",AVERAGE('Base Data'!A548:T548),\"\")","v":11.577088160894302}]
[539,{"$f":"IF('Base Data'!A549<>\"\",AVERAGE('Base Data'!A549:T549),\"\")","v":11.490688445210264}]
[540,{"$f":"IF('Base Data'!A550<>\"\",AVERAGE('Base Data'!A550:T550),\"\")","v":10.74647222238743}]
[541,{"$f":"IF('Base Data'!A551<>\"\",AVERAGE('Base Data'!A551:T551),\"\")","v":11.340372437552634}]
[542,{"$f":"IF('Base Data'!A552<>\"\",AVERAGE('Base Data'!A552:T552),\"\")","v":11.120558214061976}]
[543,{"$f":"IF('Base Data'!A553<>\"\",AVERAGE('Base Data'!A553:T553),\"\")","v":11.689668522386693}]
[544,{"$f":"IF('Base Data'!A554<>\"\",AVERAGE('Base Data'!A554:T554),\"\")","v":11.146275074873369}]
[545,{"$f":"IF('Base Data'!A555<>\"\",AVERAGE('Base Data'!A555:T555),\"\")","v":12.07823709177055}]
[546,{"$f":"IF('Base Data'!A556<>\"\",AVERAGE('Base Data'!A556:T556),\"\")","v":10.846793540975051}]
[547,{"$f":"IF('Base Data'!A557<>\"\",AVERAGE('Base Data'!A557:T557),\"\")","v":11.460336048720322}]
[548,{"$f":"IF('Base Data'!A558<>\"\",AVERAGE('Base Data'!A558:T558),\"\")","v":10.37830601306435}]
[549,{"$f":"IF('Base Data'!A559<>\"\",AVERAGE('Base Data'!A559:T559),\"\")","v":12.095051966028946}]
[550,{"$f":"IF('Base Data'!A560<>\"\",AVERAGE('Base Data'!A560:T560),\"\")","v":10.348955025713796}]
[551,{"$f":"IF('Base Data'!A561<>\"\",AVERAGE('Base Data'!A561:T561),\"\")","v":13.126414425523203}]
[552,{"$f":"IF('Base Data'!A562<>\"\",AVERAGE('Base Data'!A562:T562),\"\")","v":10.230304319565983}]
[553,{"$f":"IF('Base Data'!A563<>\"\",AVERAGE('Base Data'!A563:T563),\"\")","v":12.499246835833409}]
[554,{"$f":"IF('Base Data'!A564<>\"\",AVERAGE('Base Data'!A564:T564),\"\")","v":9.7325319836245203}]
[555,{"$f":"IF('Base Data'!A565<>\"\",AVERAGE('Base Data'!A565:T565),\"\")","v":12.0545598376717}]
[556,{"$f":"IF('Base Data'!A566<>\"\",AVERAGE('Base Data'!A566:T566),\"\")","v":10.347685606468408}]
[557,{"$f":"IF('Base Data'!A567<>\"\",AVERAGE('Base Data'!A567:T567),\"\")","v":11.805467439794855}]
[558,{"$f":"IF('Base Data'!A568<>\"\",AVERAGE('Base Data'!A568:T568),\"\")","v":10.767144720038182}]
[559,{"$f":"IF('Base Data'!A569<>\"\",AVERAGE('Base Data'!A569:T569),\"\")","v":11.173373503178714}]
[560,{"$f":"IF('Base Data'!A570<>\"\",AVERAGE('Base Data'!A570:T570),\"\")","v":10.92614247585654}]
[561,{"$f":"IF('Base Data'!A571<>\"\",AVERAGE('Base Data'!A571:T571),\"\")","v":11.263153515969947}]
[562,{"$f":"IF('Base Data'!A572<>\"\",AVERAGE('Base Data'!A572:T572),\"\")","v":11.028144494275629}]
[563,{"$f":"IF('Base Data'!A573<>\"\",AVERAGE('Base Data'!A573:T573),\"\")","v":11.738197547016313}]
[564,{"$f":"IF('Base Data'!A574<>\"\",AVERAGE('Base Data'!A574:T574),\"\")","v":11.616900838669695}]
[565,{"$f":"IF('Base Data'!A575<>\"\",AVERAGE('Base Data'!A575:T575),\"\")","v":11.960140858394473}]
[566,{"$f":"IF('Base Data'!A576<>\"\",AVERAGE('Base Data'!A576:T576),\"\")","v":11.657543874053044}]
[567,{"$f":"IF('Base Data'!A577<>\"\",AVERAGE('Base Data'!A577:T577),\"\")","v":10.231345913686875}]
[568,{"$f":"IF('Base Data'!A578<>\"\",AVERAGE('Base Data'!A578:T578),\"\")","v":11.548274279527021}]
[569,{"$f":"IF('Base Data'!A579<>\"\",AVERAGE('Base Data'!A579:T579),\"\")","v":11.176028387269627}]
[570,{"$f":"IF('Base Data'!A580<>\"\",AVERAGE('Base Data'!A580:T580),\"\")","v":11.565638554003758}]
[571,{"$f":"IF('Base Data'!A581<>\"\",AVERAGE('Base Data'!A581:T581),\"\")","v":10.728276734485899}]
[572,{"$f":"IF('Base Data'!A582<>\"\",AVERAGE('Base Data'!A582:T582),\"\")","v":11.24884566424776}]
[573,{"$f":"IF('Base Data'!A583<>\"\",AVERAGE('Base Data'!A583:T583),\"\")","v":11.600160732962951}]
[574,{"$f":"IF('Base Data'!A584<>\"\",AVERAGE('Base Data'!A584:T584),\"\")","v":11.206190659968618}]
[575,{"$f":"IF('Base Data'!A585<>\"\",AVERAGE('Base Data'!A585:T585),\"\")","v":11.408009699189789}]
[576,{"$f":"IF('Base Data'!A586<>\"\",AVERAGE('Base Data'!A586:T586),\"\")","v":11.101882966860568}]
[577,{"$f":"IF('Base Data'!A587<>\"\",AVERAGE('Base Data'!A587:T587),\"\")","v":10.966757421419299}]
[578,{"$f":"IF('Base Data'!A588<>\"\",AVERAGE('Base Data'!A588:T588),\"\")","v":11.96728309684956}]
[579,{"$f":"IF('Base Data'!A589<>\"\",AVERAGE('Base Data'!A589:T589),\"\")","v":11.155644062656018}]
[580,{"$f":"IF('Base Data'!A590<>\"\",AVERAGE('Base Data'!A590:T590),\"\")","v":11.929507826388861}]
[581,{"$f":"IF('Base Data'!A591<>\"\",AVERAGE('Base Data'!A591:T591),\"\")","v":11.226976729437576}]
[582,{"$f":"IF('Base Data'!A592<>\"\",AVERAGE('Base Data'!A592:T592),\"\")","v":11.301693993957548}]
[583,{"$f":"IF('Base Data'!A593<>\"\",AVERAGE('Base Data'!A593:T593),\"\")","v":12.196076793666824}]
[584,{"$f":"IF('Base Data'!A594<>\"\",AVERAGE('Base Data'!A594:T594),\"\")","v":11.13514989141302}]
[585,{"$f":"IF('Base Data'!A595<>\"\",AVERAGE('Base Data'!A595:T595),\"\")","v":12.256300443228504}]
[586,{"$f":"IF('Base Data'!A596<>\"\",AVERAGE('Base Data'!A596:T596),\"\")","v":10.775079682208897}]
[587,{"$f":"IF('Base Data'!A597<>\"\",AVERAGE('Base Data'!A597:T597),\"\")","v":12.338193291650688}]
[588,{"$f":"IF('Base Data'!A598<>\"\",AVERAGE('Base Data'!A598:T598),\"\")","v":11.539118529101382}]
[589,{"$f":"IF('Base Data'!A599<>\"\",AVERAGE('Base Data'!A599:T599),\"\")","v":12.343954581844528}]
[590,{"$f":"IF('Base Data'!A600<>\"\",AVERAGE('Base Data'!A600:T600),\"\")","v":10.729886391313723}]
[591,{"$f":"IF('Base Data'!A601<>\"\",AVERAGE('Base Data'!A601:T601),\"\")","v":12.496524044754484}]
[592,{"$f":"IF('Base Data'!A602<>\"\",AVERAGE('Base Data'!A602:T602),\"\")","v":10.553847335783727}]
[593,{"$f":"IF('Base Data'!A603<>\"\",AVERAGE('Base Data'!A603:T603),\"\")","v":11.089953663288275}]
[594,{"$f":"IF('Base Data'!A604<>\"\",AVERAGE('Base Data'!A604:T604),\"\")","v":10.914522982676948}]
[595,{"$f":"IF('Base Data'!A605<>\"\",AVERAGE('Base Data'!A605:T605),\"\")","v":10.80820594351678}]
[596,{"$f":"IF('Base Data'!A606<>\"\",AVERAGE('Base Data'!A606:T606),\"\")","v":10.602397270637422}]
[597,{"$f":"IF('Base Data'!A607<>\"\",AVERAGE('Base Data'!A607:T607),\"\")","v":11.04322464453632}]
[598,{"$f":"IF('Base Data'!A608<>\"\",AVERAGE('Base Data'!A608:T608),\"\")","v":10.441102900167303}]
[599,{"$f":"IF('Base Data'!A609<>\"\",AVERAGE('Base Data'!A609:T609),\"\")","v":11.452694333350207}]
[600,{"$f":"IF('Base Data'!A610<>\"\",AVERAGE('Base Data'!A610:T610),\"\")","v":9.953031366909439}]
[601,{"$f":"IF('Base Data'!A611<>\"\",AVERAGE('Base Data'!A611:T611),\"\")","v":11.680289798792348}]
[602,{"$f":"IF('Base Data'!A612<>\"\",AVERAGE('Base Data'!A612:T612),\"\")","v":10.680847218437611}]
[603,{"$f":"IF('Base Data'!A613<>\"\",AVERAGE('Base Data'!A613:T613),\"\")","v":11.547636770865582}]
[604,{"$f":"IF('Base Data'!A614<>\"\",AVERAGE('Base Data'!A614:T614),\"\")","v":10.826217683611057}]
[605,{"$f":"IF('Base Data'!A615<>\"\",AVERAGE('Base Data'!A615:T615),\"\")","v":11.869327229245206}]
[606,{"$f":"IF('Base Data'!A616<>\"\",AVERAGE('Base Data'!A616:T616),\"\")","v":11.038564996290944}]
[607,{"$f":"IF('Base Data'!A617<>\"\",AVERAGE('Base Data'!A617:T617),\"\")","v":12.265678300851963}]
[608,{"$f":"IF('Base Data'!A618<>\"\",AVERAGE('Base Data'!A618:T618),\"\")","v":10.805589614920265}]
[609,{"$f":"IF('Base Data'!A619<>\"\",AVERAGE('Base Data'!A619:T619),\"\")","v":12.793954296764223}]
[610,{"$f":"IF('Base Data'!A620<>\"\",AVERAGE('Base Data'!A620:T620),\"\")","v":10.403604707681241}]
[611,{"$f":"IF('Base Data'!A621<>\"\",AVERAGE('Base Data'!A621:T621),\"\")","v":12.770931148729867}]
[612,{"$f":"IF('Base Data'!A622<>\"\",AVERAGE('Base Data'!A622:T622),\"\")","v":9.9893656423589565}]
[613,{"$f":"IF('Base Data'!A623<>\"\",AVERAGE('Base Data'!A623:T623),\"\")","v":12.878182599120365}]
[614,{"$f":"IF('Base Data'!A624<>\"\",AVERAGE('Base Data'!A624:T624),\"\")","v":10.433257019176589}]
[615,{"$f":"IF('Base Data'!A625<>\"\",AVERAGE('Base Data'!A625:T625),\"\")","v":12.151943099639738}]
[616,{"$f":"IF('Base Data'!A626<>\"\",AVERAGE('Base Data'!A626:T626),\"\")","v":10.773177609829514}]
[617,{"$f":"IF('Base Data'!A627<>\"\",AVERAGE('Base Data'!A627:T627),\"\")","v":11.466422306276531}]
[618,{"$f":"IF('Base Data'!A628<>\"\",AVERAGE('Base Data'!A628:T628),\"\")","v":11.178314326211012}]
[619,{"$f":"IF('Base Data'!A629<>\"\",AVERAGE('Base Data'!A629:T629),\"\")","v":11.827907763852147}]
[620,{"$f":"IF('Base Data'!A630<>\"\",AVERAGE('Base Data'!A630:T630),\"\")","v":11.043320837101065}]
[621,{"$f":"IF('Base Data'!A631<>\"\",AVERAGE('Base Data'!A631:T631),\"\")","v":12.065480236137031}]
[622,{"$f":"IF('Base Data'!A632<>\"\",AVERAGE('Base Data'!A632:T632),\"\")","v":11.573709926065625}]
[623,{"$f":"IF('Base Data'!A633<>\"\",AVERAGE('Base Data'!A633:T633),\"\")","v":11.454078289254618}]
[624,{"$f":"IF('Base Data'!A634<>\"\",AVERAGE('Base Data'!A634:T634),\"\")","v":11.761648968104328}]
[625,{"$f":"IF('Base Data'!A635<>\"\",AVERAGE('Base Data'!A635:T635),\"\")","v":11.446190269197725}]
[626,{"$f":"IF('Base Data'!A636<>\"\",AVERAGE('Base Data'!A636:T636),\"\")","v":11.666417710198163}]
[627,{"$f":"IF('Base Data'!A637<>\"\",AVERAGE('Base Data'!A637:T637),\"\")","v":11.285402087854171}]
[628,{"$f":"IF('Base Data'!A638<>\"\",AVERAGE('Base Data'!A638:T638),\"\")","v":11.440850980404935}]
[629,{"$f":"IF('Base Data'!A639<>\"\",AVERAGE('Base Data'!A639:T639),\"\")","v":11.71749874735654}]
[630,{"$f":"IF('Base Data'!A640<>\"\",AVERAGE('Base Data'!A640:T640),\"\")","v":10.5908887972271}]
[631,{"$f":"IF('Base Data'!A641<>\"\",AVERAGE('Base Data'!A641:T641),\"\")","v":12.456523453796647}]
[632,{"$f":"IF('Base Data'!A642<>\"\",AVERAGE('Base Data'!A642:T642),\"\")","v":10.618365160799332}]
[633,{"$f":"IF('Base Data'!A643<>\"\",AVERAGE('Base Data'!A643:T643),\"\")","v":12.905907872961473}]
[634,{"$f":"IF('Base Data'!A644<>\"\",AVERAGE('Base Data'!A644:T644),\"\")","v":10.824457548858888}]
[635,{"$f":"IF('Base Data'!A645<>\"\",AVERAGE('Base Data'!A645:T645),\"\")","v":12.55093188442034}]
[636,{"$f":"IF('Base Data'!A646<>\"\",AVERAGE('Base Data'!A646:T646),\"\")","v":10.509523732984032}]
[637,{"$f":"IF('Base Data'!A647<>\"\",AVERAGE('Base Data'!A647:T647),\"\")","v":12.255156174265133}]
[638,{"$f":"IF('Base Data'!A648<>\"\",AVERAGE('Base Data'!A648:T648),\"\")","v":10.398590243315631}]
[639,{"$f":"IF('Base Data'!A649<>\"\",AVERAGE('Base Data'!A649:T649),\"\")","v":11.665972253086679}]
[640,{"$f":"IF('Base Data'!A650<>\"\",AVERAGE('Base Data'!A650:T650),\"\")","v":10.81486979534753}]
[641,{"$f":"IF('Base Data'!A651<>\"\",AVERAGE('Base Data'!A651:T651),\"\")","v":11.933517545287458}]
[642,{"$f":"IF('Base Data'!A652<>\"\",AVERAGE('Base Data'!A652:T652),\"\")","v":12.354496304260906}]
[643,{"$f":"IF('Base Data'!A653<>\"\",AVERAGE('Base Data'!A653:T653),\"\")","v":11.65946716096308}]
[644,{"$f":"IF('Base Data'!A654<>\"\",AVERAGE('Base Data'!A654:T654),\"\")","v":11.967227355970603}]
[645,{"$f":"IF('Base Data'!A655<>\"\",AVERAGE('Base Data'!A655:T655),\"\")","v":11.44781277542396}]
[646,{"$f":"IF('Base Data'!A656<>\"\",AVERAGE('Base Data'!A656:T656),\"\")","v":11.526030748443166}]
[647,{"$f":"IF('Base Data'!A657<>\"\",AVERAGE('Base Data'!A657:T657),\"\")","v":11.950254079439176}]
[648,{"$f":"IF('Base Data'!A658<>\"\",AVERAGE('Base Data'!A658:T658),\"\")","v":11.680742439355615}]
[649,{"$f":"IF('Base Data'!A659<>\"\",AVERAGE('Base Data'!A659:T659),\"\")","v":10.977405151909998}]
[650,{"$f":"IF('Base Data'!A660<>\"\",AVERAGE('Base Data'!A660:T660),\"\")","v":11.983937459937426}]
[651,{"$f":"IF('Base Data'!A661<>\"\",AVERAGE('Base Data'!A661:T661),\"\")","v":10.715951143327718}]
[652,{"$f":"IF('Base Data'!A662<>\"\",AVERAGE('Base Data'!A662:T662),\"\")","v":12.984978705577115}]
[653,{"$f":"IF('Base Data'!A663<>\"\",AVERAGE('Base Data'!A663:T663),\"\")","v":11.018919602764303}]
[654,{"$f":"IF('Base Data'!A664<>\"\",AVERAGE('Base Data'!A664:T664),\"\")","v":11.721609738263632}]
[655,{"$f":"IF('Base Data'!A665<>\"\",AVERAGE('Base Data'!A665:T665),\"\")","v":10.926175296124782}]
[656,{"$f":"IF('Base Data'!A666<>\"\",AVERAGE('Base Data'!A666:T666),\"\")","v":11.748657048846482}]
[657,{"$f":"IF('Base Data'!A667<>\"\",AVERAGE('Base Data'!A667:T667),\"\")","v":10.625118649621607}]
[658,{"$f":"IF('Base Data'!A668<>\"\",AVERAGE('Base Data'!A668:T668),\"\")","v":11.338414893659149}]
[659,{"$f":"IF('Base Data'!A669<>\"\",AVERAGE('Base Data'!A669:T669),\"\")","v":11.122798410888738}]
[660,{"$f":"IF('Base Data'!A670<>\"\",AVERAGE('Base Data'!A670:T670),\"\")","v":11.512137512317324}]
[661,{"$f":"IF('Base Data'!A671<>\"\",AVERAGE('Base Data'!A671:T671),\"\")","v":11.251831351327263}]
[662,{"$f":"IF('Base Data'!A672<>\"\",AVERAGE('Base Data'!A672:T672),\"\")","v":11.329622145057682}]
[663,{"$f":"IF('Base Data'!A673<>\"\",AVERAGE('Base Data'!A673:T673),\"\")","v":11.10719273835773}]
[664,{"$f":"IF('Base Data'!A674<>\"\",AVERAGE('Base Data'!A674:T674),\"\")","v":10.354134988504617}]
[665,{"$f":"IF('Base Data'!A675<>\"\",AVERAGE('Base Data'!A675:T675),\"\")","v":11.883933219706577}]
[666,{"$f":"IF('Base Data'!A676<>\"\",AVERAGE('Base Data'!A676:T676),\"\")","v":9.9878134715764997}]
[667,{"$f":"IF('Base Data'!A677<>\"\",AVERAGE('Base Data'!A677:T677),\"\")","v":11.763051014454039}]
[668,{"$f":"IF('Base Data'!A678<>\"\",AVERAGE('Base Data'!A678:T678),\"\")","v":11.012269018697062}]
[669,{"$f":"IF('Base Data'!A679<>\"\",AVERAGE('Base Data'!A679:T679),\"\")","v":10.974818533667136}]
[670,{"$f":"IF('Base Data'!A680<>\"\",AVERAGE('Base Data'!A680:T680),\"\")","v":11.558921130480059}]
[671,{"$f":"IF('Base Data'!A681<>\"\",AVERAGE('Base Data'!A681:T681),\"\")","v":11.389836883669165}]
[672,{"$f":"IF('Base Data'!A682<>\"\",AVERAGE('Base Data'!A682:T682),\"\")","v":11.309591487134767}]
[673,{"$f":"IF('Base Data'!A683<>\"\",AVERAGE('Base Data'!A683:T683),\"\")","v":11.449968874131404}]
[674,{"$f":"IF('Base Data'!A684<>\"\",AVERAGE('Base Data'!A684:T684),\"\")","v":10.416510130124863}]
[675,{"$f":"IF('Base Data'!A685<>\"\",AVERAGE('Base Data'!A685:T685),\"\")","v":12.448383296852821}]
[676,{"$f":"IF('Base Data'!A686<>\"\",AVERAGE('Base Data'!A686:T686),\"\")","v":10.829617844763135}]
[677,{"$f":"IF('Base Data'!A687<>\"\",AVERAGE('Base Data'!A687:T687),\"\")","v":11.967131214001293}]
[678,{"$f":"IF('Base Data'!A688<>\"\",AVERAGE('Base Data'!A688:T688),\"\")","v":10.181661257776}]
[679,{"$f":"IF('Base Data'!A689<>\"\",AVERAGE('Base Data'!A689:T689),\"\")","v":11.570539274395312}]
[680,{"$f":"IF('Base Data'!A690<>\"\",AVERAGE('Base Data'!A690:T690),\"\")","v":10.836045654397243}]
[681,{"$f":"IF('Base Data'!A691<>\"\",AVERAGE('Base Data'!A691:T691),\"\")","v":12.05933139022207}]
[682,{"$f":"IF('Base Data'!A692<>\"\",AVERAGE('Base Data'!A692:T692),\"\")","v":10.338449981061633}]
[683,{"$f":"IF('Base Data'!A693<>\"\",AVERAGE('Base Data'!A693:T693),\"\")","v":11.515000924692085}]
[684,{"$f":"IF('Base Data'!A694<>\"\",AVERAGE('Base Data'!A694:T694),\"\")","v":10.235605372608791}]
[685,{"$f":"IF('Base Data'!A695<>\"\",AVERAGE('Base Data'!A695:T695),\"\")","v":11.323829479331351}]
[686,{"$f":"IF('Base Data'!A696<>\"\",AVERAGE('Base Data'!A696:T696),\"\")","v":10.656755186052315}]
[687,{"$f":"IF('Base Data'!A697<>\"\",AVERAGE('Base Data'!A697:T697),\"\")","v":12.523455550498218}]
[688,{"$f":"IF('Base Data'!A698<>\"\",AVERAGE('Base Data'!A698:T698),\"\")","v":10.546907856791625}]
[689,{"$f":"IF('Base Data'!A699<>\"\",AVERAGE('Base Data'!A699:T699),\"\")","v":10.656719491398777}]
[690,{"$f":"IF('Base Data'!A700<>\"\",AVERAGE('Base Data'!A700:T700),\"\")","v":10.562617737460936}]
[691,{"$f":"IF('Base Data'!A701<>\"\",AVERAGE('Base Data'!A701:T701),\"\")","v":11.514102643301694}]
[692,{"$f":"IF('Base Data'!A702<>\"\",AVERAGE('Base Data'!A702:T702),\"\")","v":10.899872820405545}]
[693,{"$f":"IF('Base Data'!A703<>\"\",AVERAGE('Base Data'!A703:T703),\"\")","v":11.476982181838}]
[694,{"$f":"IF('Base Data'!A704<>\"\",AVERAGE('Base Data'!A704:T704),\"\")","v":10.504726142023751}]
[695,{"$f":"IF('Base Data'!A705<>\"\",AVERAGE('Base Data'!A705:T705),\"\")","v":11.658098957099288}]
[696,{"$f":"IF('Base Data'!A706<>\"\",AVERAGE('Base Data'!A706:T706),\"\")","v":10.528193404799243}]
[697,{"$f":"IF('Base Data'!A707<>\"\",AVERAGE('Base Data'!A707:T707),\"\")","v":11.311953397970637}]
[698,{"$f":"IF('Base Data'!A708<>\"\",AVERAGE('Base Data'!A708:T708),\"\")","v":10.176995980274668}]
[699,{"$f":"IF('Base Data'!A709<>\"\",AVERAGE('Base Data'!A709:T709),\"\")","v":10.811841976918794}]
[700,{"$f":"IF('Base Data'!A710<>\"\",AVERAGE('Base Data'!A710:T710),\"\")","v":10.915681546315014}]
[701,{"$f":"IF('Base Data'!A711<>\"\",AVERAGE('Base Data'!A711:T711),\"\")","v":11.445747677429392}]
[702,{"$f":"IF('Base Data'!A712<>\"\",AVERAGE('Base Data'!A712:T712),\"\")","v":10.813809342656279}]
[703,{"$f":"IF('Base Data'!A713<>\"\",AVERAGE('Base Data'!A713:T713),\"\")","v":11.010490130007872}]
[704,{"$f":"IF('Base Data'!A714<>\"\",AVERAGE('Base Data'!A714:T714),\"\")","v":11.088809565318412}]
[705,{"$f":"IF('Base Data'!A715<>\"\",AVERAGE('Base Data'!A715:T715),\"\")","v":11.171084773756736}]
[706,{"$f":"IF('Base Data'!A716<>\"\",AVERAGE('Base Data'!A716:T716),\"\")","v":11.378909196853304}]
[707,{"$f":"IF('Base Data'!A717<>\"\",AVERAGE('Base Data'!A717:T717),\"\")","v":11.330734997271284}]
[708,{"$f":"IF('Base Data'!A718<>\"\",AVERAGE('Base Data'!A718:T718),\"\")","v":11.647746282266308}]
[709,{"$f":"IF('Base Data'!A719<>\"\",AVERAGE('Base Data'!A719:T719),\"\")","v":10.962175067335142}]
[710,{"$f":"IF('Base Data'!A720<>\"\",AVERAGE('Base Data'!A720:T720),\"\")","v":11.069175507727413}]
[711,{"$f":"IF('Base Data'!A721<>\"\",AVERAGE('Base Data'!A721:T721),\"\")","v":11.331668816608598}]
[712,{"$f":"IF('Base Data'!A722<>\"\",AVERAGE('Base Data'!A722:T722),\"\")","v":10.48225153023321}]
[713,{"$f":"IF('Base Data'!A723<>\"\",AVERAGE('Base Data'!A723:T723),\"\")","v":11.727857083644199}]
[714,{"$f":"IF('Base Data'!A724<>\"\",AVERAGE('Base Data'!A724:T724),\"\")","v":11.274374900623533}]
[715,{"$f":"IF('Base Data'!A725<>\"\",AVERAGE('Base Data'!A725:T725),\"\")","v":12.061209141027515}]
[716,{"$f":"IF('Base Data'!A726<>\"\",AVERAGE('Base Data'!A726:T726),\"\")","v":11.225312870873388}]
[717,{"$f":"IF('Base Data'!A727<>\"\",AVERAGE('Base Data'!A727:T727),\"\")","v":12.424363930451147}]
[718,{"$f":"IF('Base Data'!A728<>\"\",AVERAGE('Base Data'!A728:T728),\"\")","v":10.70904380113325}]
[719,{"$f":"IF('Base Data'!A729<>\"\",AVERAGE('Base Data'!A729:T729),\"\")","v":12.333431322694196}]
[720,{"$f":"IF('Base Data'!A730<>\"\",AVERAGE('Base Data'!A730:T730),\"\")","v":10.368756239881396}]
[721,{"$f":"IF('Base Data'!A731<>\"\",AVERAGE('Base Data'!A731:T731),\"\")","v":10.958265500007965}]
[722,{"$f":"IF('Base Data'!A732<>\"\",AVERAGE('Base Data'!A732:T732),\"\")","v":10.972432127171549}]
[723,{"$f":"IF('Base Data'!A733<>\"\",AVERAGE('Base Data'!A733:T733),\"\")","v":11.198342124799662}]
[724,{"$f":"IF('Base Data'!A734<>\"\",AVERAGE('Base Data'!A734:T734),\"\")","v":11.116691718325834}]
[725,{"$f":"IF('Base Data'!A735<>\"\",AVERAGE('Base Data'!A735:T735),\"\")","v":11.786866815829068}]
[726,{"$f":"IF('Base Data'!A736<>\"\",AVERAGE('Base Data'!A736:T736),\"\")","v":10.306308333160427}]
[727,{"$f":"IF('Base Data'!A737<>\"\",AVERAGE('Base Data'!A737:T737),\"\")","v":12.087490499722685}]
[728,{"$f":"IF('Base Data'!A738<>\"\",AVERAGE('Base Data'!A738:T738),\"\")","v":10.408783319132493}]
[729,{"$f":"IF('Base Data'!A739<>\"\",AVERAGE('Base Data'!A739:T739),\"\")","v":11.973828893214312}]
[730,{"$f":"IF('Base Data'!A740<>\"\",AVERAGE('Base Data'!A740:T740),\"\")","v":10.77342417295622}]
[731,{"$f":"IF('Base Data'!A741<>\"\",AVERAGE('Base Data'!A741:T741),\"\")","v":11.9635201876845}]
[732,{"$f":"IF('Base Data'!A742<>\"\",AVERAGE('Base Data'!A742:T742),\"\")","v":10.658736536278345}]
[733,{"$f":"IF('Base Data'!A743<>\"\",AVERAGE('Base Data'!A743:T743),\"\")","v":11.360053914807583}]
[734,{"$f":"IF('Base Data'!A744<>\"\",AVERAGE('Base Data'!A744:T744),\"\")","v":11.481990022229377}]
[735,{"$f":"IF('Base Data'!A745<>\"\",AVERAGE('Base Data'!A745:T745),\"\")","v":11.176852824978301}]
[736,{"$f":"IF('Base Data'!A746<>\"\",AVERAGE('Base Data'!A746:T746),\"\")","v":11.853891897757226}]
[737,{"$f":"IF('Base Data'!A747<>\"\",AVERAGE('Base Data'!A747:T747),\"\")","v":11.494779036833762}]
[738,{"$f":"IF('Base Data'!A748<>\"\",AVERAGE('Base Data'!A748:T748),\"\")","v":12.187548629336948}]
[739,{"$f":"IF('Base Data'!A749<>\"\",AVERAGE('Base Data'!A749:T749),\"\")","v":11.232170744675605}]
[740,{"$f":"IF('Base Data'!A750<>\"\",AVERAGE('Base Data'!A750:T750),\"\")","v":12.130430609541651}]
[741,{"$f":"IF('Base Data'!A751<>\"\",AVERAGE('Base Data'!A751:T751),\"\")","v":10.943450457178049}]
[742,{"$f":"IF('Base Data'!A752<>\"\",AVERAGE('Base Data'!A752:T752),\"\")","v":11.472041536347101}]
[743,{"$f":"IF('Base Data'!A753<>\"\",AVERAGE('Base Data'!A753:T753),\"\")","v":11.49024115985001}]
[744,{"$f":"IF('Base Data'!A754<>\"\",AVERAGE('Base Data'!A754:T754),\"\")","v":11.319196006796592}]
[745,{"$f":"IF('Base Data'!A755<>\"\",AVERAGE('Base Data'!A755:T755),\"\")","v":12.219828051553298}]
[746,{"$f":"IF('Base Data'!A756<>\"\",AVERAGE('Base Data'!A756:T756),\"\")","v":11.506928856250727}]
[747,{"$f":"IF('Base Data'!A757<>\"\",AVERAGE('Base Data'!A757:T757),\"\")","v":11.969373143003818}]
[748,{"$f":"IF('Base Data'!A758<>\"\",AVERAGE('Base Data'!A758:T758),\"\")","v":10.607520333984962}]
[749,{"$f":"IF('Base Data'!A759<>\"\",AVERAGE('Base Data'!A759:T759),\"\")","v":11.426605503176036}]
[750,{"$f":"IF('Base Data'!A760<>\"\",AVERAGE('Base Data'!A760:T760),\"\")","v":10.329257141574082}]
[751,{"$f":"IF('Base Data'!A761<>\"\",AVERAGE('Base Data'!A761:T761),\"\")","v":12.255123014812904}]
[752,{"$f":"IF('Base Data'!A762<>\"\",AVERAGE('Base Data'!A762:T762),\"\")","v":11.69104678477885}]
[753,{"$f":"IF('Base Data'!A763<>\"\",AVERAGE('Base Data'!A763:T763),\"\")","v":11.381914486432663}]
[754,{"$f":"IF('Base Data'!A764<>\"\",AVERAGE('Base Data'!A764:T764),\"\")","v":11.606794857362161}]
[755,{"$f":"IF('Base Data'!A765<>\"\",AVERAGE('Base Data'!A765:T765),\"\")","v":12.0626986975862}]
[756,{"$f":"IF('Base Data'!A766<>\"\",AVERAGE('Base Data'!A766:T766),\"\")","v":11.391712411590539}]
[757,{"$f":"IF('Base Data'!A767<>\"\",AVERAGE('Base Data'!A767:T767),\"\")","v":10.736709050937055}]
[758,{"$f":"IF('Base Data'!A768<>\"\",AVERAGE('Base Data'!A768:T768),\"\")","v":11.084940741231534}]
[759,{"$f":"IF('Base Data'!A769<>\"\",AVERAGE('Base Data'!A769:T769),\"\")","v":10.819658630438349}]
[760,{"$f":"IF('Base Data'!A770<>\"\",AVERAGE('Base Data'!A770:T770),\"\")","v":11.676551138194144}]
[761,{"$f":"IF('Base Data'!A771<>\"\",AVERAGE('Base Data'!A771:T771),\"\")","v":11.348382487212362}]
[762,{"$f":"IF('Base Data'!A772<>\"\",AVERAGE('Base Data'!A772:T772),\"\")","v":11.517284211909161}]
[763,{"$f":"IF('Base Data'!A773<>\"\",AVERAGE('Base Data'!A773:T773),\"\")","v":11.19711039930165}]
[764,{"$f":"IF('Base Data'!A774<>\"\",AVERAGE('Base Data'!A774:T774),\"\")","v":11.281605607313622}]
[765,{"$f":"IF('Base Data'!A775<>\"\",AVERAGE('Base Data'!A775:T775),\"\")","v":10.570893808695512}]
[766,{"$f":"IF('Base Data'!A776<>\"\",AVERAGE('Base Data'!A776:T776),\"\")","v":11.090333179814078}]
[767,{"$f":"IF('Base Data'!A777<>\"\",AVERAGE('Base Data'!A777:T777),\"\")","v":10.909526671080604}]
[768,{"$f":"IF('Base Data'!A778<>\"\",AVERAGE('Base Data'!A778:T778),\"\")","v":11.221982575086583}]
[769,{"$f":"IF('Base Data'!A779<>\"\",AVERAGE('Base Data'!A779:T779),\"\")","v":10.552116615463158}]
[770,{"$f":"IF('Base Data'!A780<>\"\",AVERAGE('Base Data'!A780:T780),\"\")","v":11.072733635634915}]
[771,{"$f":"IF('Base Data'!A781<>\"\",AVERAGE('Base Data'!A781:T781),\"\")","v":10.640857863107694}]
[772,{"$f":"IF('Base Data'!A782<>\"\",AVERAGE('Base Data'!A782:T782),\"\")","v":11.523600789257538}]
[773,{"$f":"IF('Base Data'!A783<>\"\",AVERAGE('Base Data'!A783:T783),\"\")","v":10.534622706661253}]
[774,{"$f":"IF('Base Data'!A784<>\"\",AVERAGE('Base Data'!A784:T784),\"\")","v":10.91150687777974}]
[775,{"$f":"IF('Base Data'!A785<>\"\",AVERAGE('Base Data'!A785:T785),\"\")","v":10.695414566582112}]
[776,{"$f":"IF('Base Data'!A786<>\"\",AVERAGE('Base Data'!A786:T786),\"\")","v":11.270521174385143}]
[777,{"$f":"IF('Base Data'!A787<>\"\",AVERAGE('Base Data'!A787:T787),\"\")","v":10.839889662374706}]
[778,{"$f":"IF('Base Data'!A788<>\"\",AVERAGE('Base Data'!A788:T788),\"\")","v":11.689053907284361}]
[779,{"$f":"IF('Base Data'!A789<>\"\",AVERAGE('Base Data'!A789:T789),\"\")","v":11.200068884429346}]
[780,{"$f":"IF('Base Data'!A790<>\"\",AVERAGE('Base Data'!A790:T790),\"\")","v":11.705555310640339}]
[781,{"$f":"IF('Base Data'!A791<>\"\",AVERAGE('Base Data'!A791:T791),\"\")","v":10.54233021701315}]
[782,{"$f":"IF('Base Data'!A792<>\"\",AVERAGE('Base Data'!A792:T792),\"\")","v":11.175544381789283}]
[783,{"$f":"IF('Base Data'!A793<>\"\",AVERAGE('Base Data'!A793:T793),\"\")","v":10.967269234185698}]
[784,{"$f":"IF('Base Data'!A794<>\"\",AVERAGE('Base Data'!A794:T794),\"\")","v":10.570738065355265}]
[785,{"$f":"IF('Base Data'!A795<>\"\",AVERAGE('Base Data'!A795:T795),\"\")","v":11.496288972927562}]
[786,{"$f":"IF('Base Data'!A796<>\"\",AVERAGE('Base Data'!A796:T796),\"\")","v":10.632447496938957}]
[787,{"$f":"IF('Base Data'!A797<>\"\",AVERAGE('Base Data'!A797:T797),\"\")","v":11.567704179442295}]
[788,{"$f":"IF('Base Data'!A798<>\"\",AVERAGE('Base Data'!A798:T798),\"\")","v":10.657511228786287}]
[789,{"$f":"IF('Base Data'!A799<>\"\",AVERAGE('Base Data'!A799:T799),\"\")","v":11.964169583538206}]
[790,{"$f":"IF('Base Data'!A800<>\"\",AVERAGE('Base Data'!A800:T800),\"\")","v":10.201296990395667}]
[791,{"$f":"IF('Base Data'!A801<>\"\",AVERAGE('Base Data'!A801:T801),\"\")","v":12.642479834313232}]
[792,{"$f":"IF('Base Data'!A802<>\"\",AVERAGE('Base Data'!A802:T802),\"\")","v":9.8769545721282235}]
[793,{"$f":"IF('Base Data'!A803<>\"\",AVERAGE('Base Data'!A803:T803),\"\")","v":12.268057716788302}]
[794,{"$f":"IF('Base Data'!A804<>\"\",AVERAGE('Base Data'!A804:T804),\"\")","v":9.7803239429658326}]
[795,{"$f":"IF('Base Data'!A805<>\"\",AVERAGE('Base Data'!A805:T805),\"\")","v":10.824985628698892}]
[796,{"$f":"IF('Base Data'!A806<>\"\",AVERAGE('Base Data'!A806:T806),\"\")","v":10.126784582550691}]
[797,{"$f":"IF('Base Data'!A807<>\"\",AVERAGE('Base Data'!A807:T807),\"\")","v":11.398335006781391}]
[798,{"$f":"IF('Base Data'!A808<>\"\",AVERAGE('Base Data'!A808:T808),\"\")","v":10.311527778593964}]
[799,{"$f":"IF('Base Data'!A809<>\"\",AVERAGE('Base Data'!A809:T809),\"\")","v":11.662683010234719}]
[800,{"$f":"IF('Base Data'!A810<>\"\",AVERAGE('Base Data'!A810:T810),\"\")","v":10.961922204519096}]
[801,{"$f":"IF('Base Data'!A811<>\"\",AVERAGE('Base Data'!A811:T811),\"\")","v":12.095561227836473}]
[802,{"$f":"IF('Base Data'!A812<>\"\",AVERAGE('Base Data'!A812:T812),\"\")","v":10.557837212868458}]
[803,{"$f":"IF('Base Data'!A813<>\"\",AVERAGE('Base Data'!A813:T813),\"\")","v":11.844624155318558}]
[804,{"$f":"IF('Base Data'!A814<>\"\",AVERAGE('Base Data'!A814:T814),\"\")","v":10.671737607901603}]
[805,{"$f":"IF('Base Data'!A815<>\"\",AVERAGE('Base Data'!A815:T815),\"\")","v":11.570536324884399}]
[806,{"$f":"IF('Base Data'!A816<>\"\",AVERAGE('Base Data'!A816:T816),\"\")","v":11.600247810399861}]
[807,{"$f":"IF('Base Data'!A817<>\"\",AVERAGE('Base Data'!A817:T817),\"\")","v":11.18052574033384}]
[808,{"$f":"IF('Base Data'!A818<>\"\",AVERAGE('Base Data'!A818:T818),\"\")","v":11.23387898728063}]
[809,{"$f":"IF('Base Data'!A819<>\"\",AVERAGE('Base Data'!A819:T819),\"\")","v":11.464387710821443}]
[810,{"$f":"IF('Base Data'!A820<>\"\",AVERAGE('Base Data'!A820:T820),\"\")","v":10.869461359139326}]
[811,{"$f":"IF('Base Data'!A821<>\"\",AVERAGE('Base Data'!A821:T821),\"\")","v":11.15049021787865}]
[812,{"$f":"IF('Base Data'!A822<>\"\",AVERAGE('Base Data'!A822:T822),\"\")","v":11.155744365565313}]
[813,{"$f":"IF('Base Data'!A823<>\"\",AVERAGE('Base Data'!A823:T823),\"\")","v":10.839532023468852}]
[814,{"$f":"IF('Base Data'!A824<>\"\",AVERAGE('Base Data'!A824:T824),\"\")","v":11.16880207848158}]
[815,{"$f":"IF('Base Data'!A825<>\"\",AVERAGE('Base Data'!A825:T825),\"\")","v":11.167918462667975}]
[816,{"$f":"IF('Base Data'!A826<>\"\",AVERAGE('Base Data'!A826:T826),\"\")","v":11.59366849115422}]
[817,{"$f":"IF('Base Data'!A827<>\"\",AVERAGE('Base Data'!A827:T827),\"\")","v":11.462526347953075}]
[818,{"$f":"IF('Base Data'!A828<>\"\",AVERAGE('Base Data'!A828:T828),\"\")","v":10.658487314990712}]
[819,{"$f":"IF('Base Data'!A829<>\"\",AVERAGE('Base Data'!A829:T829),\"\")","v":11.544459679762477}]
[820,{"$f":"IF('Base Data'!A830<>\"\",AVERAGE('Base Data'!A830:T830),\"\")","v":10.239525137537989}]
[821,{"$f":"IF('Base Data'!A831<>\"\",AVERAGE('Base Data'!A831:T831),\"\")","v":11.439176719097727}]
[822,{"$f":"IF('Base Data'!A832<>\"\",AVERAGE('Base Data'!A832:T832),\"\")","v":11.152023857696419}]
[823,{"$f":"IF('Base Data'!A833<>\"\",AVERAGE('Base Data'!A833:T833),\"\")","v":11.680472908143207}]
[824,{"$f":"IF('Base Data'!A834<>\"\",AVERAGE('Base Data'!A834:T834),\"\")","v":11.160580635692259}]
[825,{"$f":"IF('Base Data'!A835<>\"\",AVERAGE('Base Data'!A835:T835),\"\")","v":12.301301210787026}]
[826,{"$f":"IF('Base Data'!A836<>\"\",AVERAGE('Base Data'!A836:T836),\"\")","v":11.389039259347546}]
[827,{"$f":"IF('Base Data'!A837<>\"\",AVERAGE('Base Data'!A837:T837),\"\")","v":11.570336560646027}]
[828,{"$f":"IF('Base Data'!A838<>\"\",AVERAGE('Base Data'!A838:T838),\"\")","v":10.092486313094344}]
[829,{"$f":"IF('Base Data'!A839<>\"\",AVERAGE('Base Data'!A839:T839),\"\")","v":11.701272557825069}]
[830,{"$f":"IF('Base Data'!A840<>\"\",AVERAGE('Base Data'!A840:T840),\"\")","v":11.095461301460393}]
[831,{"$f":"IF('Base Data'!A841<>\"\",AVERAGE('Base Data'!A841:T841),\"\")","v":11.995748881261369}]
[832,{"$f":"IF('Base Data'!A842<>\"\",AVERAGE('Base Data'!A842:T842),\"\")","v":10.920032101429491}]
[833,{"$f":"IF('Base Data'!A843<>\"\",AVERAGE('Base Data'!A843:T843),\"\")","v":11.747386161953518}]
[834,{"$f":"IF('Base Data'!A844<>\"\",AVERAGE('Base Data'!A844:T844),\"\")","v":11.15507473234457}]
[835,{"$f":"IF('Base Data'!A845<>\"\",AVERAGE('Base Data'!A845:T845),\"\")","v":12.010233943827815}]
[836,{"$f":"IF('Base Data'!A846<>\"\",AVERAGE('Base Data'!A846:T846),\"\")","v":11.258437933374134}]
[837,{"$f":"IF('Base Data'!A847<>\"\",AVERAGE('Base Data'!A847:T847),\"\")","v":11.068050446624744}]
[838,{"$f":"IF('Base Data'!A848<>\"\",AVERAGE('Base Data'!A848:T848),\"\")","v":11.732959749157612}]
[839,{"$f":"IF('Base Data'!A849<>\"\",AVERAGE('Base Data'!A849:T849),\"\")","v":12.340365544561161}]
[840,{"$f":"IF('Base Data'!A850<>\"\",AVERAGE('Base Data'!A850:T850),\"\")","v":11.054369358377265}]
[841,{"$f":"IF('Base Data'!A851<>\"\",AVERAGE('Base Data'!A851:T851),\"\")","v":12.678912299175227}]
[842,{"$f":"IF('Base Data'!A852<>\"\",AVERAGE('Base Data'!A852:T852),\"\")","v":10.730351839533677}]
[843,{"$f":"IF('Base Data'!A853<>\"\",AVERAGE('Base Data'!A853:T853),\"\")","v":12.463880789914906}]
[844,{"$f":"IF('Base Data'!A854<>\"\",AVERAGE('Base Data'!A854:T854),\"\")","v":10.274609755346885}]
[845,{"$f":"IF('Base Data'!A855<>\"\",AVERAGE('Base Data'!A855:T855),\"\")","v":11.967101245042285}]
[846,{"$f":"IF('Base Data'!A856<>\"\",AVERAGE('Base Data'!A856:T856),\"\")","v":11.055489447048807}]
[847,{"$f":"IF('Base Data'!A857<>\"\",AVERAGE('Base Data'!A857:T857),\"\")","v":11.279399648893776}]
[848,{"$f":"IF('Base Data'!A858<>\"\",AVERAGE('Base Data'!A858:T858),\"\")","v":11.508601205447125}]
[849,{"$f":"IF('Base Data'!A859<>\"\",AVERAGE('Base Data'!A859:T859),\"\")","v":11.544638649204245}]
[850,{"$f":"IF('Base Data'!A860<>\"\",AVERAGE('Base Data'!A860:T860),\"\")","v":11.420574940122293}]
[851,{"$f":"IF('Base Data'!A861<>\"\",AVERAGE('Base Data'!A861:T861),\"\")","v":11.556544089424474}]
[852,{"$f":"IF('Base Data'!A862<>\"\",AVERAGE('Base Data'!A862:T862),\"\")","v":10.563879608783813}]
[853,{"$f":"IF('Base Data'!A863<>\"\",AVERAGE('Base Data'!A863:T863),\"\")","v":10.848487310296992}]
[854,{"$f":"IF('Base Data'!A864<>\"\",AVERAGE('Base Data'!A864:T864),\"\")","v":10.58698281600345}]
[855,{"$f":"IF('Base Data'!A865<>\"\",AVERAGE('Base Data'!A865:T865),\"\")","v":10.165561939414356}]
[856,{"$f":"IF('Base Data'!A866<>\"\",AVERAGE('Base Data'!A866:T866),\"\")","v":11.51741330327757}]
[857,{"$f":"IF('Base Data'!A867<>\"\",AVERAGE('Base Data'!A867:T867),\"\")","v":10.453157302414198}]
[858,{"$f":"IF('Base Data'!A868<>\"\",AVERAGE('Base Data'!A868:T868),\"\")","v":11.282556778407718}]
[859,{"$f":"IF('Base Data'!A869<>\"\",AVERAGE('Base Data'!A869:T869),\"\")","v":10.734689440160256}]
[860,{"$f":"IF('Base Data'!A870<>\"\",AVERAGE('Base Data'!A870:T870),\"\")","v":11.720535122403399}]
[861,{"$f":"IF('Base Data'!A871<>\"\",AVERAGE('Base Data'!A871:T871),\"\")","v":10.979401297404813}]
[862,{"$f":"IF('Base Data'!A872<>\"\",AVERAGE('Base Data'!A872:T872),\"\")","v":11.984293957482748}]
[863,{"$f":"IF('Base Data'!A873<>\"\",AVERAGE('Base Data'!A873:T873),\"\")","v":11.196045836654774}]
[864,{"$f":"IF('Base Data'!A874<>\"\",AVERAGE('Base Data'!A874:T874),\"\")","v":12.19119267457209}]
[865,{"$f":"IF('Base Data'!A875<>\"\",AVERAGE('Base Data'!A875:T875),\"\")","v":10.956922227387071}]
[866,{"$f":"IF('Base Data'!A876<>\"\",AVERAGE('Base Data'!A876:T876),\"\")","v":12.235021798961043}]
[867,{"$f":"IF('Base Data'!A877<>\"\",AVERAGE('Base Data'!A877:T877),\"\")","v":11.205816209711042}]
[868,{"$f":"IF('Base Data'!A878<>\"\",AVERAGE('Base Data'!A878:T878),\"\")","v":11.903092613608681}]
[869,{"$f":"IF('Base Data'!A879<>\"\",AVERAGE('Base Data'!A879:T879),\"\")","v":11.349978339464036}]
[870,{"$f":"IF('Base Data'!A880<>\"\",AVERAGE('Base Data'!A880:T880),\"\")","v":12.596020507147358}]
[871,{"$f":"IF('Base Data'!A881<>\"\",AVERAGE('Base Data'!A881:T881),\"\")","v":11.112328714046006}]
[872,{"$f":"IF('Base Data'!A882<>\"\",AVERAGE('Base Data'!A882:T882),\"\")","v":10.824150830219708}]
[873,{"$f":"IF('Base Data'!A883<>\"\",AVERAGE('Base Data'!A883:T883),\"\")","v":10.96645731195385}]
[874,{"$f":"IF('Base Data'!A884<>\"\",AVERAGE('Base Data'!A884:T884),\"\")","v":10.745832664319183}]
[875,{"$f":"IF('Base Data'!A885<>\"\",AVERAGE('Base Data'!A885:T885),\"\")","v":11.45558892807983}]
[876,{"$f":"IF('Base Data'!A886<>\"\",AVERAGE('Base Data'!A886:T886),\"\")","v":10.979102555105365}]
[877,{"$f":"IF('Base Data'!A887<>\"\",AVERAGE('Base Data'!A887:T887),\"\")","v":11.555743336292696}]
[878,{"$f":"IF('Base Data'!A888<>\"\",AVERAGE('Base Data'!A888:T888),\"\")","v":11.727671248726029}]
[879,{"$f":"IF('Base Data'!A889<>\"\",AVERAGE('Base Data'!A889:T889),\"\")","v":11.502430912513073}]
[880,{"$f":"IF('Base Data'!A890<>\"\",AVERAGE('Base Data'!A890:T890),\"\")","v":11.295356634236215}]
[881,{"$f":"IF('Base Data'!A891<>\"\",AVERAGE('Base Data'!A891:T891),\"\")","v":11.944842154796239}]
[882,{"$f":"IF('Base Data'!A892<>\"\",AVERAGE('Base Data'!A892:T892),\"\")","v":10.066049067096552}]
[883,{"$f":"IF('Base Data'!A893<>\"\",AVERAGE('Base Data'!A893:T893),\"\")","v":12.565554584308178}]
[884,{"$f":"IF('Base Data'!A894<>\"\",AVERAGE('Base Data'!A894:T894),\"\")","v":10.652577175572242}]
[885,{"$f":"IF('Base Data'!A895<>\"\",AVERAGE('Base Data'!A895:T895),\"\")","v":11.751468406918242}]
[886,{"$f":"IF('Base Data'!A896<>\"\",AVERAGE('Base Data'!A896:T896),\"\")","v":10.798046465770865}]
[887,{"$f":"IF('Base Data'!A897<>\"\",AVERAGE('Base Data'!A897:T897),\"\")","v":11.461997205513523}]
[888,{"$f":"IF('Base Data'!A898<>\"\",AVERAGE('Base Data'!A898:T898),\"\")","v":10.676429258660541}]
[889,{"$f":"IF('Base Data'!A899<>\"\",AVERAGE('Base Data'!A899:T899),\"\")","v":11.370523280289556}]
[890,{"$f":"IF('Base Data'!A900<>\"\",AVERAGE('Base Data'!A900:T900),\"\")","v":10.857257382858652}]
[891,{"$f":"IF('Base Data'!A901<>\"\",AVERAGE('Base Data'!A901:T901),\"\")","v":11.262419209664394}]
[892,{"$f":"IF('Base Data'!A902<>\"\",AVERAGE('Base Data'!A902:T902),\"\")","v":10.888595538300455}]
[893,{"$f":"IF('Base Data'!A903<>\"\",AVERAGE('Base Data'!A903:T903),\"\")","v":11.048280315748034}]
[894,{"$f":"IF('Base Data'!A904<>\"\",AVERAGE('Base Data'!A904:T904),\"\")","v":11.34765138006259}]
[895,{"$f":"IF('Base Data'!A905<>\"\",AVERAGE('Base Data'!A905:T905),\"\")","v":11.124287545640565}]
[896,{"$f":"IF('Base Data'!A906<>\"\",AVERAGE('Base Data'!A906:T906),\"\")","v":10.606431728992368}]
[897,{"$f":"IF('Base Data'!A907<>\"\",AVERAGE('Base Data'!A907:T907),\"\")","v":11.812292689744201}]
[898,{"$f":"IF('Base Data'!A908<>\"\",AVERAGE('Base Data'!A908:T908),\"\")","v":11.370031136348482}]
[899,{"$f":"IF('Base Data'!A909<>\"\",AVERAGE('Base Data'!A909:T909),\"\")","v":10.936770967719283}]
[900,{"$f":"IF('Base Data'!A910<>\"\",AVERAGE('Base Data'!A910:T910),\"\")","v":10.80115267997491}]
[901,{"$f":"IF('Base Data'!A911<>\"\",AVERAGE('Base Data'!A911:T911),\"\")","v":11.085272185938482}]
[902,{"$f":"IF('Base Data'!A912<>\"\",AVERAGE('Base Data'!A912:T912),\"\")","v":10.551235767291502}]
[903,{"$f":"IF('Base Data'!A913<>\"\",AVERAGE('Base Data'!A913:T913),\"\")","v":11.264112143813847}]
[904,{"$f":"IF('Base Data'!A914<>\"\",AVERAGE('Base Data'!A914:T914),\"\")","v":10.535519897883933}]
[905,{"$f":"IF('Base Data'!A915<>\"\",AVERAGE('Base Data'!A915:T915),\"\")","v":12.153398036049733}]
[906,{"$f":"IF('Base Data'!A916<>\"\",AVERAGE('Base Data'!A916:T916),\"\")","v":11.178438074026463}]
[907,{"$f":"IF('Base Data'!A917<>\"\",AVERAGE('Base Data'!A917:T917),\"\")","v":11.822925955499155}]
[908,{"$f":"IF('Base Data'!A918<>\"\",AVERAGE('Base Data'!A918:T918),\"\")","v":10.649274509509539}]
[909,{"$f":"IF('Base Data'!A919<>\"\",AVERAGE('Base Data'!A919:T919),\"\")","v":12.002272196332246}]
[910,{"$f":"IF('Base Data'!A920<>\"\",AVERAGE('Base Data'!A920:T920),\"\")","v":10.887508200138502}]
[911,{"$f":"IF('Base Data'!A921<>\"\",AVERAGE('Base Data'!A921:T921),\"\")","v":12.096229000710398}]
[912,{"$f":"IF('Base Data'!A922<>\"\",AVERAGE('Base Data'!A922:T922),\"\")","v":11.320616057549753}]
[913,{"$f":"IF('Base Data'!A923<>\"\",AVERAGE('Base Data'!A923:T923),\"\")","v":11.59796016918307}]
[914,{"$f":"IF('Base Data'!A924<>\"\",AVERAGE('Base Data'!A924:T924),\"\")","v":11.861230226705572}]
[915,{"$f":"IF('Base Data'!A925<>\"\",AVERAGE('Base Data'!A925:T925),\"\")","v":10.54220468424478}]
[916,{"$f":"IF('Base Data'!A926<>\"\",AVERAGE('Base Data'!A926:T926),\"\")","v":11.035481120257064}]
[917,{"$f":"IF('Base Data'!A927<>\"\",AVERAGE('Base Data'!A927:T927),\"\")","v":11.591106151547582}]
[918,{"$f":"IF('Base Data'!A928<>\"\",AVERAGE('Base Data'!A928:T928),\"\")","v":10.826683185975643}]
[919,{"$f":"IF('Base Data'!A929<>\"\",AVERAGE('Base Data'!A929:T929),\"\")","v":12.60175404626748}]
[920,{"$f":"IF('Base Data'!A930<>\"\",AVERAGE('Base Data'!A930:T930),\"\")","v":10.446059999956656}]
[921,{"$f":"IF('Base Data'!A931<>\"\",AVERAGE('Base Data'!A931:T931),\"\")","v":11.80683289783946}]
[922,{"$f":"IF('Base Data'!A932<>\"\",AVERAGE('Base Data'!A932:T932),\"\")","v":10.791111788308253}]
[923,{"$f":"IF('Base Data'!A933<>\"\",AVERAGE('Base Data'!A933:T933),\"\")","v":11.570468781384271}]
[924,{"$f":"IF('Base Data'!A934<>\"\",AVERAGE('Base Data'!A934:T934),\"\")","v":11.404658213628867}]
[925,{"$f":"IF('Base Data'!A935<>\"\",AVERAGE('Base Data'!A935:T935),\"\")","v":11.454805551678781}]
[926,{"$f":"IF('Base Data'!A936<>\"\",AVERAGE('Base Data'!A936:T936),\"\")","v":11.343566654081469}]
[927,{"$f":"IF('Base Data'!A937<>\"\",AVERAGE('Base Data'!A937:T937),\"\")","v":11.668240909084984}]
[928,{"$f":"IF('Base Data'!A938<>\"\",AVERAGE('Base Data'!A938:T938),\"\")","v":11.61666660930735}]
[929,{"$f":"IF('Base Data'!A939<>\"\",AVERAGE('Base Data'!A939:T939),\"\")","v":11.760380498270198}]
[930,{"$f":"IF('Base Data'!A940<>\"\",AVERAGE('Base Data'!A940:T940),\"\")","v":11.453023297079969}]
[931,{"$f":"IF('Base Data'!A941<>\"\",AVERAGE('Base Data'!A941:T941),\"\")","v":11.206165287662953}]
[932,{"$f":"IF('Base Data'!A942<>\"\",AVERAGE('Base Data'!A942:T942),\"\")","v":10.864967966716367}]
[933,{"$f":"IF('Base Data'!A943<>\"\",AVERAGE('Base Data'!A943:T943),\"\")","v":12.263522604281258}]
[934,{"$f":"IF('Base Data'!A944<>\"\",AVERAGE('Base Data'!A944:T944),\"\")","v":10.765981327450744}]
[935,{"$f":"IF('Base Data'!A945<>\"\",AVERAGE('Base Data'!A945:T945),\"\")","v":11.799459580659287}]
[936,{"$f":"IF('Base Data'!A946<>\"\",AVERAGE('Base Data'!A946:T946),\"\")","v":9.8898918383669745}]
[937,{"$f":"IF('Base Data'!A947<>\"\",AVERAGE('Base Data'!A947:T947),\"\")","v":12.071583654007052}]
[938,{"$f":"IF('Base Data'!A948<>\"\",AVERAGE('Base Data'!A948:T948),\"\")","v":11.176700580295599}]
[939,{"$f":"IF('Base Data'!A949<>\"\",AVERAGE('Base Data'!A949:T949),\"\")","v":12.227896362332729}]
[940,{"$f":"IF('Base Data'!A950<>\"\",AVERAGE('Base Data'!A950:T950),\"\")","v":11.763866217835943}]
[941,{"$f":"IF('Base Data'!A951<>\"\",AVERAGE('Base Data'!A951:T951),\"\")","v":11.025379597580596}]
[942,{"$f":"IF('Base Data'!A952<>\"\",AVERAGE('Base Data'!A952:T952),\"\")","v":11.983130368194891}]
[943,{"$f":"IF('Base Data'!A953<>\"\",AVERAGE('Base Data'!A953:T953),\"\")","v":11.386696988373309}]
[944,{"$f":"IF('Base Data'!A954<>\"\",AVERAGE('Base Data'!A954:T954),\"\")","v":11.948265676081871}]
[945,{"$f":"IF('Base Data'!A955<>\"\",AVERAGE('Base Data'!A955:T955),\"\")","v":11.444434663676411}]
[946,{"$f":"IF('Base Data'!A956<>\"\",AVERAGE('Base Data'!A956:T956),\"\")","v":11.802796142331456}]
[947,{"$f":"IF('Base Data'!A957<>\"\",AVERAGE('Base Data'!A957:T957),\"\")","v":11.227527397752809}]
[948,{"$f":"IF('Base Data'!A958<>\"\",AVERAGE('Base Data'!A958:T958),\"\")","v":11.577997472966521}]
[949,{"$f":"IF('Base Data'!A959<>\"\",AVERAGE('Base Data'!A959:T959),\"\")","v":11.181599883108795}]
[950,{"$f":"IF('Base Data'!A960<>\"\",AVERAGE('Base Data'!A960:T960),\"\")","v":11.914973095049245}]
[951,{"$f":"IF('Base Data'!A961<>\"\",AVERAGE('Base Data'!A961:T961),\"\")","v":11.168885022547245}]
[952,{"$f":"IF('Base Data'!A962<>\"\",AVERAGE('Base Data'!A962:T962),\"\")","v":11.092852944842134}]
[953,{"$f":"IF('Base Data'!A963<>\"\",AVERAGE('Base Data'!A963:T963),\"\")","v":10.951872505520639}]
[954,{"$f":"IF('Base Data'!A964<>\"\",AVERAGE('Base Data'!A964:T964),\"\")","v":12.112150215907768}]
[955,{"$f":"IF('Base Data'!A965<>\"\",AVERAGE('Base Data'!A965:T965),\"\")","v":11.02278524200716}]
[956,{"$f":"IF('Base Data'!A966<>\"\",AVERAGE('Base Data'!A966:T966),\"\")","v":11.87661752434342}]
[957,{"$f":"IF('Base Data'!A967<>\"\",AVERAGE('Base Data'!A967:T967),\"\")","v":10.769564487426027}]
[958,{"$f":"IF('Base Data'!A968<>\"\",AVERAGE('Base Data'!A968:T968),\"\")","v":11.5889836689575}]
[959,{"$f":"IF('Base Data'!A969<>\"\",AVERAGE('Base Data'!A969:T969),\"\")","v":10.946316243019135}]
[960,{"$f":"IF('Base Data'!A970<>\"\",AVERAGE('Base Data'!A970:T970),\"\")","v":11.629502393772245}]
[961,{"$f":"IF('Base Data'!A971<>\"\",AVERAGE('Base Data'!A971:T971),\"\")","v":11.06751129958287}]
[962,{"$f":"IF('Base Data'!A972<>\"\",AVERAGE('Base Data'!A972:T972),\"\")","v":11.373426605325283}]
[963,{"$f":"IF('Base Data'!A973<>\"\",AVERAGE('Base Data'!A973:T973),\"\")","v":11.700816032218091}]
[964,{"$f":"IF('Base Data'!A974<>\"\",AVERAGE('Base Data'!A974:T974),\"\")","v":10.807916811520089}]
[965,{"$f":"IF('Base Data'!A975<>\"\",AVERAGE('Base Data'!A975:T975),\"\")","v":11.456707425427755}]
[966,{"$f":"IF('Base Data'!A976<>\"\",AVERAGE('Base Data'!A976:T976),\"\")","v":11.080885368370446}]
[967,{"$f":"IF('Base Data'!A977<>\"\",AVERAGE('Base Data'!A977:T977),\"\")","v":11.676592858019218}]
[968,{"$f":"IF('Base Data'!A978<>\"\",AVERAGE('Base Data'!A978:T978),\"\")","v":10.849032615431991}]
[969,{"$f":"IF('Base Data'!A979<>\"\",AVERAGE('Base Data'!A979:T979),\"\")","v":12.169977946138895}]
[970,{"$f":"IF('Base Data'!A980<>\"\",AVERAGE('Base Data'!A980:T980),\"\")","v":11.659267211487977}]
[971,{"$f":"IF('Base Data'!A981<>\"\",AVERAGE('Base Data'!A981:T981),\"\")","v":12.564183116210874}]
[972,{"$f":"IF('Base Data'!A982<>\"\",AVERAGE('Base Data'!A982:T982),\"\")","v":10.769618893883527}]
[973,{"$f":"IF('Base Data'!A983<>\"\",AVERAGE('Base Data'!A983:T983),\"\")","v":12.545019512533921}]
[974,{"$f":"IF('Base Data'!A984<>\"\",AVERAGE('Base Data'!A984:T984),\"\")","v":10.707147162406262}]
[975,{"$f":"IF('Base Data'!A985<>\"\",AVERAGE('Base Data'!A985:T985),\"\")","v":12.03855553402866}]
[976,{"$f":"IF('Base Data'!A986<>\"\",AVERAGE('Base Data'!A986:T986),\"\")","v":10.799202724488072}]
[977,{"$f":"IF('Base Data'!A987<>\"\",AVERAGE('Base Data'!A987:T987),\"\")","v":12.439117483493948}]
[978,{"$f":"IF('Base Data'!A988<>\"\",AVERAGE('Base Data'!A988:T988),\"\")","v":10.004697625547054}]
[979,{"$f":"IF('Base Data'!A989<>\"\",AVERAGE('Base Data'!A989:T989),\"\")","v":12.02007184504823}]
[980,{"$f":"IF('Base Data'!A990<>\"\",AVERAGE('Base Data'!A990:T990),\"\")","v":11.110370600551573}]
[981,{"$f":"IF('Base Data'!A991<>\"\",AVERAGE('Base Data'!A991:T991),\"\")","v":11.670862248892599}]
[982,{"$f":"IF('Base Data'!A992<>\"\",AVERAGE('Base Data'!A992:T992),\"\")","v":11.390783291395174}]
[983,{"$f":"IF('Base Data'!A993<>\"\",AVERAGE('Base Data'!A993:T993),\"\")","v":11.551121050375009}]
[984,{"$f":"IF('Base Data'!A994<>\"\",AVERAGE('Base Data'!A994:T994),\"\")","v":10.997488015349685}]
[985,{"$f":"IF('Base Data'!A995<>\"\",AVERAGE('Base Data'!A995:T995),\"\")","v":11.104673052186275}]
[986,{"$f":"IF('Base Data'!A996<>\"\",AVERAGE('Base Data'!A996:T996),\"\")","v":11.849953823683554}]
[987,{"$f":"IF('Base Data'!A997<>\"\",AVERAGE('Base Data'!A997:T997),\"\")","v":11.013511936183443}]
[988,{"$f":"IF('Base Data'!A998<>\"\",AVERAGE('Base Data'!A998:T998),\"\")","v":11.978415492810086}]
[989,{"$f":"IF('Base Data'!A999<>\"\",AVERAGE('Base Data'!A999:T999),\"\")","v":11.439996989878036}]
[990,{"$f":"IF('Base Data'!A1000<>\"\",AVERAGE('Base Data'!A1000:T1000),\"\")","v":11.814191137237511}]
[991,{"$f":"IF('Base Data'!A1001<>\"\",AVERAGE('Base Data'!A1001:T1001),\"\")","v":11.465451709683354}]
[992,{"$f":"IF('Base Data'!A1002<>\"\",AVERAGE('Base Data'!A1002:T1002),\"\")","v":11.47168546797432}]
[993,{"$f":"IF('Base Data'!A1003<>\"\",AVERAGE('Base Data'!A1003:T1003),\"\")","v":11.150591342265216}]
[994,{"$f":"IF('Base Data'!A1004<>\"\",AVERAGE('Base Data'!A1004:T1004),\"\")","v":11.503141885498724}]
[995,{"$f":"IF('Base Data'!A1005<>\"\",AVERAGE('Base Data'!A1005:T1005),\"\")","v":11.54034906884327}]
[996,{"$f":"IF('Base Data'!A1006<>\"\",AVERAGE('Base Data'!A1006:T1006),\"\")","v":10.710658328160189}]
[997,{"$f":"IF('Base Data'!A1007<>\"\",AVERAGE('Base Data'!A1007:T1007),\"\")","v":11.69215696100837}]
[998,{"$f":"IF('Base Data'!A1008<>\"\",AVERAGE('Base Data'!A1008:T1008),\"\")","v":10.866962086725369}]
[999,{"$f":"IF('Base Data'!A1009<>\"\",AVERAGE('Base Data'!A1009:T1009),\"\")","v":11.804341562026137}]
[1000,{"$f":"IF('Base Data'!A1010<>\"\",AVERAGE('Base Data'!A1010:T1010),\"\")","v":11.048808476262245}]

{"sheet":"MSER","index":2,"n_rows":1008,"n_cols":6,"rows_kept":1008,"cut":false,"hidden":false,"merged":[]}
["MSER Heuristic"]
[]
[null,null,"Min MSER","Warm-up period","Data points","Accept/reject recommendation"]
[null,null,{"$f":"MIN(C7:C65536)","v":5.234616446379162E-4},250,{"$f":"MAX(A8:A65536)","v":1000},{"$f":"IF(Warm_up<=E4/2,\"Accept\", \"Reject\")","v":"Accept"}]
[]
["Period","Data","MSER Value"]
[0,null,2.7482591509020281E-3]
[{"$f":"IF(B8<>\"\",1,\"\")","v":1},{"$f":"IF('Base Data'!A11<>\"\",AVERAGE('Base Data'!A11:T11),\"\")","v":5.5078419842372082},2.7287446397523253E-3]
[{"$f":"IF(B9<>\"\",A8+1,\"\")","v":2},{"$f":"IF('Base Data'!A12<>\"\",AVERAGE('Base Data'!A12:T12),\"\")","v":5.3307915799945302},2.707288456942417E-3]
[{"$f":"IF(B10<>\"\",A9+1,\"\")","v":3},{"$f":"IF('Base Data'!A13<>\"\",AVERAGE('Base Data'!A13:T13),\"\")","v":5.6008630270024957},2.6884270480358936E-3]
[4,{"$f":"IF('Base Data'!A14<>\"\",AVERAGE('Base Data'!A14:T14),\"\")","v":4.5950277716362127},2.6584257558994722E-3]
[5,{"$f":"IF('Base Data'!A15<>\"\",AVERAGE('Base Data'!A15:T15),\"\")","v":6.133452715908132},2.644298249491289E-3]
[6,{"$f":"IF('Base Data'!A16<>\"\",AVERAGE('Base Data'!A16:T16),\"\")","v":5.2185998347853353},2.6210605564480063E-3]
[7,{"$f":"IF('Base Data'!A17<>\"\",AVERAGE('Base Data'!A17:T17),\"\")","v":6.1207317823502443},2.6065866607284942E-3]
[8,{"$f":"IF('Base Data'!A18<>\"\",AVERAGE('Base Data'!A18:T18),\"\")","v":5.917088646333589},2.5901315615928064E-3]
[9,{"$f":"IF('Base Data'!A19<>\"\",AVERAGE('Base Data'!A19:T19),\"\")","v":6.1664409443047861},2.5758529801646517E-3]
[10,{"$f":"IF('Base Data'!A20<>\"\",AVERAGE('Base Data'!A20:T20),\"\")","v":5.7758620881124898},2.5578142240485838E-3]
[11,{"$f":"IF('Base Data'!A21<>\"\",AVERAGE('Base Data'!A21:T21),\"\")","v":5.8384420575733946},2.540263364623329E-3]
[12,{"$f":"IF('Base Data'!A22<>\"\",AVERAGE('Base Data'!A22:T22),\"\")","v":5.5648438307332118},2.5198612889068784E-3]
[13,{"$f":"IF('Base Data'!A23<>\"\",AVERAGE('Base Data'!A23:T23),\"\")","v":5.8368656202753089},2.5020406141900656E-3]
[14,{"$f":"IF('Base Data'!A24<>\"\",AVERAGE('Base Data'!A24:T24),\"\")","v":5.4989955347135382},2.480676850488933E-3]
[15,{"$f":"IF('Base Data'!A25<>\"\",AVERAGE('Base Data'!A25:T25),\"\")","v":5.4786259224141221},2.4589656073652011E-3]
[16,{"$f":"IF('Base Data'!A26<>\"\",AVERAGE('Base Data'!A26:T26),\"\")","v":5.8867499955716305},2.4412321686530891E-3]
[17,{"$f":"IF('Base Data'!A27<>\"\",AVERAGE('Base Data'!A27:T27),\"\")","v":5.2502433812507503},2.4167558253566745E-3]
[18,{"$f":"IF('Base Data'!A28<>\"\",AVERAGE('Base Data'!A28:T28),\"\")","v":6.2124111102020141},2.401830983172505E-3]
[19,{"$f":"IF('Base Data'!A29<>\"\",AVERAGE('Base Data'!A29:T29),\"\")","v":5.0315321407923994},2.3745759314966418E-3]
[20,{"$f":"IF('Base Data'!A30<>\"\",AVERAGE('Base Data'!A30:T30),\"\")","v":5.5438473810768176},2.3528135367585222E-3]
[21,{"$f":"IF('Base Data'!A31<>\"\",AVERAGE('Base Data'!A31:T31),\"\")","v":6.1145261923259966},2.3365955517976517E-3]
[22,{"$f":"IF('Base Data'!A32<>\"\",AVERAGE('Base Data'!A32:T32),\"\")","v":5.743819935246683},2.3166361490523073E-3]
[23,{"$f":"IF('Base Data'!A33<>\"\",AVERAGE('Base Data'!A33:T33),\"\")","v":6.2246032088637477},2.3012061299767681E-3]
[24,{"$f":"IF('Base Data'!A34<>\"\",AVERAGE('Base Data'!A34:T34),\"\")","v":6.3716948304753958},2.2870022805719921E-3]
[25,{"$f":"IF('Base Data'!A35<>\"\",AVERAGE('Base Data'!A35:T35),\"\")","v":5.2617633289183443},2.2614574215637107E-3]
[26,{"$f":"IF('Base Data'!A36<>\"\",AVERAGE('Base Data'!A36:T36),\"\")","v":6.7913139716210349},2.2506004783146762E-3]
[27,{"$f":"IF('Base Data'!A37<>\"\",AVERAGE('Base Data'!A37:T37),\"\")","v":4.5865959776637526},2.216603399063966E-3]
[28,{"$f":"IF('Base Data'!A38<>\"\",AVERAGE('Base Data'!A38:T38),\"\")","v":6.1459937544771508},2.1998125731996433E-3]
[29,{"$f":"IF('Base Data'!A39<>\"\",AVERAGE('Base Data'!A39:T39),\"\")","v":5.6340194629439573},2.177734115524365E-3]
[30,{"$f":"IF('Base Data'!A40<>\"\",AVERAGE('Base Data'!A40:T40),\"\")","v":5.5906060300708003},2.1550396331107601E-3]
[31,{"$f":"IF('Base Data'!A41<>\"\",AVERAGE('Base Data'!A41:T41),\"\")","v":5.7769726613987613},2.1341671815669878E-3]
[32,{"$f":"IF('Base Data'!A42<>\"\",AVERAGE('Base Data'!A42:T42),\"\")","v":5.8506372411952174},2.1139142884226796E-3]
[33,{"$f":"IF('Base Data'!A43<>\"\",AVERAGE('Base Data'!A43:T43),\"\")","v":4.9429146979612231},2.0832784697423982E-3]
[34,{"$f":"IF('Base Data'!A44<>\"\",AVERAGE('Base Data'!A44:T44),\"\")","v":6.5804853554998077},2.069691677964509E-3]
[35,{"$f":"IF('Base Data'!A45<>\"\",AVERAGE('Base Data'!A45:T45),\"\")","v":6.5206488946350616},2.0554744290721821E-3]
[36,{"$f":"IF('Base Data'!A46<>\"\",AVERAGE('Base Data'!A46:T46),\"\")","v":5.1094935715927878},2.0263650287550721E-3]
[37,{"$f":"IF('Base Data'!A47<>\"\",AVERAGE('Base Data'!A47:T47),\"\")","v":7.322949089258401},2.0184156621713468E-3]
[38,{"$f":"IF('Base Data'!A48<>\"\",AVERAGE('Base Data'!A48:T48),\"\")","v":6.0365058516581147},1.9992486846874625E-3]
[39,{"$f":"IF('Base Data'!A49<>\"\",AVERAGE('Base Data'!A49:T49),\"\")","v":6.8297580337755743},1.9872752825419106E-3]
[40,{"$f":"IF('Base Data'!A50<>\"\",AVERAGE('Base Data'!A50:T50),\"\")","v":6.2011971951367668},1.9695062797674546E-3]
[41,{"$f":"IF('Base Data'!A51<>\"\",AVERAGE('Base Data'!A51:T51),\"\")","v":7.1982843685491984},1.9602953493235327E-3]
[42,{"$f":"IF('Base Data'!A52<>\"\",AVERAGE('Base Data'!A52:T52),\"\")","v":6.4667979035100629},1.9448371118202209E-3]
[43,{"$f":"IF('Base Data'!A53<>\"\",AVERAGE('Base Data'!A53:T53),\"\")","v":6.2693278820945286},1.9273917378377699E-3]
[44,{"$f":"IF('Base Data'!A54<>\"\",AVERAGE('Base Data'!A54:T54),\"\")","v":6.3084736340569485},1.9102046752504729E-3]
[45,{"$f":"IF('Base Data'!A55<>\"\",AVERAGE('Base Data'!A55:T55),\"\")","v":6.9495186020652708},1.898649951455364E-3]
[46,{"$f":"IF('Base Data'!A56<>\"\",AVERAGE('Base Data'!A56:T56),\"\")","v":5.1236986563296627},1.868187646218409E-3]
[47,{"$f":"IF('Base Data'!A57<>\"\",AVERAGE('Base Data'!A57:T57),\"\")","v":7.5188163804447345},1.8607942947399547E-3]
[48,{"$f":"IF('Base Data'!A58<>\"\",AVERAGE('Base Data'!A58:T58),\"\")","v":6.2468719629970177},1.8425244791252027E-3]
[49,{"$f":"IF('Base Data'!A59<>\"\",AVERAGE('Base Data'!A59:T59),\"\")","v":6.9407465379115818},1.8304932316914821E-3]
[50,{"$f":"IF('Base Data'!A60<>\"\",AVERAGE('Base Data'!A60:T60),\"\")","v":5.8045366111047612},1.8073597086140254E-3]
[51,{"$f":"IF('Base Data'!A61<>\"\",AVERAGE('Base Data'!A61:T61),\"\")","v":6.7629557407886107},1.7935802055828449E-3]
[52,{"$f":"IF('Base Data'!A62<>\"\",AVERAGE('Base Data'!A62:T62),\"\")","v":6.2654056628152492},1.7750021360456909E-3]
[53,{"$f":"IF('Base Data'!A63<>\"\",AVERAGE('Base Data'!A63:T63),\"\")","v":6.5805611389772478},1.7593431735143299E-3]
[54,{"$f":"IF('Base Data'!A64<>\"\",AVERAGE('Base Data'!A64:T64),\"\")","v":5.8298821200965563},1.7359215178483945E-3]
[55,{"$f":"IF('Base Data'!A65<>\"\",AVERAGE('Base Data'!A65:T65),\"\")","v":6.6589564324313866},1.7207450340685233E-3]
[56,{"$f":"IF('Base Data'!A66<>\"\",AVERAGE('Base Data'!A66:T66),\"\")","v":6.7707242569880375},1.7064794083792897E-3]
[57,{"$f":"IF('Base Data'!A67<>\"\",AVERAGE('Base Data'!A67:T67),\"\")","v":6.7439354350731522},1.6918646741218937E-3]
[58,{"$f":"IF('Base Data'!A68<>\"\",AVERAGE('Base Data'!A68:T68),\"\")","v":5.9561493251009718},1.669276690260717E-3]
[59,{"$f":"IF('Base Data'!A69<>\"\",AVERAGE('Base Data'!A69:T69),\"\")","v":6.7659618963774815},1.6546288244645485E-3]
[60,{"$f":"IF('Base Data'!A70<>\"\",AVERAGE('Base Data'!A70:T70),\"\")","v":5.9455106675441893},1.6316401301403733E-3]
[61,{"$f":"IF('Base Data'!A71<>\"\",AVERAGE('Base Data'!A71:T71),\"\")","v":7.0085612300506259},1.6189093695160733E-3]
[62,{"$f":"IF('Base Data'!A72<>\"\",AVERAGE('Base Data'!A72:T72),\"\")","v":5.9224402656367596},1.595376558978022E-3]
[63,{"$f":"IF('Base Data'!A73<>\"\",AVERAGE('Base Data'!A73:T73),\"\")","v":6.4922690259321127},1.5776577994877274E-3]
[64,{"$f":"IF('Base Data'!A74<>\"\",AVERAGE('Base Data'!A74:T74),\"\")","v":7.4660146959379947},1.5683275666929996E-3]
[65,{"$f":"IF('Base Data'!A75<>\"\",AVERAGE('Base Data'!A75:T75),\"\")","v":6.2988885233935878},1.5484311486652239E-3]
[66,{"$f":"IF('Base Data'!A76<>\"\",AVERAGE('Base Data'!A76:T76),\"\")","v":7.0535830500894026},1.5355628293497246E-3]
[{"$f":"IF(B74<>\"\",A73+1,\"\")","v":67},{"$f":"IF('Base Data'!A77<>\"\",AVERAGE('Base Data'!A77:T77),\"\")","v":6.8488376378536184},1.5207802294832833E-3]
[68,{"$f":"IF('Base Data'!A78<>\"\",AVERAGE('Base Data'!A78:T78),\"\")","v":6.5164690672053798},1.5027180924423659E-3]
[69,{"$f":"IF('Base Data'!A79<>\"\",AVERAGE('Base Data'!A79:T79),\"\")","v":8.2373900111119944},1.4982398389625968E-3]
[70,{"$f":"IF('Base Data'!A80<>\"\",AVERAGE('Base Data'!A80:T80),\"\")","v":5.9233084114930126},1.4736405986035136E-3]
[71,{"$f":"IF('Base Data'!A81<>\"\",AVERAGE('Base Data'!A81:T81),\"\")","v":8.3667070823294374},1.4697853365069195E-3]
[72,{"$f":"IF('Base Data'!A82<>\"\",AVERAGE('Base Data'!A82:T82),\"\")","v":7.0101291625387177},1.455967280548617E-3]
[73,{"$f":"IF('Base Data'!A83<>\"\",AVERAGE('Base Data'!A83:T83),\"\")","v":8.5457544719811267},1.4530036659735957E-3]
[74,{"$f":"IF('Base Data'!A84<>\"\",AVERAGE('Base Data'!A84:T84),\"\")","v":6.6588287321870583},1.4357371941197954E-3]
[75,{"$f":"IF('Base Data'!A85<>\"\",AVERAGE('Base Data'!A85:T85),\"\")","v":7.7823779152358838},1.4278809126768174E-3]
[76,{"$f":"IF('Base Data'!A86<>\"\",AVERAGE('Base Data'!A86:T86),\"\")","v":5.8084365196082093},1.4011855111036981E-3]
[77,{"$f":"IF('Base Data'!A87<>\"\",AVERAGE('Base Data'!A87:T87),\"\")","v":7.76660527881572},1.393037599354152E-3]
[78,{"$f":"IF('Base Data'!A88<>\"\",AVERAGE('Base Data'!A88:T88),\"\")","v":6.4711449800854624},1.3734110005385409E-3]
[79,{"$f":"IF('Base Data'!A89<>\"\",AVERAGE('Base Data'!A89:T89),\"\")","v":8.2444476642182067},1.3683254191465325E-3]
[80,{"$f":"IF('Base Data'!A90<>\"\",AVERAGE('Base Data'!A90:T90),\"\")","v":6.5863979659818428},1.3496568675453134E-3]
[81,{"$f":"IF('Base Data'!A91<>\"\",AVERAGE('Base Data'!A91:T91),\"\")","v":7.5888931315613801},1.3398519161800749E-3]
[82,{"$f":"IF('Base Data'!A92<>\"\",AVERAGE('Base Data'!A92:T92),\"\")","v":7.9193305449838007},1.332423818395249E-3]
[83,{"$f":"IF('Base Data'!A93<>\"\",AVERAGE('Base Data'!A93:T93),\"\")","v":7.4924372215109951},1.3217126947389387E-3]
[84,{"$f":"IF('Base Data'!A94<>\"\",AVERAGE('Base Data'!A94:T94),\"\")","v":8.1564291594107026},1.3157662602365703E-3]
[85,{"$f":"IF('Base Data'!A95<>\"\",AVERAGE('Base Data'!A95:T95),\"\")","v":7.6076426343784052},1.3058287988851245E-3]
[86,{"$f":"IF('Base Data'!A96<>\"\",AVERAGE('Base Data'!A96:T96),\"\")","v":7.6473241391209568},1.2961303293428617E-3]
[87,{"$f":"IF('Base Data'!A97<>\"\",AVERAGE('Base Data'!A97:T97),\"\")","v":7.6032380097864349},1.2860111766097801E-3]
[88,{"$f":"IF('Base Data'!A98<>\"\",AVERAGE('Base Data'!A98:T98),\"\")","v":7.727359189914262},1.2767788866067523E-3]
[89,{"$f":"IF('Base Data'!A99<>\"\",AVERAGE('Base Data'!A99:T99),\"\")","v":7.7750425846920219},1.2678419301337398E-3]
[90,{"$f":"IF('Base Data'!A100<>\"\",AVERAGE('Base Data'!A100:T100),\"\")","v":7.3323272832069986},1.2552477642953034E-3]
[91,{"$f":"IF('Base Data'!A101<>\"\",AVERAGE('Base Data'!A101:T101),\"\")","v":7.5301806750965046},1.2442309286984483E-3]
[92,{"$f":"IF('Base Data'!A102<>\"\",AVERAGE('Base Data'!A102:T102),\"\")","v":7.4826675381396628},1.2327369294147246E-3]
[93,{"$f":"IF('Base Data'!A103<>\"\",AVERAGE('Base Data'!A103:T103),\"\")","v":8.0783740827363566},1.2257028361129308E-3]
[94,{"$f":"IF('Base Data'!A104<>\"\",AVERAGE('Base Data'!A104:T104),\"\")","v":7.6767169846302066},1.2156324432299457E-3]
[95,{"$f":"IF('Base Data'!A105<>\"\",AVERAGE('Base Data'!A105:T105),\"\")","v":7.8157353467285757},1.2065657565546854E-3]
[96,{"$f":"IF('Base Data'!A106<>\"\",AVERAGE('Base Data'!A106:T106),\"\")","v":7.7457518114909307},1.1968918921650821E-3]
[97,{"$f":"IF('Base Data'!A107<>\"\",AVERAGE('Base Data'!A107:T107),\"\")","v":7.7740834362802618},1.1873660605985067E-3]
[98,{"$f":"IF('Base Data'!A108<>\"\",AVERAGE('Base Data'!A108:T108),\"\")","v":7.7534543919991652},1.1776065534957151E-3]
[99,{"$f":"IF('Base Data'!A109<>\"\",AVERAGE('Base Data'!A109:T109),\"\")","v":7.1830233844652325},1.1628927348572532E-3]
[100,{"$f":"IF('Base Data'!A110<>\"\",AVERAGE('Base Data'!A110:T110),\"\")","v":7.3281375470262304},1.1493949384767837E-3]
[101,{"$f":"IF('Base Data'!A111<>\"\",AVERAGE('Base Data'!A111:T111),\"\")","v":7.3255287064336541},1.1357764263573997E-3]
[102,{"$f":"IF('Base Data'!A112<>\"\",AVERAGE('Base Data'!A112:T112),\"\")","v":7.9476164392805391},1.1271713216499024E-3]
[103,{"$f":"IF('Base Data'!A113<>\"\",AVERAGE('Base Data'!A113:T113),\"\")","v":7.1161441530380412},1.1114248511742573E-3]
[104,{"$f":"IF('Base Data'!A114<>\"\",AVERAGE('Base Data'!A114:T114),\"\")","v":7.7294846346918691},1.100968305866897E-3]
[105,{"$f":"IF('Base Data'!A115<>\"\",AVERAGE('Base Data'!A115:T115),\"\")","v":7.8208728669472567},1.0911609246498375E-3]
[106,{"$f":"IF('Base Data'!A116<>\"\",AVERAGE('Base Data'!A116:T116),\"\")","v":7.72755667915286},1.0805331048697941E-3]
[107,{"$f":"IF('Base Data'!A117<>\"\",AVERAGE('Base Data'!A117:T117),\"\")","v":7.8943349302450958},1.0711466487718906E-3]
[108,{"$f":"IF('Base Data'!A118<>\"\",AVERAGE('Base Data'!A118:T118),\"\")","v":8.3633729300113497},1.0650408386586355E-3]
[109,{"$f":"IF('Base Data'!A119<>\"\",AVERAGE('Base Data'!A119:T119),\"\")","v":8.040253533331633},1.0566278184819229E-3]
[110,{"$f":"IF('Base Data'!A120<>\"\",AVERAGE('Base Data'!A120:T120),\"\")","v":7.521095476930169},1.0439578710590776E-3]
[111,{"$f":"IF('Base Data'!A121<>\"\",AVERAGE('Base Data'!A121:T121),\"\")","v":8.4807526509672275},1.0384347626319441E-3]
[112,{"$f":"IF('Base Data'!A122<>\"\",AVERAGE('Base Data'!A122:T122),\"\")","v":7.8949582169463657},1.0287095074771391E-3]
[113,{"$f":"IF('Base Data'!A123<>\"\",AVERAGE('Base Data'!A123:T123),\"\")","v":8.1752815214244627},1.0210181685290833E-3]
[114,{"$f":"IF('Base Data'!A124<>\"\",AVERAGE('Base Data'!A124:T124),\"\")","v":7.4506256935319568},1.0073951799849979E-3]
[115,{"$f":"IF('Base Data'!A125<>\"\",AVERAGE('Base Data'!A125:T125),\"\")","v":8.3923612592529064},1.0010631490438601E-3]
[116,{"$f":"IF('Base Data'!A126<>\"\",AVERAGE('Base Data'!A126:T126),\"\")","v":7.7727406452876959},9.9005962458469012E-4]
[117,{"$f":"IF('Base Data'!A127<>\"\",AVERAGE('Base Data'!A127:T127),\"\")","v":8.8531838043037201},9.8642134687160947E-4]
[118,{"$f":"IF('Base Data'!A128<>\"\",AVERAGE('Base Data'!A128:T128),\"\")","v":8.1005331717512181},9.7786284534555324E-4]
[119,{"$f":"IF('Base Data'!A129<>\"\",AVERAGE('Base Data'!A129:T129),\"\")","v":7.7985887404308958},9.6685913968677368E-4]
[120,{"$f":"IF('Base Data'!A130<>\"\",AVERAGE('Base Data'!A130:T130),\"\")","v":8.8681555084932526},9.631681822981986E-4]
[121,{"$f":"IF('Base Data'!A131<>\"\",AVERAGE('Base Data'!A131:T131),\"\")","v":8.084483103299263},9.542972299597767E-4]
[122,{"$f":"IF('Base Data'!A132<>\"\",AVERAGE('Base Data'!A132:T132),\"\")","v":8.6326992085040999},9.4913929793575755E-4]
[123,{"$f":"IF('Base Data'!A133<>\"\",AVERAGE('Base Data'!A133:T133),\"\")","v":7.8082247016115378},9.3793814336534502E-4]
[124,{"$f":"IF('Base Data'!A134<>\"\",AVERAGE('Base Data'!A134:T134),\"\")","v":8.7205938054057572},9.3321269132653063E-4]
[125,{"$f":"IF('Base Data'!A135<>\"\",AVERAGE('Base Data'!A135:T135),\"\")","v":7.9079069819218617},9.2269222849057793E-4]
[126,{"$f":"IF('Base Data'!A136<>\"\",AVERAGE('Base Data'!A136:T136),\"\")","v":9.2246441060972018},9.2057558638264489E-4]
[127,{"$f":"IF('Base Data'!A137<>\"\",AVERAGE('Base Data'!A137:T137),\"\")","v":7.6949175829080092},9.0812117691624393E-4]
[128,{"$f":"IF('Base Data'!A138<>\"\",AVERAGE('Base Data'!A138:T138),\"\")","v":9.3836269901209128},9.0665310568503418E-4]
[129,{"$f":"IF('Base Data'!A139<>\"\",AVERAGE('Base Data'!A139:T139),\"\")","v":8.4834874633873429},9.0018154592333866E-4]
[130,{"$f":"IF('Base Data'!A140<>\"\",AVERAGE('Base Data'!A140:T140),\"\")","v":9.2152211147214427},8.9788774140547509E-4]
[{"$f":"IF(B138<>\"\",A137+1,\"\")","v":131},{"$f":"IF('Base Data'!A141<>\"\",AVERAGE('Base Data'!A141:T141),\"\")","v":8.2783955344063624},8.8988456457929897E-4]
[132,{"$f":"IF('Base Data'!A142<>\"\",AVERAGE('Base Data'!A142:T142),\"\")","v":9.1025003210201287},8.8696422648383338E-4]
[133,{"$f":"IF('Base Data'!A143<>\"\",AVERAGE('Base Data'!A143:T143),\"\")","v":8.3514056284224516},8.7938345898584387E-4]
[134,{"$f":"IF('Base Data'!A144<>\"\",AVERAGE('Base Data'!A144:T144),\"\")","v":8.2507593970158322},8.7100375837398511E-4]
[135,{"$f":"IF('Base Data'!A145<>\"\",AVERAGE('Base Data'!A145:T145),\"\")","v":8.489106098886122},8.6426955682260016E-4]
[136,{"$f":"IF('Base Data'!A146<>\"\",AVERAGE('Base Data'!A146:T146),\"\")","v":8.1654044303704971},8.5511543089933763E-4]
[137,{"$f":"IF('Base Data'!A147<>\"\",AVERAGE('Base Data'!A147:T147),\"\")","v":9.0585627172844791},8.5175784299112837E-4]
[138,{"$f":"IF('Base Data'!A148<>\"\",AVERAGE('Base Data'!A148:T148),\"\")","v":8.228825983495053},8.4297224131293154E-4]
[139,{"$f":"IF('Base Data'!A149<>\"\",AVERAGE('Base Data'!A149:T149),\"\")","v":8.394572653861939},8.3534863782999257E-4]
[140,{"$f":"IF('Base Data'!A150<>\"\",AVERAGE('Base Data'!A150:T150),\"\")","v":8.5664968859343738},8.2886941746556188E-4]
[141,{"$f":"IF('Base Data'!A151<>\"\",AVERAGE('Base Data'!A151:T151),\"\")","v":7.9769495021484413},8.1786283594119315E-4]
[142,{"$f":"IF('Base Data'!A152<>\"\",AVERAGE('Base Data'!A152:T152),\"\")","v":8.4844782641733438},8.1069440667638261E-4]
[143,{"$f":"IF('Base Data'!A153<>\"\",AVERAGE('Base Data'!A153:T153),\"\")","v":8.4318708525446215},8.0309364824630739E-4]
[144,{"$f":"IF('Base Data'!A154<>\"\",AVERAGE('Base Data'!A154:T154),\"\")","v":8.4539039588250127},7.9559260421475844E-4]
[145,{"$f":"IF('Base Data'!A155<>\"\",AVERAGE('Base Data'!A155:T155),\"\")","v":8.8786352022481463},7.9083859429160332E-4]
[146,{"$f":"IF('Base Data'!A156<>\"\",AVERAGE('Base Data'!A156:T156),\"\")","v":8.90041353984466},7.8617711025513021E-4]
[147,{"$f":"IF('Base Data'!A157<>\"\",AVERAGE('Base Data'!A157:T157),\"\")","v":8.5025664537991563},7.7886627035156331E-4]
[148,{"$f":"IF('Base Data'!A158<>\"\",AVERAGE('Base Data'!A158:T158),\"\")","v":8.6901033491713449},7.7278576207390974E-4]
[149,{"$f":"IF('Base Data'!A159<>\"\",AVERAGE('Base Data'!A159:T159),\"\")","v":8.9690230946712699},7.6840060012975777E-4]
[150,{"$f":"IF('Base Data'!A160<>\"\",AVERAGE('Base Data'!A160:T160),\"\")","v":8.924259291689566},7.6370988542065531E-4]
[151,{"$f":"IF('Base Data'!A161<>\"\",AVERAGE('Base Data'!A161:T161),\"\")","v":9.0152125882932754},7.5951815924639378E-4]
[152,{"$f":"IF('Base Data'!A162<>\"\",AVERAGE('Base Data'!A162:T162),\"\")","v":9.0342752633181842},7.554007189958064E-4]
[153,{"$f":"IF('Base Data'!A163<>\"\",AVERAGE('Base Data'!A163:T163),\"\")","v":8.2226317010772902},7.4564489673300063E-4]
[154,{"$f":"IF('Base Data'!A164<>\"\",AVERAGE('Base Data'!A164:T164),\"\")","v":8.7345247478065975},7.3957564579430867E-4]
[155,{"$f":"IF('Base Data'!A165<>\"\",AVERAGE('Base Data'!A165:T165),\"\")","v":9.4647293115747573},7.3756508872086001E-4]
[156,{"$f":"IF('Base Data'!A166<>\"\",AVERAGE('Base Data'!A166:T166),\"\")","v":8.9587178939046161},7.3283687857419772E-4]
[157,{"$f":"IF('Base Data'!A167<>\"\",AVERAGE('Base Data'!A167:T167),\"\")","v":9.1489231799696178},7.291709206915831E-4]
[158,{"$f":"IF('Base Data'!A168<>\"\",AVERAGE('Base Data'!A168:T168),\"\")","v":9.8721093494576628},7.2874439294747244E-4]
[159,{"$f":"IF('Base Data'!A169<>\"\",AVERAGE('Base Data'!A169:T169),\"\")","v":9.7858165635927854},7.2799371213329083E-4]
[160,{"$f":"IF('Base Data'!A170<>\"\",AVERAGE('Base Data'!A170:T170),\"\")","v":9.2455665865374108},7.2478030891816607E-4]
[161,{"$f":"IF('Base Data'!A171<>\"\",AVERAGE('Base Data'!A171:T171),\"\")","v":9.3799667147704682},7.2222837360260469E-4]
[162,{"$f":"IF('Base Data'!A172<>\"\",AVERAGE('Base Data'!A172:T172),\"\")","v":9.9234381206228601},7.219242957973046E-4]
[163,{"$f":"IF('Base Data'!A173<>\"\",AVERAGE('Base Data'!A173:T173),\"\")","v":9.1005522453632235},7.1782902705604178E-4]
[164,{"$f":"IF('Base Data'!A174<>\"\",AVERAGE('Base Data'!A174:T174),\"\")","v":9.3061200225640235},7.1482928837310409E-4]
[165,{"$f":"IF('Base Data'!A175<>\"\",AVERAGE('Base Data'!A175:T175),\"\")","v":8.8236608689625822},7.0894414189871129E-4]
[166,{"$f":"IF('Base Data'!A176<>\"\",AVERAGE('Base Data'!A176:T176),\"\")","v":9.5033652053683859},7.0685742362296057E-4]
[167,{"$f":"IF('Base Data'!A177<>\"\",AVERAGE('Base Data'!A177:T177),\"\")","v":9.2854857983805683},7.036578284918204E-4]
[168,{"$f":"IF('Base Data'!A178<>\"\",AVERAGE('Base Data'!A178:T178),\"\")","v":9.8618177376411271},7.0302669656050029E-4]
[169,{"$f":"IF('Base Data'!A179<>\"\",AVERAGE('Base Data'!A179:T179),\"\")","v":9.146244424308744},6.9900368723576538E-4]
[170,{"$f":"IF('Base Data'!A180<>\"\",AVERAGE('Base Data'!A180:T180),\"\")","v":9.662370029810095},6.9754403386148385E-4]
[171,{"$f":"IF('Base Data'!A181<>\"\",AVERAGE('Base Data'!A181:T181),\"\")","v":9.6203111149264142},6.9588370054877481E-4]
[172,{"$f":"IF('Base Data'!A182<>\"\",AVERAGE('Base Data'!A182:T182),\"\")","v":9.2712598114997551},6.9247811611807019E-4]
[173,{"$f":"IF('Base Data'!A183<>\"\",AVERAGE('Base Data'!A183:T183),\"\")","v":10.276086005960284},6.9306547273619836E-4]
[174,{"$f":"IF('Base Data'!A184<>\"\",AVERAGE('Base Data'!A184:T184),\"\")","v":8.3229480732811876},6.8308080808080808E-4]
[175,{"$f":"IF('Base Data'!A185<>\"\",AVERAGE('Base Data'!A185:T185),\"\")","v":10.74801884383918},6.8451019065613144E-4]
[176,{"$f":"IF('Base Data'!A186<>\"\",AVERAGE('Base Data'!A186:T186),\"\")","v":8.5313939204823797},6.7609319919504133E-4]
[177,{"$f":"IF('Base Data'!A187<>\"\",AVERAGE('Base Data'!A187:T187),\"\")","v":10.015687298335592},6.7584599486640573E-4]
[178,{"$f":"IF('Base Data'!A188<>\"\",AVERAGE('Base Data'!A188:T188),\"\")","v":8.5071291742757076},6.671373365722096E-4]
[179,{"$f":"IF('Base Data'!A189<>\"\",AVERAGE('Base Data'!A189:T189),\"\")","v":9.9590555257991404},6.666517286056709E-4]
[180,{"$f":"IF('Base Data'!A190<>\"\",AVERAGE('Base Data'!A190:T190),\"\")","v":8.9084591443321255},6.6076550181028062E-4]
[181,{"$f":"IF('Base Data'!A191<>\"\",AVERAGE('Base Data'!A191:T191),\"\")","v":10.010721487393866},6.6042331515837307E-4]
[182,{"$f":"IF('Base Data'!A192<>\"\",AVERAGE('Base Data'!A192:T192),\"\")","v":9.0703443390207816},6.5551347612914786E-4]
[183,{"$f":"IF('Base Data'!A193<>\"\",AVERAGE('Base Data'!A193:T193),\"\")","v":9.5991313967838749},6.5346384726776979E-4]
[184,{"$f":"IF('Base Data'!A194<>\"\",AVERAGE('Base Data'!A194:T194),\"\")","v":9.2585990325950096},6.4961364601368141E-4]
[185,{"$f":"IF('Base Data'!A195<>\"\",AVERAGE('Base Data'!A195:T195),\"\")","v":10.259200759028099},6.4997670760574226E-4]
[186,{"$f":"IF('Base Data'!A196<>\"\",AVERAGE('Base Data'!A196:T196),\"\")","v":9.255101371672243},6.4605501750791263E-4]
[187,{"$f":"IF('Base Data'!A197<>\"\",AVERAGE('Base Data'!A197:T197),\"\")","v":9.9829248072056824},6.4552034233967301E-4]
[188,{"$f":"IF('Base Data'!A198<>\"\",AVERAGE('Base Data'!A198:T198),\"\")","v":9.8339635223465987},6.4440469587646204E-4]
[189,{"$f":"IF('Base Data'!A199<>\"\",AVERAGE('Base Data'!A199:T199),\"\")","v":9.4476110446865444},6.4147135230612233E-4]
[190,{"$f":"IF('Base Data'!A200<>\"\",AVERAGE('Base Data'!A200:T200),\"\")","v":9.7896651316526118},6.4013548514192447E-4]
[191,{"$f":"IF('Base Data'!A201<>\"\",AVERAGE('Base Data'!A201:T201),\"\")","v":9.3022461159518581},6.3635080354539292E-4]
[192,{"$f":"IF('Base Data'!A202<>\"\",AVERAGE('Base Data'!A202:T202),\"\")","v":9.9199583818721155},6.3550413043760435E-4]
[193,{"$f":"IF('Base Data'!A203<>\"\",AVERAGE('Base Data'!A203:T203),\"\")","v":8.8859086672411713},6.2898969479098195E-4]
[194,{"$f":"IF('Base Data'!A204<>\"\",AVERAGE('Base Data'!A204:T204),\"\")","v":10.023191095782693},6.2848452087593072E-4]
[{"$f":"IF(B202<>\"\",A201+1,\"\")","v":195},{"$f":"IF('Base Data'!A205<>\"\",AVERAGE('Base Data'!A205:T205),\"\")","v":8.4812650740137574},6.1875440552637063E-4]
[196,{"$f":"IF('Base Data'!A206<>\"\",AVERAGE('Base Data'!A206:T206),\"\")","v":10.285371785780931},6.1904057379721651E-4]
[197,{"$f":"IF('Base Data'!A207<>\"\",AVERAGE('Base Data'!A207:T207),\"\")","v":9.2995553233309352},6.1504413286538463E-4]
[198,{"$f":"IF('Base Data'!A208<>\"\",AVERAGE('Base Data'!A208:T208),\"\")","v":10.679244795203244},6.1617643442561068E-4]
[199,{"$f":"IF('Base Data'!A209<>\"\",AVERAGE('Base Data'!A209:T209),\"\")","v":9.3305334247448037},6.1231460571289063E-4]
[200,{"$f":"IF('Base Data'!A210<>\"\",AVERAGE('Base Data'!A210:T210),\"\")","v":10.890766780115314},6.1370619628425154E-4]
[201,{"$f":"IF('Base Data'!A211<>\"\",AVERAGE('Base Data'!A211:T211),\"\")","v":8.7374121072737303},6.0577342738172288E-4]
[202,{"$f":"IF('Base Data'!A212<>\"\",AVERAGE('Base Data'!A212:T212),\"\")","v":10.4255142602112},6.0636160904262908E-4]
[203,{"$f":"IF('Base Data'!A213<>\"\",AVERAGE('Base Data'!A213:T213),\"\")","v":10.715812714684397},6.0752244830230868E-4]
[204,{"$f":"IF('Base Data'!A214<>\"\",AVERAGE('Base Data'!A214:T214),\"\")","v":10.470668062054182},6.0821691337800622E-4]
[205,{"$f":"IF('Base Data'!A215<>\"\",AVERAGE('Base Data'!A215:T215),\"\")","v":10.56602411383467},6.0911737509338772E-4]
[206,{"$f":"IF('Base Data'!A216<>\"\",AVERAGE('Base Data'!A216:T216),\"\")","v":10.005389327715568},6.0838899059966606E-4]
[207,{"$f":"IF('Base Data'!A217<>\"\",AVERAGE('Base Data'!A217:T217),\"\")","v":9.2274014406019038},6.0371729369407257E-4]
[208,{"$f":"IF('Base Data'!A218<>\"\",AVERAGE('Base Data'!A218:T218),\"\")","v":10.01217749295394},6.0297927308092605E-4]
[209,{"$f":"IF('Base Data'!A219<>\"\",AVERAGE('Base Data'!A219:T219),\"\")","v":9.9659925311921214},6.0204883508815194E-4]
[210,{"$f":"IF('Base Data'!A220<>\"\",AVERAGE('Base Data'!A220:T220),\"\")","v":10.636936509371552},6.0305671022920307E-4]
[211,{"$f":"IF('Base Data'!A221<>\"\",AVERAGE('Base Data'!A221:T221),\"\")","v":10.032446160500218},6.0236850565429409E-4]
[212,{"$f":"IF('Base Data'!A222<>\"\",AVERAGE('Base Data'!A222:T222),\"\")","v":10.258305623630612},6.0244349759215631E-4]
[213,{"$f":"IF('Base Data'!A223<>\"\",AVERAGE('Base Data'!A223:T223),\"\")","v":9.4360338420231482},5.9888531592421892E-4]
[214,{"$f":"IF('Base Data'!A224<>\"\",AVERAGE('Base Data'!A224:T224),\"\")","v":9.5160037590886137},5.9574487325487341E-4]
[215,{"$f":"IF('Base Data'!A225<>\"\",AVERAGE('Base Data'!A225:T225),\"\")","v":10.016535584463025},5.9493399321759852E-4]
[216,{"$f":"IF('Base Data'!A226<>\"\",AVERAGE('Base Data'!A226:T226),\"\")","v":9.465885476041155},5.9146068840280528E-4]
[217,{"$f":"IF('Base Data'!A227<>\"\",AVERAGE('Base Data'!A227:T227),\"\")","v":10.45285536199982},5.9201857872452678E-4]
[218,{"$f":"IF('Base Data'!A228<>\"\",AVERAGE('Base Data'!A228:T228),\"\")","v":8.4378374262392235},5.8085028470314089E-4]
[219,{"$f":"IF('Base Data'!A229<>\"\",AVERAGE('Base Data'!A229:T229),\"\")","v":10.479569220880087},5.8143530450002051E-4]
[220,{"$f":"IF('Base Data'!A230<>\"\",AVERAGE('Base Data'!A230:T230),\"\")","v":8.4649135477170194},5.7038413160389722E-4]
[221,{"$f":"IF('Base Data'!A231<>\"\",AVERAGE('Base Data'!A231:T231),\"\")","v":10.621267446972436},5.7124724127111711E-4]
[222,{"$f":"IF('Base Data'!A232<>\"\",AVERAGE('Base Data'!A232:T232),\"\")","v":8.280263459277208},5.5832171753722492E-4]
[223,{"$f":"IF('Base Data'!A233<>\"\",AVERAGE('Base Data'!A233:T233),\"\")","v":10.70681278426383},5.5930566073148153E-4]
[224,{"$f":"IF('Base Data'!A234<>\"\",AVERAGE('Base Data'!A234:T234),\"\")","v":8.8937524673058874},5.5164303337994279E-4]
[225,{"$f":"IF('Base Data'!A235<>\"\",AVERAGE('Base Data'!A235:T235),\"\")","v":10.69227050666297},5.5257872392038422E-4]
[226,{"$f":"IF('Base Data'!A236<>\"\",AVERAGE('Base Data'!A236:T236),\"\")","v":9.3512109067201941},5.4806486322538843E-4]
[227,{"$f":"IF('Base Data'!A237<>\"\",AVERAGE('Base Data'!A237:T237),\"\")","v":10.67195875304494},5.4894941740059821E-4]
[228,{"$f":"IF('Base Data'!A238<>\"\",AVERAGE('Base Data'!A238:T238),\"\")","v":9.860007848170401},5.4717606204492434E-4]
[229,{"$f":"IF('Base Data'!A239<>\"\",AVERAGE('Base Data'!A239:T239),\"\")","v":9.8654037578779832},5.4540877680811473E-4]
[230,{"$f":"IF('Base Data'!A240<>\"\",AVERAGE('Base Data'!A240:T240),\"\")","v":10.266592548252913},5.4521912280923793E-4]
[231,{"$f":"IF('Base Data'!A241<>\"\",AVERAGE('Base Data'!A241:T241),\"\")","v":10.010072068726194},5.4406028033958539E-4]
[232,{"$f":"IF('Base Data'!A242<>\"\",AVERAGE('Base Data'!A242:T242),\"\")","v":10.482385143297309},5.4449160261394694E-4]
[233,{"$f":"IF('Base Data'!A243<>\"\",AVERAGE('Base Data'!A243:T243),\"\")","v":10.105549588292567},5.4369722447248617E-4]
[234,{"$f":"IF('Base Data'!A244<>\"\",AVERAGE('Base Data'!A244:T244),\"\")","v":9.6030953974844095},5.4049745323646889E-4]
[235,{"$f":"IF('Base Data'!A245<>\"\",AVERAGE('Base Data'!A245:T245),\"\")","v":10.49871042882312},5.4094741154990143E-4]
[236,{"$f":"IF('Base Data'!A246<>\"\",AVERAGE('Base Data'!A246:T246),\"\")","v":8.9464160513958486},5.3323993633815417E-4]
[237,{"$f":"IF('Base Data'!A247<>\"\",AVERAGE('Base Data'!A247:T247),\"\")","v":11.211018253321983},5.3463764900077545E-4]
[238,{"$f":"IF('Base Data'!A248<>\"\",AVERAGE('Base Data'!A248:T248),\"\")","v":9.0448035905921564},5.2761229705706471E-4]
[239,{"$f":"IF('Base Data'!A249<>\"\",AVERAGE('Base Data'!A249:T249),\"\")","v":10.503477525130942},5.2802083234707736E-4]
[240,{"$f":"IF('Base Data'!A250<>\"\",AVERAGE('Base Data'!A250:T250),\"\")","v":9.7537294976849687},5.2548547597703818E-4]
[241,{"$f":"IF('Base Data'!A251<>\"\",AVERAGE('Base Data'!A251:T251),\"\")","v":11.186096167612533},5.2686306962213957E-4]
[242,{"$f":"IF('Base Data'!A252<>\"\",AVERAGE('Base Data'!A252:T252),\"\")","v":10.443614679280492},5.2709490548992098E-4]
[243,{"$f":"IF('Base Data'!A253<>\"\",AVERAGE('Base Data'!A253:T253),\"\")","v":10.86166751004156},5.2821212037674028E-4]
[244,{"$f":"IF('Base Data'!A254<>\"\",AVERAGE('Base Data'!A254:T254),\"\")","v":10.34460081274705},5.2813883188717052E-4]
[245,{"$f":"IF('Base Data'!A255<>\"\",AVERAGE('Base Data'!A255:T255),\"\")","v":11.220229319401442},5.2953733150279078E-4]
[246,{"$f":"IF('Base Data'!A256<>\"\",AVERAGE('Base Data'!A256:T256),\"\")","v":9.4880129809765616},5.2538858277671188E-4]
[247,{"$f":"IF('Base Data'!A257<>\"\",AVERAGE('Base Data'!A257:T257),\"\")","v":11.011537849661519},5.2667360275565579E-4]
[248,{"$f":"IF('Base Data'!A258<>\"\",AVERAGE('Base Data'!A258:T258),\"\")","v":9.805406871198949},5.2429771801088898E-4]
[249,{"$f":"IF('Base Data'!A259<>\"\",AVERAGE('Base Data'!A259:T259),\"\")","v":11.480819733943985},5.2561436631944449E-4]
[250,{"$f":"IF('Base Data'!A260<>\"\",AVERAGE('Base Data'!A260:T260),\"\")","v":9.8543760719456888},5.234616446379162E-4]
[251,{"$f":"IF('Base Data'!A261<>\"\",AVERAGE('Base Data'!A261:T261),\"\")","v":10.516631215493884},5.238517829519539E-4]
[252,{"$f":"IF('Base Data'!A262<>\"\",AVERAGE('Base Data'!A262:T262),\"\")","v":10.516074418434318},5.242377603725646E-4]
[253,{"$f":"IF('Base Data'!A263<>\"\",AVERAGE('Base Data'!A263:T263),\"\")","v":10.279844720962355},5.2387995476194191E-4]
[254,{"$f":"IF('Base Data'!A264<>\"\",AVERAGE('Base Data'!A264:T264),\"\")","v":11.137908190948359},5.2525501209123467E-4]
[255,{"$f":"IF('Base Data'!A265<>\"\",AVERAGE('Base Data'!A265:T265),\"\")","v":10.257145808728897},5.2480662347319663E-4]
[256,{"$f":"IF('Base Data'!A266<>\"\",AVERAGE('Base Data'!A266:T266),\"\")","v":11.293803640507218},5.2621919303698589E-4]
[257,{"$f":"IF('Base Data'!A267<>\"\",AVERAGE('Base Data'!A267:T267),\"\")","v":10.195172018803916},5.2552621571640623E-4]
[258,{"$f":"IF('Base Data'!A268<>\"\",AVERAGE('Base Data'!A268:T268),\"\")","v":11.061468593863712},5.2686289504360467E-4]
[{"$f":"IF(B266<>\"\",A265+1,\"\")","v":259},{"$f":"IF('Base Data'!A269<>\"\",AVERAGE('Base Data'!A269:T269),\"\")","v":10.105039168865696},5.2578632808933303E-4]
[260,{"$f":"IF('Base Data'!A270<>\"\",AVERAGE('Base Data'!A270:T270),\"\")","v":11.730391053135282},5.2683200202041419E-4]
[261,{"$f":"IF('Base Data'!A271<>\"\",AVERAGE('Base Data'!A271:T271),\"\")","v":10.403575576666885},5.2686258393742631E-4]
[262,{"$f":"IF('Base Data'!A272<>\"\",AVERAGE('Base Data'!A272:T272),\"\")","v":12.152069999356163},5.268810541880439E-4]
[263,{"$f":"IF('Base Data'!A273<>\"\",AVERAGE('Base Data'!A273:T273),\"\")","v":10.633126226215071},5.2755051389308412E-4]
[264,{"$f":"IF('Base Data'!A274<>\"\",AVERAGE('Base Data'!A274:T274),\"\")","v":10.739192020896915},5.2845209352873803E-4]
[265,{"$f":"IF('Base Data'!A275<>\"\",AVERAGE('Base Data'!A275:T275),\"\")","v":9.9841753374101412},5.2678587619195308E-4]
[266,{"$f":"IF('Base Data'!A276<>\"\",AVERAGE('Base Data'!A276:T276),\"\")","v":11.295829756068262},5.2822334674635068E-4]
[267,{"$f":"IF('Base Data'!A277<>\"\",AVERAGE('Base Data'!A277:T277),\"\")","v":10.349295834335663},5.2805250751573158E-4]
[268,{"$f":"IF('Base Data'!A278<>\"\",AVERAGE('Base Data'!A278:T278),\"\")","v":10.832973271276035},5.2912330594245978E-4]
[269,{"$f":"IF('Base Data'!A279<>\"\",AVERAGE('Base Data'!A279:T279),\"\")","v":10.330962012957885},5.288782762215003E-4]
[270,{"$f":"IF('Base Data'!A280<>\"\",AVERAGE('Base Data'!A280:T280),\"\")","v":11.231185415502186},5.3032558924623688E-4]
[271,{"$f":"IF('Base Data'!A281<>\"\",AVERAGE('Base Data'!A281:T281),\"\")","v":10.116561423177654},5.2921686493793323E-4]
[272,{"$f":"IF('Base Data'!A282<>\"\",AVERAGE('Base Data'!A282:T282),\"\")","v":10.465361556400143},5.2940473581437224E-4]
[273,{"$f":"IF('Base Data'!A283<>\"\",AVERAGE('Base Data'!A283:T283),\"\")","v":10.275026054016124},5.2892613444784889E-4]
[274,{"$f":"IF('Base Data'!A284<>\"\",AVERAGE('Base Data'!A284:T284),\"\")","v":10.750319869003441},5.2983944197755649E-4]
[275,{"$f":"IF('Base Data'!A285<>\"\",AVERAGE('Base Data'!A285:T285),\"\")","v":10.490688351892619},5.300924791884667E-4]
[276,{"$f":"IF('Base Data'!A286<>\"\",AVERAGE('Base Data'!A286:T286),\"\")","v":11.097751408171201},5.3149021366786738E-4]
[277,{"$f":"IF('Base Data'!A287<>\"\",AVERAGE('Base Data'!A287:T287),\"\")","v":10.648738287655437},5.3217773990146811E-4]
[278,{"$f":"IF('Base Data'!A288<>\"\",AVERAGE('Base Data'!A288:T288),\"\")","v":11.062722254957738},5.3355542012710976E-4]
[279,{"$f":"IF('Base Data'!A289<>\"\",AVERAGE('Base Data'!A289:T289),\"\")","v":11.101265680078422},5.3497043656714166E-4]
[280,{"$f":"IF('Base Data'!A290<>\"\",AVERAGE('Base Data'!A290:T290),\"\")","v":10.321635845849176},5.3464342769646192E-4]
[281,{"$f":"IF('Base Data'!A291<>\"\",AVERAGE('Base Data'!A291:T291),\"\")","v":10.853041963141822},5.3576101666171817E-4]
[282,{"$f":"IF('Base Data'!A292<>\"\",AVERAGE('Base Data'!A292:T292),\"\")","v":10.349429163806711},5.3552704538012267E-4]
[283,{"$f":"IF('Base Data'!A293<>\"\",AVERAGE('Base Data'!A293:T293),\"\")","v":10.394246563652668},5.3544552122838582E-4]
[284,{"$f":"IF('Base Data'!A294<>\"\",AVERAGE('Base Data'!A294:T294),\"\")","v":11.504996614294116},5.3685758147556113E-4]
[285,{"$f":"IF('Base Data'!A295<>\"\",AVERAGE('Base Data'!A295:T295),\"\")","v":10.157665668970409},5.3582577092954218E-4]
[286,{"$f":"IF('Base Data'!A296<>\"\",AVERAGE('Base Data'!A296:T296),\"\")","v":11.645094250406117},5.3708924081458912E-4]
[287,{"$f":"IF('Base Data'!A297<>\"\",AVERAGE('Base Data'!A297:T297),\"\")","v":9.5704261632437984},5.3272234070648702E-4]
[288,{"$f":"IF('Base Data'!A298<>\"\",AVERAGE('Base Data'!A298:T298),\"\")","v":11.504053068335899},5.341378168281461E-4]
[289,{"$f":"IF('Base Data'!A299<>\"\",AVERAGE('Base Data'!A299:T299),\"\")","v":9.9038786614470702},5.3178608263799347E-4]
[290,{"$f":"IF('Base Data'!A300<>\"\",AVERAGE('Base Data'!A300:T300),\"\")","v":11.411247360054976},5.3326235137349785E-4]
[291,{"$f":"IF('Base Data'!A301<>\"\",AVERAGE('Base Data'!A301:T301),\"\")","v":9.8073080289063306},5.3032389198231871E-4]
[292,{"$f":"IF('Base Data'!A302<>\"\",AVERAGE('Base Data'!A302:T302),\"\")","v":10.521014560452373},5.3060573853850733E-4]
[293,{"$f":"IF('Base Data'!A303<>\"\",AVERAGE('Base Data'!A303:T303),\"\")","v":10.509311332563822},5.3084658430711893E-4]
[294,{"$f":"IF('Base Data'!A304<>\"\",AVERAGE('Base Data'!A304:T304),\"\")","v":9.9304285436937647},5.2855524305162591E-4]
[295,{"$f":"IF('Base Data'!A305<>\"\",AVERAGE('Base Data'!A305:T305),\"\")","v":10.718166436489375},5.2936085738426394E-4]
[296,{"$f":"IF('Base Data'!A306<>\"\",AVERAGE('Base Data'!A306:T306),\"\")","v":11.252437205334875},5.3086243801490104E-4]
[297,{"$f":"IF('Base Data'!A307<>\"\",AVERAGE('Base Data'!A307:T307),\"\")","v":10.519802462686872},5.3111902368021191E-4]
[298,{"$f":"IF('Base Data'!A308<>\"\",AVERAGE('Base Data'!A308:T308),\"\")","v":11.149997897822743},5.3258456016414034E-4]
[299,{"$f":"IF('Base Data'!A309<>\"\",AVERAGE('Base Data'!A309:T309),\"\")","v":10.767407680190285},5.3351141481983416E-4]
[300,{"$f":"IF('Base Data'!A310<>\"\",AVERAGE('Base Data'!A310:T310),\"\")","v":11.096816155792682},5.3494687860643837E-4]
[301,{"$f":"IF('Base Data'!A311<>\"\",AVERAGE('Base Data'!A311:T311),\"\")","v":10.325732451304905},5.344950196883967E-4]
[302,{"$f":"IF('Base Data'!A312<>\"\",AVERAGE('Base Data'!A312:T312),\"\")","v":10.756334536713078},5.3539705523737214E-4]
[303,{"$f":"IF('Base Data'!A313<>\"\",AVERAGE('Base Data'!A313:T313),\"\")","v":10.453500998805351},5.3541706612882187E-4]
[304,{"$f":"IF('Base Data'!A314<>\"\",AVERAGE('Base Data'!A314:T314),\"\")","v":11.026671250294608},5.3679025220695746E-4]
[305,{"$f":"IF('Base Data'!A315<>\"\",AVERAGE('Base Data'!A315:T315),\"\")","v":10.351746825938813},5.3641875097162331E-4]
[306,{"$f":"IF('Base Data'!A316<>\"\",AVERAGE('Base Data'!A316:T316),\"\")","v":11.339998245461379},5.3796657599755539E-4]
[307,{"$f":"IF('Base Data'!A317<>\"\",AVERAGE('Base Data'!A317:T317),\"\")","v":10.691337677069216},5.3871188179211631E-4]
[308,{"$f":"IF('Base Data'!A318<>\"\",AVERAGE('Base Data'!A318:T318),\"\")","v":11.616811284906719},5.400813237733871E-4]
[309,{"$f":"IF('Base Data'!A319<>\"\",AVERAGE('Base Data'!A319:T319),\"\")","v":10.328856419268506},5.3960475268621355E-4]
[310,{"$f":"IF('Base Data'!A320<>\"\",AVERAGE('Base Data'!A320:T320),\"\")","v":11.542204062474264},5.4106410331015476E-4]
[311,{"$f":"IF('Base Data'!A321<>\"\",AVERAGE('Base Data'!A321:T321),\"\")","v":10.549757740047212},5.4139772449202507E-4]
[312,{"$f":"IF('Base Data'!A322<>\"\",AVERAGE('Base Data'!A322:T322),\"\")","v":11.701842671323384},5.4266042152000449E-4]
[313,{"$f":"IF('Base Data'!A323<>\"\",AVERAGE('Base Data'!A323:T323),\"\")","v":11.617247868210672},5.4405068502893139E-4]
[314,{"$f":"IF('Base Data'!A324<>\"\",AVERAGE('Base Data'!A324:T324),\"\")","v":11.483331853942538},5.4557979554676261E-4]
[315,{"$f":"IF('Base Data'!A325<>\"\",AVERAGE('Base Data'!A325:T325),\"\")","v":11.505132455776083},5.4709912406399823E-4]
[316,{"$f":"IF('Base Data'!A326<>\"\",AVERAGE('Base Data'!A326:T326),\"\")","v":11.204876955608086},5.4867633974387659E-4]
[317,{"$f":"IF('Base Data'!A327<>\"\",AVERAGE('Base Data'!A327:T327),\"\")","v":11.429820551412487},5.5025806542314518E-4]
[318,{"$f":"IF('Base Data'!A328<>\"\",AVERAGE('Base Data'!A328:T328),\"\")","v":10.908666631672242},5.515187854140016E-4]
[319,{"$f":"IF('Base Data'!A329<>\"\",AVERAGE('Base Data'!A329:T329),\"\")","v":10.738015694785142},5.5241967567523046E-4]
[320,{"$f":"IF('Base Data'!A330<>\"\",AVERAGE('Base Data'!A330:T330),\"\")","v":10.993145828271832},5.53820923131955E-4]
[321,{"$f":"IF('Base Data'!A331<>\"\",AVERAGE('Base Data'!A331:T331),\"\")","v":10.578924489099602},5.542691958612295E-4]
[322,{"$f":"IF('Base Data'!A332<>\"\",AVERAGE('Base Data'!A332:T332),\"\")","v":11.324704800188611},5.5590743314257814E-4]
[{"$f":"IF(B330<>\"\",A329+1,\"\")","v":323},{"$f":"IF('Base Data'!A333<>\"\",AVERAGE('Base Data'!A333:T333),\"\")","v":10.52573554920208},5.5617781264087173E-4]
[324,{"$f":"IF('Base Data'!A334<>\"\",AVERAGE('Base Data'!A334:T334),\"\")","v":11.317684274142049},5.5782673316400887E-4]
[325,{"$f":"IF('Base Data'!A335<>\"\",AVERAGE('Base Data'!A335:T335),\"\")","v":10.602371922582451},5.5835077183168243E-4]
[326,{"$f":"IF('Base Data'!A336<>\"\",AVERAGE('Base Data'!A336:T336),\"\")","v":11.064058634493453},5.5986568918810946E-4]
[327,{"$f":"IF('Base Data'!A337<>\"\",AVERAGE('Base Data'!A337:T337),\"\")","v":11.110484118092254},5.6143547672263077E-4]
[328,{"$f":"IF('Base Data'!A338<>\"\",AVERAGE('Base Data'!A338:T338),\"\")","v":11.763391731999288},5.6267510343375484E-4]
[329,{"$f":"IF('Base Data'!A339<>\"\",AVERAGE('Base Data'!A339:T339),\"\")","v":11.128889279430341},5.6427386057193631E-4]
[330,{"$f":"IF('Base Data'!A340<>\"\",AVERAGE('Base Data'!A340:T340),\"\")","v":11.69519358286913},5.6564797211083732E-4]
[331,{"$f":"IF('Base Data'!A341<>\"\",AVERAGE('Base Data'!A341:T341),\"\")","v":11.00711727503707},5.6712319396208868E-4]
[332,{"$f":"IF('Base Data'!A342<>\"\",AVERAGE('Base Data'!A342:T342),\"\")","v":11.247598950867749},5.6881298374733286E-4]
[333,{"$f":"IF('Base Data'!A343<>\"\",AVERAGE('Base Data'!A343:T343),\"\")","v":10.833604752627719},5.6998665139352828E-4]
[334,{"$f":"IF('Base Data'!A344<>\"\",AVERAGE('Base Data'!A344:T344),\"\")","v":11.371382839927808},5.7169673414401252E-4]
[335,{"$f":"IF('Base Data'!A345<>\"\",AVERAGE('Base Data'!A345:T345),\"\")","v":10.584105375615499},5.7218583198776613E-4]
[336,{"$f":"IF('Base Data'!A346<>\"\",AVERAGE('Base Data'!A346:T346),\"\")","v":11.394057309679734},5.7390162500840672E-4]
[337,{"$f":"IF('Base Data'!A347<>\"\",AVERAGE('Base Data'!A347:T347),\"\")","v":10.688828367917306},5.7471939109058321E-4]
[338,{"$f":"IF('Base Data'!A348<>\"\",AVERAGE('Base Data'!A348:T348),\"\")","v":11.541194551476522},5.7635134801078166E-4]
[339,{"$f":"IF('Base Data'!A349<>\"\",AVERAGE('Base Data'!A349:T349),\"\")","v":10.666652689804071},5.7710891037057364E-4]
[340,{"$f":"IF('Base Data'!A350<>\"\",AVERAGE('Base Data'!A350:T350),\"\")","v":11.524681166883713},5.7876831704839439E-4]
[341,{"$f":"IF('Base Data'!A351<>\"\",AVERAGE('Base Data'!A351:T351),\"\")","v":10.634107960536015},5.7942939900892455E-4]
[342,{"$f":"IF('Base Data'!A352<>\"\",AVERAGE('Base Data'!A352:T352),\"\")","v":11.708980429079066},5.8085209951899209E-4]
[343,{"$f":"IF('Base Data'!A353<>\"\",AVERAGE('Base Data'!A353:T353),\"\")","v":11.170880680693022},5.8256923833253623E-4]
[344,{"$f":"IF('Base Data'!A354<>\"\",AVERAGE('Base Data'!A354:T354),\"\")","v":10.932118133766435},5.8399049949968309E-4]
[345,{"$f":"IF('Base Data'!A355<>\"\",AVERAGE('Base Data'!A355:T355),\"\")","v":11.099689749482959},5.8565947007668709E-4]
[346,{"$f":"IF('Base Data'!A356<>\"\",AVERAGE('Base Data'!A356:T356),\"\")","v":11.219164442669834},5.8742825652031343E-4]
[347,{"$f":"IF('Base Data'!A357<>\"\",AVERAGE('Base Data'!A357:T357),\"\")","v":10.072283962812444},5.8553190933773708E-4]
[348,{"$f":"IF('Base Data'!A358<>\"\",AVERAGE('Base Data'!A358:T358),\"\")","v":12.039496631952852},5.8613331466347482E-4]
[349,{"$f":"IF('Base Data'!A359<>\"\",AVERAGE('Base Data'!A359:T359),\"\")","v":10.36315148290034},5.8573987610946747E-4]
[350,{"$f":"IF('Base Data'!A360<>\"\",AVERAGE('Base Data'!A360:T360),\"\")","v":12.080383774206592},5.8619893474765831E-4]
[351,{"$f":"IF('Base Data'!A361<>\"\",AVERAGE('Base Data'!A361:T361),\"\")","v":10.131622817019501},5.8460428191110716E-4]
[352,{"$f":"IF('Base Data'!A362<>\"\",AVERAGE('Base Data'!A362:T362),\"\")","v":12.494649864647741},5.8315833134914535E-4]
[353,{"$f":"IF('Base Data'!A363<>\"\",AVERAGE('Base Data'!A363:T363),\"\")","v":10.759601405298843},5.8419429132343284E-4]
[354,{"$f":"IF('Base Data'!A364<>\"\",AVERAGE('Base Data'!A364:T364),\"\")","v":11.946110419987555},5.8508500307270068E-4]
[355,{"$f":"IF('Base Data'!A365<>\"\",AVERAGE('Base Data'!A365:T365),\"\")","v":10.462483109016707},5.8510047703915868E-4]
[356,{"$f":"IF('Base Data'!A366<>\"\",AVERAGE('Base Data'!A366:T366),\"\")","v":12.802381209478373},5.8165511575103206E-4]
[357,{"$f":"IF('Base Data'!A367<>\"\",AVERAGE('Base Data'!A367:T367),\"\")","v":10.077190270362916},5.796813831567577E-4]
[358,{"$f":"IF('Base Data'!A368<>\"\",AVERAGE('Base Data'!A368:T368),\"\")","v":11.762626531850088},5.8103008513927243E-4]
[359,{"$f":"IF('Base Data'!A369<>\"\",AVERAGE('Base Data'!A369:T369),\"\")","v":11.26569627951266},5.828381329774857E-4]
[360,{"$f":"IF('Base Data'!A370<>\"\",AVERAGE('Base Data'!A370:T370),\"\")","v":11.983945132825726},5.8360483776713436E-4]
[361,{"$f":"IF('Base Data'!A371<>\"\",AVERAGE('Base Data'!A371:T371),\"\")","v":10.677046826822451},5.8440036754750795E-4]
[362,{"$f":"IF('Base Data'!A372<>\"\",AVERAGE('Base Data'!A372:T372),\"\")","v":12.404784681066312},5.8336791614637111E-4]
[363,{"$f":"IF('Base Data'!A373<>\"\",AVERAGE('Base Data'!A373:T373),\"\")","v":9.4007669425767606},5.7603411223521451E-4]
[364,{"$f":"IF('Base Data'!A374<>\"\",AVERAGE('Base Data'!A374:T374),\"\")","v":11.770096211876497},5.7736536981863029E-4]
[365,{"$f":"IF('Base Data'!A375<>\"\",AVERAGE('Base Data'!A375:T375),\"\")","v":10.063340787288492},5.752053579820848E-4]
[366,{"$f":"IF('Base Data'!A376<>\"\",AVERAGE('Base Data'!A376:T376),\"\")","v":11.363543025681352},5.770212557526886E-4]
[367,{"$f":"IF('Base Data'!A377<>\"\",AVERAGE('Base Data'!A377:T377),\"\")","v":10.113546508151638},5.7514186395205967E-4]
[368,{"$f":"IF('Base Data'!A378<>\"\",AVERAGE('Base Data'!A378:T378),\"\")","v":12.401803953582116},5.7408367035315956E-4]
[369,{"$f":"IF('Base Data'!A379<>\"\",AVERAGE('Base Data'!A379:T379),\"\")","v":10.73060780420391},5.7500211139504989E-4]
[370,{"$f":"IF('Base Data'!A380<>\"\",AVERAGE('Base Data'!A380:T380),\"\")","v":11.896347945545402},5.7602164935401112E-4]
[371,{"$f":"IF('Base Data'!A381<>\"\",AVERAGE('Base Data'!A381:T381),\"\")","v":10.622188261828516},5.7658621435828169E-4]
[372,{"$f":"IF('Base Data'!A382<>\"\",AVERAGE('Base Data'!A382:T382),\"\")","v":11.931654978300662},5.7750710336572093E-4]
[373,{"$f":"IF('Base Data'!A383<>\"\",AVERAGE('Base Data'!A383:T383),\"\")","v":10.767579098056256},5.7854564940753336E-4]
[374,{"$f":"IF('Base Data'!A384<>\"\",AVERAGE('Base Data'!A384:T384),\"\")","v":11.298480882442531},5.8039597656249996E-4]
[375,{"$f":"IF('Base Data'!A385<>\"\",AVERAGE('Base Data'!A385:T385),\"\")","v":11.290947228371243},5.8225316487198826E-4]
[376,{"$f":"IF('Base Data'!A386<>\"\",AVERAGE('Base Data'!A386:T386),\"\")","v":11.642519416895203},5.8387319238225645E-4]
[377,{"$f":"IF('Base Data'!A387<>\"\",AVERAGE('Base Data'!A387:T387),\"\")","v":10.747143081133379},5.8487203830345064E-4]
[378,{"$f":"IF('Base Data'!A388<>\"\",AVERAGE('Base Data'!A388:T388),\"\")","v":12.078213367041117},5.8530784907111233E-4]
[379,{"$f":"IF('Base Data'!A389<>\"\",AVERAGE('Base Data'!A389:T389),\"\")","v":11.135811233474133},5.8709921623491972E-4]
[380,{"$f":"IF('Base Data'!A390<>\"\",AVERAGE('Base Data'!A390:T390),\"\")","v":11.941900769847484},5.8801993139082694E-4]
[381,{"$f":"IF('Base Data'!A391<>\"\",AVERAGE('Base Data'!A391:T391),\"\")","v":9.9218942559252543},5.8472867552929783E-4]
[382,{"$f":"IF('Base Data'!A392<>\"\",AVERAGE('Base Data'!A392:T392),\"\")","v":12.184583479553275},5.8471244877605964E-4]
[383,{"$f":"IF('Base Data'!A393<>\"\",AVERAGE('Base Data'!A393:T393),\"\")","v":9.7368784672646349},5.7990934217854806E-4]
[384,{"$f":"IF('Base Data'!A394<>\"\",AVERAGE('Base Data'!A394:T394),\"\")","v":12.284755529344151},5.7939779420421872E-4]
[385,{"$f":"IF('Base Data'!A395<>\"\",AVERAGE('Base Data'!A395:T395),\"\")","v":10.889034914492905},5.8076672316783944E-4]
[386,{"$f":"IF('Base Data'!A396<>\"\",AVERAGE('Base Data'!A396:T396),\"\")","v":12.391456730015857},5.7967208493147964E-4]
[{"$f":"IF(B394<>\"\",A393+1,\"\")","v":387},{"$f":"IF('Base Data'!A397<>\"\",AVERAGE('Base Data'!A397:T397),\"\")","v":10.948189568841217},5.8117721116325365E-4]
[388,{"$f":"IF('Base Data'!A398<>\"\",AVERAGE('Base Data'!A398:T398),\"\")","v":11.44465764614943},5.8304677405323605E-4]
[389,{"$f":"IF('Base Data'!A399<>\"\",AVERAGE('Base Data'!A399:T399),\"\")","v":10.425912502437452},5.8275550323543738E-4]
[390,{"$f":"IF('Base Data'!A400<>\"\",AVERAGE('Base Data'!A400:T400),\"\")","v":11.154249051624252},5.8458494003077726E-4]
[391,{"$f":"IF('Base Data'!A401<>\"\",AVERAGE('Base Data'!A401:T401),\"\")","v":11.062727590124956},5.8631268729793728E-4]
[392,{"$f":"IF('Base Data'!A402<>\"\",AVERAGE('Base Data'!A402:T402),\"\")","v":10.916191333040578},5.8777358726472739E-4]
[393,{"$f":"IF('Base Data'!A403<>\"\",AVERAGE('Base Data'!A403:T403),\"\")","v":11.113374671004509},5.8958273826565635E-4]
[394,{"$f":"IF('Base Data'!A404<>\"\",AVERAGE('Base Data'!A404:T404),\"\")","v":11.774829321394954},5.910014461342506E-4]
[395,{"$f":"IF('Base Data'!A405<>\"\",AVERAGE('Base Data'!A405:T405),\"\")","v":11.619725525990095},5.9273458249704564E-4]
[396,{"$f":"IF('Base Data'!A406<>\"\",AVERAGE('Base Data'!A406:T406),\"\")","v":11.640513668426365},5.9444152127525725E-4]
[397,{"$f":"IF('Base Data'!A407<>\"\",AVERAGE('Base Data'!A407:T407),\"\")","v":11.683780457951105},5.9607759445540231E-4]
[398,{"$f":"IF('Base Data'!A408<>\"\",AVERAGE('Base Data'!A408:T408),\"\")","v":12.220062067773956},5.958744251328813E-4]
[399,{"$f":"IF('Base Data'!A409<>\"\",AVERAGE('Base Data'!A409:T409),\"\")","v":10.835521297435989},5.9718098110622827E-4]
[400,{"$f":"IF('Base Data'!A410<>\"\",AVERAGE('Base Data'!A410:T410),\"\")","v":11.677756940461414},5.9884133033091466E-4]
[401,{"$f":"IF('Base Data'!A411<>\"\",AVERAGE('Base Data'!A411:T411),\"\")","v":11.109726570040166},6.0070927629182703E-4]
[402,{"$f":"IF('Base Data'!A412<>\"\",AVERAGE('Base Data'!A412:T412),\"\")","v":11.417240521185533},6.0270232433761145E-4]
[403,{"$f":"IF('Base Data'!A413<>\"\",AVERAGE('Base Data'!A413:T413),\"\")","v":11.417616650748309},6.0470576415399798E-4]
[404,{"$f":"IF('Base Data'!A414<>\"\",AVERAGE('Base Data'!A414:T414),\"\")","v":11.869542288420664},6.0591743016140279E-4]
[405,{"$f":"IF('Base Data'!A415<>\"\",AVERAGE('Base Data'!A415:T415),\"\")","v":11.136997040518953},6.0785409889549434E-4]
[406,{"$f":"IF('Base Data'!A416<>\"\",AVERAGE('Base Data'!A416:T416),\"\")","v":11.299581285769566},6.0990375601363144E-4]
[407,{"$f":"IF('Base Data'!A417<>\"\",AVERAGE('Base Data'!A417:T417),\"\")","v":11.570277647375637},6.1180092628373116E-4]
[408,{"$f":"IF('Base Data'!A418<>\"\",AVERAGE('Base Data'!A418:T418),\"\")","v":10.615334258363054},6.1240918648997869E-4]
[409,{"$f":"IF('Base Data'!A419<>\"\",AVERAGE('Base Data'!A419:T419),\"\")","v":11.684541602672459},6.1412720322711689E-4]
[410,{"$f":"IF('Base Data'!A420<>\"\",AVERAGE('Base Data'!A420:T420),\"\")","v":10.75096955684759},6.1524542716610018E-4]
[411,{"$f":"IF('Base Data'!A421<>\"\",AVERAGE('Base Data'!A421:T421),\"\")","v":12.299692761678406},6.1462281771847897E-4]
[412,{"$f":"IF('Base Data'!A422<>\"\",AVERAGE('Base Data'!A422:T422),\"\")","v":10.985202562804961},6.1637356955299139E-4]
[413,{"$f":"IF('Base Data'!A423<>\"\",AVERAGE('Base Data'!A423:T423),\"\")","v":11.242842239165762},6.1845623341132572E-4]
[414,{"$f":"IF('Base Data'!A424<>\"\",AVERAGE('Base Data'!A424:T424),\"\")","v":11.586432893951187},6.2038096424364459E-4]
[415,{"$f":"IF('Base Data'!A425<>\"\",AVERAGE('Base Data'!A425:T425),\"\")","v":11.35175899573008},6.2250598865236297E-4]
[416,{"$f":"IF('Base Data'!A426<>\"\",AVERAGE('Base Data'!A426:T426),\"\")","v":11.897629466435239},6.2369434410595266E-4]
[417,{"$f":"IF('Base Data'!A427<>\"\",AVERAGE('Base Data'!A427:T427),\"\")","v":11.534856205442383},6.257135111465659E-4]
[418,{"$f":"IF('Base Data'!A428<>\"\",AVERAGE('Base Data'!A428:T428),\"\")","v":11.51059087161449},6.2777092206922418E-4]
[419,{"$f":"IF('Base Data'!A429<>\"\",AVERAGE('Base Data'!A429:T429),\"\")","v":10.446397012055224},6.2762207140111754E-4]
[420,{"$f":"IF('Base Data'!A430<>\"\",AVERAGE('Base Data'!A430:T430),\"\")","v":12.04746612852494},6.2825254838531734E-4]
[421,{"$f":"IF('Base Data'!A431<>\"\",AVERAGE('Base Data'!A431:T431),\"\")","v":10.22109439519468},6.2675104748578857E-4]
[422,{"$f":"IF('Base Data'!A432<>\"\",AVERAGE('Base Data'!A432:T432),\"\")","v":11.537638155763984},6.2879608536443767E-4]
[423,{"$f":"IF('Base Data'!A433<>\"\",AVERAGE('Base Data'!A433:T433),\"\")","v":11.315849982225499},6.3098051849706674E-4]
[424,{"$f":"IF('Base Data'!A434<>\"\",AVERAGE('Base Data'!A434:T434),\"\")","v":11.707558643058812},6.3274553439567581E-4]
[425,{"$f":"IF('Base Data'!A435<>\"\",AVERAGE('Base Data'!A435:T435),\"\")","v":11.00182159443187},6.3462536358929126E-4]
[426,{"$f":"IF('Base Data'!A436<>\"\",AVERAGE('Base Data'!A436:T436),\"\")","v":11.833929888201187},6.3606781020452232E-4]
[427,{"$f":"IF('Base Data'!A437<>\"\",AVERAGE('Base Data'!A437:T437),\"\")","v":10.39570542918344},6.3562586730870469E-4]
[428,{"$f":"IF('Base Data'!A438<>\"\",AVERAGE('Base Data'!A438:T438),\"\")","v":11.854596813083688},6.3701177326289105E-4]
[429,{"$f":"IF('Base Data'!A439<>\"\",AVERAGE('Base Data'!A439:T439),\"\")","v":11.091911228753997},6.3907363811761787E-4]
[430,{"$f":"IF('Base Data'!A440<>\"\",AVERAGE('Base Data'!A440:T440),\"\")","v":11.678677037852335},6.409468576544262E-4]
[431,{"$f":"IF('Base Data'!A441<>\"\",AVERAGE('Base Data'!A441:T441),\"\")","v":10.894473414127395},6.4261733858955684E-4]
[432,{"$f":"IF('Base Data'!A442<>\"\",AVERAGE('Base Data'!A442:T442),\"\")","v":11.109455639489955},6.4473408919912985E-4]
[433,{"$f":"IF('Base Data'!A443<>\"\",AVERAGE('Base Data'!A443:T443),\"\")","v":11.455893704358601},6.4696558785016709E-4]
[434,{"$f":"IF('Base Data'!A444<>\"\",AVERAGE('Base Data'!A444:T444),\"\")","v":11.596929348515827},6.4903486922368136E-4]
[435,{"$f":"IF('Base Data'!A445<>\"\",AVERAGE('Base Data'!A445:T445),\"\")","v":11.228009636685552},6.5130568877005686E-4]
[436,{"$f":"IF('Base Data'!A446<>\"\",AVERAGE('Base Data'!A446:T446),\"\")","v":11.705134371085624},6.5317740001289554E-4]
[437,{"$f":"IF('Base Data'!A447<>\"\",AVERAGE('Base Data'!A447:T447),\"\")","v":10.808254181666715},6.5464154032095852E-4]
[438,{"$f":"IF('Base Data'!A448<>\"\",AVERAGE('Base Data'!A448:T448),\"\")","v":11.720811865847008},6.564926713797201E-4]
[439,{"$f":"IF('Base Data'!A449<>\"\",AVERAGE('Base Data'!A449:T449),\"\")","v":10.110493713925797},6.5408930486562304E-4]
[440,{"$f":"IF('Base Data'!A450<>\"\",AVERAGE('Base Data'!A450:T450),\"\")","v":12.492637759844316},6.5211401376641203E-4]
[441,{"$f":"IF('Base Data'!A451<>\"\",AVERAGE('Base Data'!A451:T451),\"\")","v":10.664609004684346},6.5302887102068434E-4]
[442,{"$f":"IF('Base Data'!A452<>\"\",AVERAGE('Base Data'!A452:T452),\"\")","v":11.811070864887004},6.5463214548913738E-4]
[443,{"$f":"IF('Base Data'!A453<>\"\",AVERAGE('Base Data'!A453:T453),\"\")","v":10.835703738227332},6.5619663806949042E-4]
[444,{"$f":"IF('Base Data'!A454<>\"\",AVERAGE('Base Data'!A454:T454),\"\")","v":12.025192556716284},6.569966193230815E-4]
[445,{"$f":"IF('Base Data'!A455<>\"\",AVERAGE('Base Data'!A455:T455),\"\")","v":10.862365126026409},6.586570577173141E-4]
[446,{"$f":"IF('Base Data'!A456<>\"\",AVERAGE('Base Data'!A456:T456),\"\")","v":11.969505245889724},6.5970475801480663E-4]
[447,{"$f":"IF('Base Data'!A457<>\"\",AVERAGE('Base Data'!A457:T457),\"\")","v":10.213760936682533},6.580028281545369E-4]
[448,{"$f":"IF('Base Data'!A458<>\"\",AVERAGE('Base Data'!A458:T458),\"\")","v":13.394261485586878},6.4635615495337636E-4]
[449,{"$f":"IF('Base Data'!A459<>\"\",AVERAGE('Base Data'!A459:T459),\"\")","v":10.844323278172581},6.4793373297068703E-4]
[450,{"$f":"IF('Base Data'!A460<>\"\",AVERAGE('Base Data'!A460:T460),\"\")","v":12.367171516948478},6.4671282231121285E-4]
[{"$f":"IF(B458<>\"\",A457+1,\"\")","v":451},{"$f":"IF('Base Data'!A461<>\"\",AVERAGE('Base Data'!A461:T461),\"\")","v":10.748624560139699},6.4795942894403462E-4]
[452,{"$f":"IF('Base Data'!A462<>\"\",AVERAGE('Base Data'!A462:T462),\"\")","v":12.33559108480361},6.4693162398934045E-4]
[453,{"$f":"IF('Base Data'!A463<>\"\",AVERAGE('Base Data'!A463:T463),\"\")","v":10.644483724996501},6.4774193229051363E-4]
[454,{"$f":"IF('Base Data'!A464<>\"\",AVERAGE('Base Data'!A464:T464),\"\")","v":11.525395563907841},6.4998917282254752E-4]
[455,{"$f":"IF('Base Data'!A465<>\"\",AVERAGE('Base Data'!A465:T465),\"\")","v":9.9525052647503305},6.4598405443673317E-4]
[456,{"$f":"IF('Base Data'!A466<>\"\",AVERAGE('Base Data'!A466:T466),\"\")","v":11.726069356898382},6.4783169509077636E-4]
[457,{"$f":"IF('Base Data'!A467<>\"\",AVERAGE('Base Data'!A467:T467),\"\")","v":10.766851282248888},6.4914729496136781E-4]
[458,{"$f":"IF('Base Data'!A468<>\"\",AVERAGE('Base Data'!A468:T468),\"\")","v":11.34491836085299},6.5154864030385795E-4]
[459,{"$f":"IF('Base Data'!A469<>\"\",AVERAGE('Base Data'!A469:T469),\"\")","v":11.464370006237843},6.5390174771532599E-4]
[460,{"$f":"IF('Base Data'!A470<>\"\",AVERAGE('Base Data'!A470:T470),\"\")","v":11.293291671683628},6.5632593821275502E-4]
[461,{"$f":"IF('Base Data'!A471<>\"\",AVERAGE('Base Data'!A471:T471),\"\")","v":11.623965980431015},6.5846832693335652E-4]
[462,{"$f":"IF('Base Data'!A472<>\"\",AVERAGE('Base Data'!A472:T472),\"\")","v":11.712132069587536},6.6041323182127864E-4]
[463,{"$f":"IF('Base Data'!A473<>\"\",AVERAGE('Base Data'!A473:T473),\"\")","v":11.185911722032918},6.628092266345348E-4]
[464,{"$f":"IF('Base Data'!A474<>\"\",AVERAGE('Base Data'!A474:T474),\"\")","v":11.219718299150028},6.6524743180012994E-4]
[465,{"$f":"IF('Base Data'!A475<>\"\",AVERAGE('Base Data'!A475:T475),\"\")","v":11.164926525043764},6.6764661487168973E-4]
[466,{"$f":"IF('Base Data'!A476<>\"\",AVERAGE('Base Data'!A476:T476),\"\")","v":12.112918183160156},6.6798851232030283E-4]
[467,{"$f":"IF('Base Data'!A477<>\"\",AVERAGE('Base Data'!A477:T477),\"\")","v":11.355295928417201},6.7049914227473308E-4]
[468,{"$f":"IF('Base Data'!A478<>\"\",AVERAGE('Base Data'!A478:T478),\"\")","v":10.906362606403453},6.7239642749102491E-4]
[469,{"$f":"IF('Base Data'!A479<>\"\",AVERAGE('Base Data'!A479:T479),\"\")","v":11.640162946349459},6.7458970642633059E-4]
[470,{"$f":"IF('Base Data'!A480<>\"\",AVERAGE('Base Data'!A480:T480),\"\")","v":11.182974437353828},6.7706692226916917E-4]
[471,{"$f":"IF('Base Data'!A481<>\"\",AVERAGE('Base Data'!A481:T481),\"\")","v":12.226193473454947},6.7673641350205827E-4]
[472,{"$f":"IF('Base Data'!A482<>\"\",AVERAGE('Base Data'!A482:T482),\"\")","v":11.24222632848995},6.792809577615736E-4]
[473,{"$f":"IF('Base Data'!A483<>\"\",AVERAGE('Base Data'!A483:T483),\"\")","v":12.272441305171144},6.7862642063166848E-4]
[474,{"$f":"IF('Base Data'!A484<>\"\",AVERAGE('Base Data'!A484:T484),\"\")","v":10.222225173454223},6.7679523632369618E-4]
[475,{"$f":"IF('Base Data'!A485<>\"\",AVERAGE('Base Data'!A485:T485),\"\")","v":11.9144009387593},6.7812184563369974E-4]
[476,{"$f":"IF('Base Data'!A486<>\"\",AVERAGE('Base Data'!A486:T486),\"\")","v":10.560764113646259},6.7857393423806302E-4]
[477,{"$f":"IF('Base Data'!A487<>\"\",AVERAGE('Base Data'!A487:T487),\"\")","v":11.932003967483215},6.7983145645277563E-4]
[478,{"$f":"IF('Base Data'!A488<>\"\",AVERAGE('Base Data'!A488:T488),\"\")","v":10.365402191381099},6.7903710921670129E-4]
[479,{"$f":"IF('Base Data'!A489<>\"\",AVERAGE('Base Data'!A489:T489),\"\")","v":12.569594412151678},6.7593862319133692E-4]
[480,{"$f":"IF('Base Data'!A490<>\"\",AVERAGE('Base Data'!A490:T490),\"\")","v":10.845823346388576},6.776897829746546E-4]
[481,{"$f":"IF('Base Data'!A491<>\"\",AVERAGE('Base Data'!A491:T491),\"\")","v":11.615503443529715},6.7999678522033416E-4]
[482,{"$f":"IF('Base Data'!A492<>\"\",AVERAGE('Base Data'!A492:T492),\"\")","v":11.064601922646814},6.8237378444203304E-4]
[483,{"$f":"IF('Base Data'!A493<>\"\",AVERAGE('Base Data'!A493:T493),\"\")","v":11.566334480902871},6.8480486652325442E-4]
[484,{"$f":"IF('Base Data'!A494<>\"\",AVERAGE('Base Data'!A494:T494),\"\")","v":11.582197480125592},6.8721898169081086E-4]
[485,{"$f":"IF('Base Data'!A495<>\"\",AVERAGE('Base Data'!A495:T495),\"\")","v":11.675767817716254},6.8942961478897892E-4]
[486,{"$f":"IF('Base Data'!A496<>\"\",AVERAGE('Base Data'!A496:T496),\"\")","v":10.844656617532399},6.9124293343004518E-4]
[487,{"$f":"IF('Base Data'!A497<>\"\",AVERAGE('Base Data'!A497:T497),\"\")","v":11.365489838177217},6.9393956800922751E-4]
[488,{"$f":"IF('Base Data'!A498<>\"\",AVERAGE('Base Data'!A498:T498),\"\")","v":11.561785773156789},6.9644459075830149E-4]
[489,{"$f":"IF('Base Data'!A499<>\"\",AVERAGE('Base Data'!A499:T499),\"\")","v":11.672694654920814},6.9871268149569873E-4]
[490,{"$f":"IF('Base Data'!A500<>\"\",AVERAGE('Base Data'!A500:T500),\"\")","v":11.185102743936806},7.0138607251674545E-4]
[491,{"$f":"IF('Base Data'!A501<>\"\",AVERAGE('Base Data'!A501:T501),\"\")","v":11.43598679924677},7.041020818797009E-4]
[492,{"$f":"IF('Base Data'!A502<>\"\",AVERAGE('Base Data'!A502:T502),\"\")","v":11.337371400672883},7.0688175044568348E-4]
[493,{"$f":"IF('Base Data'!A503<>\"\",AVERAGE('Base Data'!A503:T503),\"\")","v":10.587573149162584},7.0755306916678708E-4]
[494,{"$f":"IF('Base Data'!A504<>\"\",AVERAGE('Base Data'!A504:T504),\"\")","v":11.337402709314144},7.1035737582789062E-4]
[495,{"$f":"IF('Base Data'!A505<>\"\",AVERAGE('Base Data'!A505:T505),\"\")","v":10.728055745505092},7.11768482637874E-4]
[496,{"$f":"IF('Base Data'!A506<>\"\",AVERAGE('Base Data'!A506:T506),\"\")","v":11.641913906827307},7.1420937894239314E-4]
[497,{"$f":"IF('Base Data'!A507<>\"\",AVERAGE('Base Data'!A507:T507),\"\")","v":11.154583142488018},7.1694026271346383E-4]
[498,{"$f":"IF('Base Data'!A508<>\"\",AVERAGE('Base Data'!A508:T508),\"\")","v":10.93802132536948},7.192014939759329E-4]
[499,{"$f":"IF('Base Data'!A509<>\"\",AVERAGE('Base Data'!A509:T509),\"\")","v":10.694190577536366},7.2047326660156245E-4]
[500,{"$f":"IF('Base Data'!A510<>\"\",AVERAGE('Base Data'!A510:T510),\"\")","v":11.165864350382481},7.2325634328526797E-4]
[501,{"$f":"IF('Base Data'!A511<>\"\",AVERAGE('Base Data'!A511:T511),\"\")","v":11.660098252278981},7.2572251327253042E-4]
[502,{"$f":"IF('Base Data'!A512<>\"\",AVERAGE('Base Data'!A512:T512),\"\")","v":11.215065799674111},7.2859329397774344E-4]
[503,{"$f":"IF('Base Data'!A513<>\"\",AVERAGE('Base Data'!A513:T513),\"\")","v":11.713602440735684},7.3093113864497765E-4]
[504,{"$f":"IF('Base Data'!A514<>\"\",AVERAGE('Base Data'!A514:T514),\"\")","v":11.613422994253963},7.3355340115963932E-4]
[505,{"$f":"IF('Base Data'!A515<>\"\",AVERAGE('Base Data'!A515:T515),\"\")","v":11.593213502880934},7.3623569689048826E-4]
[506,{"$f":"IF('Base Data'!A516<>\"\",AVERAGE('Base Data'!A516:T516),\"\")","v":11.267726824549992},7.3921242505931798E-4]
[507,{"$f":"IF('Base Data'!A517<>\"\",AVERAGE('Base Data'!A517:T517),\"\")","v":11.484344833487873},7.4211772147390518E-4]
[508,{"$f":"IF('Base Data'!A518<>\"\",AVERAGE('Base Data'!A518:T518),\"\")","v":10.948883640460988},7.4455011886889158E-4]
[509,{"$f":"IF('Base Data'!A519<>\"\",AVERAGE('Base Data'!A519:T519),\"\")","v":12.172323481537644},7.4461352671250259E-4]
[510,{"$f":"IF('Base Data'!A520<>\"\",AVERAGE('Base Data'!A520:T520),\"\")","v":11.611282571332483},7.4732038151497434E-4]
[511,{"$f":"IF('Base Data'!A521<>\"\",AVERAGE('Base Data'!A521:T521),\"\")","v":11.480626666814796},7.5028449481163442E-4]
[512,{"$f":"IF('Base Data'!A522<>\"\",AVERAGE('Base Data'!A522:T522),\"\")","v":11.82927530208288},7.5229370554165756E-4]
[513,{"$f":"IF('Base Data'!A523<>\"\",AVERAGE('Base Data'!A523:T523),\"\")","v":11.278761507911486},7.5538396354848036E-4]
[514,{"$f":"IF('Base Data'!A524<>\"\",AVERAGE('Base Data'!A524:T524),\"\")","v":11.692543204562938},7.5792352962422943E-4]
[{"$f":"IF(B522<>\"\",A521+1,\"\")","v":515},{"$f":"IF('Base Data'!A525<>\"\",AVERAGE('Base Data'!A525:T525),\"\")","v":11.470572078113268},7.6096566450839303E-4]
[516,{"$f":"IF('Base Data'!A526<>\"\",AVERAGE('Base Data'!A526:T526),\"\")","v":11.898716067260242},7.6269561494306682E-4]
[517,{"$f":"IF('Base Data'!A527<>\"\",AVERAGE('Base Data'!A527:T527),\"\")","v":11.533873668614946},7.6566933169369613E-4]
[518,{"$f":"IF('Base Data'!A528<>\"\",AVERAGE('Base Data'!A528:T528),\"\")","v":11.346823738569986},7.688533295192294E-4]
[519,{"$f":"IF('Base Data'!A529<>\"\",AVERAGE('Base Data'!A529:T529),\"\")","v":11.424145262722643},7.7201406160990393E-4]
[520,{"$f":"IF('Base Data'!A530<>\"\",AVERAGE('Base Data'!A530:T530),\"\")","v":11.701065521832158},7.7461000833275225E-4]
[521,{"$f":"IF('Base Data'!A531<>\"\",AVERAGE('Base Data'!A531:T531),\"\")","v":11.428904083345552},7.7780235406595761E-4]
[522,{"$f":"IF('Base Data'!A532<>\"\",AVERAGE('Base Data'!A532:T532),\"\")","v":11.269723315615902},7.8105546349998244E-4]
[523,{"$f":"IF('Base Data'!A533<>\"\",AVERAGE('Base Data'!A533:T533),\"\")","v":11.334231072382845},7.8434005025062648E-4]
[524,{"$f":"IF('Base Data'!A534<>\"\",AVERAGE('Base Data'!A534:T534),\"\")","v":11.72933960450813},7.86901618767313E-4]
[525,{"$f":"IF('Base Data'!A535<>\"\",AVERAGE('Base Data'!A535:T535),\"\")","v":11.847191579115457},7.8898227162391621E-4]
[526,{"$f":"IF('Base Data'!A536<>\"\",AVERAGE('Base Data'!A536:T536),\"\")","v":11.507758414416369},7.9216023639893296E-4]
[527,{"$f":"IF('Base Data'!A537<>\"\",AVERAGE('Base Data'!A537:T537),\"\")","v":12.601734192099485},7.8810394854766138E-4]
[528,{"$f":"IF('Base Data'!A538<>\"\",AVERAGE('Base Data'!A538:T538),\"\")","v":11.512108341274006},7.9127806893595099E-4]
[529,{"$f":"IF('Base Data'!A539<>\"\",AVERAGE('Base Data'!A539:T539),\"\")","v":12.068364739876845},7.9207082310646783E-4]
[530,{"$f":"IF('Base Data'!A540<>\"\",AVERAGE('Base Data'!A540:T540),\"\")","v":11.035573123988828},7.9510124917208335E-4]
[531,{"$f":"IF('Base Data'!A541<>\"\",AVERAGE('Base Data'!A541:T541),\"\")","v":11.008651846104934},7.9807749936401087E-4]
[532,{"$f":"IF('Base Data'!A542<>\"\",AVERAGE('Base Data'!A542:T542),\"\")","v":11.377864445098485},8.0148071850468731E-4]
[533,{"$f":"IF('Base Data'!A543<>\"\",AVERAGE('Base Data'!A543:T543),\"\")","v":11.881026526817204},8.0344042333316116E-4]
[534,{"$f":"IF('Base Data'!A544<>\"\",AVERAGE('Base Data'!A544:T544),\"\")","v":12.255482505388834},8.0278103524432018E-4]
[535,{"$f":"IF('Base Data'!A545<>\"\",AVERAGE('Base Data'!A545:T545),\"\")","v":11.282562496193846},8.0624105814095773E-4]
[536,{"$f":"IF('Base Data'!A546<>\"\",AVERAGE('Base Data'!A546:T546),\"\")","v":11.365199249305252},8.0971355061067304E-4]
[537,{"$f":"IF('Base Data'!A547<>\"\",AVERAGE('Base Data'!A547:T547),\"\")","v":11.154370434645193},8.1310800159288706E-4]
[538,{"$f":"IF('Base Data'!A548<>\"\",AVERAGE('Base Data'!A548:T548),\"\")","v":11.577088160894302},8.1630590490726503E-4]
[539,{"$f":"IF('Base Data'!A549<>\"\",AVERAGE('Base Data'!A549:T549),\"\")","v":11.490688445210264},8.1970517711963905E-4]
[540,{"$f":"IF('Base Data'!A550<>\"\",AVERAGE('Base Data'!A550:T550),\"\")","v":10.74647222238743},8.2176974365179907E-4]
[541,{"$f":"IF('Base Data'!A551<>\"\",AVERAGE('Base Data'!A551:T551),\"\")","v":11.340372437552634},8.2535839279034267E-4]
[542,{"$f":"IF('Base Data'!A552<>\"\",AVERAGE('Base Data'!A552:T552),\"\")","v":11.120558214061976},8.2879972679124629E-4]
[543,{"$f":"IF('Base Data'!A553<>\"\",AVERAGE('Base Data'!A553:T553),\"\")","v":11.689668522386693},8.317497408401052E-4]
[544,{"$f":"IF('Base Data'!A554<>\"\",AVERAGE('Base Data'!A554:T554),\"\")","v":11.146275074873369},8.3527926963361163E-4]
[545,{"$f":"IF('Base Data'!A555<>\"\",AVERAGE('Base Data'!A555:T555),\"\")","v":12.07823709177055},8.3610155485772423E-4]
[546,{"$f":"IF('Base Data'!A556<>\"\",AVERAGE('Base Data'!A556:T556),\"\")","v":10.846793540975051},8.3875178614584709E-4]
[547,{"$f":"IF('Base Data'!A557<>\"\",AVERAGE('Base Data'!A557:T557),\"\")","v":11.460336048720322},8.4235739321443168E-4]
[548,{"$f":"IF('Base Data'!A558<>\"\",AVERAGE('Base Data'!A558:T558),\"\")","v":10.37830601306435},8.4181770246950609E-4]
[549,{"$f":"IF('Base Data'!A559<>\"\",AVERAGE('Base Data'!A559:T559),\"\")","v":12.095051966028946},8.4253057785976077E-4]
[550,{"$f":"IF('Base Data'!A560<>\"\",AVERAGE('Base Data'!A560:T560),\"\")","v":10.348955025713796},8.4169068707050842E-4]
[551,{"$f":"IF('Base Data'!A561<>\"\",AVERAGE('Base Data'!A561:T561),\"\")","v":13.126414425523203},8.2902572288805123E-4]
[552,{"$f":"IF('Base Data'!A562<>\"\",AVERAGE('Base Data'!A562:T562),\"\")","v":10.230304319565983},8.2690725013481628E-4]
[553,{"$f":"IF('Base Data'!A563<>\"\",AVERAGE('Base Data'!A563:T563),\"\")","v":12.499246835833409},8.2350460896987449E-4]
[554,{"$f":"IF('Base Data'!A564<>\"\",AVERAGE('Base Data'!A564:T564),\"\")","v":9.7325319836245203},8.1464203269986427E-4]
[555,{"$f":"IF('Base Data'!A565<>\"\",AVERAGE('Base Data'!A565:T565),\"\")","v":12.0545598376717},8.1551197857915184E-4]
[556,{"$f":"IF('Base Data'!A566<>\"\",AVERAGE('Base Data'!A566:T566),\"\")","v":10.347685606468408},8.1446691637202613E-4]
[557,{"$f":"IF('Base Data'!A567<>\"\",AVERAGE('Base Data'!A567:T567),\"\")","v":11.805467439794855},8.1690834760690298E-4]
[558,{"$f":"IF('Base Data'!A568<>\"\",AVERAGE('Base Data'!A568:T568),\"\")","v":10.767144720038182},8.1909147676219015E-4]
[559,{"$f":"IF('Base Data'!A569<>\"\",AVERAGE('Base Data'!A569:T569),\"\")","v":11.173373503178714},8.227185966554752E-4]
[560,{"$f":"IF('Base Data'!A570<>\"\",AVERAGE('Base Data'!A570:T570),\"\")","v":10.92614247585654},8.2569366867899386E-4]
[561,{"$f":"IF('Base Data'!A571<>\"\",AVERAGE('Base Data'!A571:T571),\"\")","v":11.263153515969947},8.2945474201613677E-4]
[562,{"$f":"IF('Base Data'!A572<>\"\",AVERAGE('Base Data'!A572:T572),\"\")","v":11.028144494275629},8.3282702258878573E-4]
[563,{"$f":"IF('Base Data'!A573<>\"\",AVERAGE('Base Data'!A573:T573),\"\")","v":11.738197547016313},8.3570461884842069E-4]
[564,{"$f":"IF('Base Data'!A574<>\"\",AVERAGE('Base Data'!A574:T574),\"\")","v":11.616900838669695},8.3906373537930208E-4]
[565,{"$f":"IF('Base Data'!A575<>\"\",AVERAGE('Base Data'!A575:T575),\"\")","v":11.960140858394473},8.4070551886288459E-4]
[566,{"$f":"IF('Base Data'!A576<>\"\",AVERAGE('Base Data'!A576:T576),\"\")","v":11.657543874053044},8.4395250667205807E-4]
[567,{"$f":"IF('Base Data'!A577<>\"\",AVERAGE('Base Data'!A577:T577),\"\")","v":10.231345913686875},8.4160883567297243E-4]
[568,{"$f":"IF('Base Data'!A578<>\"\",AVERAGE('Base Data'!A578:T578),\"\")","v":11.548274279527021},8.4522007521278179E-4]
[569,{"$f":"IF('Base Data'!A579<>\"\",AVERAGE('Base Data'!A579:T579),\"\")","v":11.176028387269627},8.4905530517974241E-4]
[570,{"$f":"IF('Base Data'!A580<>\"\",AVERAGE('Base Data'!A580:T580),\"\")","v":11.565638554003758},8.5266966588160042E-4]
[571,{"$f":"IF('Base Data'!A581<>\"\",AVERAGE('Base Data'!A581:T581),\"\")","v":10.728276734485899},8.5479314175846582E-4]
[572,{"$f":"IF('Base Data'!A582<>\"\",AVERAGE('Base Data'!A582:T582),\"\")","v":11.24884566424776},8.5877886539193914E-4]
[573,{"$f":"IF('Base Data'!A583<>\"\",AVERAGE('Base Data'!A583:T583),\"\")","v":11.600160732962951},8.6236180310925235E-4]
[574,{"$f":"IF('Base Data'!A584<>\"\",AVERAGE('Base Data'!A584:T584),\"\")","v":11.206190659968618},8.6636147680579586E-4]
[575,{"$f":"IF('Base Data'!A585<>\"\",AVERAGE('Base Data'!A585:T585),\"\")","v":11.408009699189789},8.7040367819058513E-4]
[576,{"$f":"IF('Base Data'!A586<>\"\",AVERAGE('Base Data'!A586:T586),\"\")","v":11.101882966860568},8.7427363425991418E-4]
[577,{"$f":"IF('Base Data'!A587<>\"\",AVERAGE('Base Data'!A587:T587),\"\")","v":10.966757421419299},8.7774503836453234E-4]
[578,{"$f":"IF('Base Data'!A588<>\"\",AVERAGE('Base Data'!A588:T588),\"\")","v":11.96728309684956},8.7950960755985139E-4]
[{"$f":"IF(B586<>\"\",A585+1,\"\")","v":579},{"$f":"IF('Base Data'!A589<>\"\",AVERAGE('Base Data'!A589:T589),\"\")","v":11.155644062656018},8.835614781801392E-4]
[580,{"$f":"IF('Base Data'!A590<>\"\",AVERAGE('Base Data'!A590:T590),\"\")","v":11.929507826388861},8.8561538556443701E-4]
[581,{"$f":"IF('Base Data'!A591<>\"\",AVERAGE('Base Data'!A591:T591),\"\")","v":11.226976729437576},8.8981636627065224E-4]
[582,{"$f":"IF('Base Data'!A592<>\"\",AVERAGE('Base Data'!A592:T592),\"\")","v":11.301693993957548},8.9408892456628217E-4]
[583,{"$f":"IF('Base Data'!A593<>\"\",AVERAGE('Base Data'!A593:T593),\"\")","v":12.196076793666824},8.9386502313896045E-4]
[584,{"$f":"IF('Base Data'!A594<>\"\",AVERAGE('Base Data'!A594:T594),\"\")","v":11.13514989141302},8.9800009171664061E-4]
[585,{"$f":"IF('Base Data'!A595<>\"\",AVERAGE('Base Data'!A595:T595),\"\")","v":12.256300443228504},8.9710944869971258E-4]
[586,{"$f":"IF('Base Data'!A596<>\"\",AVERAGE('Base Data'!A596:T596),\"\")","v":10.775079682208897},8.9979022190066779E-4]
[587,{"$f":"IF('Base Data'!A597<>\"\",AVERAGE('Base Data'!A597:T597),\"\")","v":12.338193291650688},8.9791147162118952E-4]
[588,{"$f":"IF('Base Data'!A598<>\"\",AVERAGE('Base Data'!A598:T598),\"\")","v":11.539118529101382},9.0196560165097515E-4]
[589,{"$f":"IF('Base Data'!A599<>\"\",AVERAGE('Base Data'!A599:T599),\"\")","v":12.343954581844528},8.9994930923162364E-4]
[590,{"$f":"IF('Base Data'!A600<>\"\",AVERAGE('Base Data'!A600:T600),\"\")","v":10.729886391313723},9.0238267974713951E-4]
[591,{"$f":"IF('Base Data'!A601<>\"\",AVERAGE('Base Data'!A601:T601),\"\")","v":12.496524044754484},8.9826349201957705E-4]
[592,{"$f":"IF('Base Data'!A602<>\"\",AVERAGE('Base Data'!A602:T602),\"\")","v":10.553847335783727},8.9929314694351834E-4]
[593,{"$f":"IF('Base Data'!A603<>\"\",AVERAGE('Base Data'!A603:T603),\"\")","v":11.089953663288275},9.0345016901979467E-4]
[594,{"$f":"IF('Base Data'!A604<>\"\",AVERAGE('Base Data'!A604:T604),\"\")","v":10.914522982676948},9.0698725929021869E-4]
[595,{"$f":"IF('Base Data'!A605<>\"\",AVERAGE('Base Data'!A605:T605),\"\")","v":10.80820594351678},9.099642279895775E-4]
[596,{"$f":"IF('Base Data'!A606<>\"\",AVERAGE('Base Data'!A606:T606),\"\")","v":10.602397270637422},9.1142338913517533E-4]
[597,{"$f":"IF('Base Data'!A607<>\"\",AVERAGE('Base Data'!A607:T607),\"\")","v":11.04322464453632},9.1552687164568754E-4]
[598,{"$f":"IF('Base Data'!A608<>\"\",AVERAGE('Base Data'!A608:T608),\"\")","v":10.441102900167303},9.1540113688901579E-4]
[599,{"$f":"IF('Base Data'!A609<>\"\",AVERAGE('Base Data'!A609:T609),\"\")","v":11.452694333350207},9.1985874176025387E-4]
[600,{"$f":"IF('Base Data'!A610<>\"\",AVERAGE('Base Data'!A610:T610),\"\")","v":9.953031366909439},9.1286464427609395E-4]
[601,{"$f":"IF('Base Data'!A611<>\"\",AVERAGE('Base Data'!A611:T611),\"\")","v":11.680289798792348},9.1660949594519787E-4]
[602,{"$f":"IF('Base Data'!A612<>\"\",AVERAGE('Base Data'!A612:T612),\"\")","v":10.680847218437611},9.1868842415581244E-4]
[603,{"$f":"IF('Base Data'!A613<>\"\",AVERAGE('Base Data'!A613:T613),\"\")","v":11.547636770865582},9.2298801353228068E-4]
[604,{"$f":"IF('Base Data'!A614<>\"\",AVERAGE('Base Data'!A614:T614),\"\")","v":10.826217683611057},9.2613597956056723E-4]
[605,{"$f":"IF('Base Data'!A615<>\"\",AVERAGE('Base Data'!A615:T615),\"\")","v":11.869327229245206},9.288628113819946E-4]
[606,{"$f":"IF('Base Data'!A616<>\"\",AVERAGE('Base Data'!A616:T616),\"\")","v":11.038564996290944},9.3310277678382107E-4]
[607,{"$f":"IF('Base Data'!A617<>\"\",AVERAGE('Base Data'!A617:T617),\"\")","v":12.265678300851963},9.3197226772602276E-4]
[608,{"$f":"IF('Base Data'!A618<>\"\",AVERAGE('Base Data'!A618:T618),\"\")","v":10.805589614920265},9.3506002300451413E-4]
[609,{"$f":"IF('Base Data'!A619<>\"\",AVERAGE('Base Data'!A619:T619),\"\")","v":12.793954296764223},9.2542117869360207E-4]
[610,{"$f":"IF('Base Data'!A620<>\"\",AVERAGE('Base Data'!A620:T620),\"\")","v":10.403604707681241},9.2474134478479314E-4]
[611,{"$f":"IF('Base Data'!A621<>\"\",AVERAGE('Base Data'!A621:T621),\"\")","v":12.770931148729867},9.1534662302450822E-4]
[612,{"$f":"IF('Base Data'!A622<>\"\",AVERAGE('Base Data'!A622:T622),\"\")","v":9.9893656423589565},9.0843267772995411E-4]
[613,{"$f":"IF('Base Data'!A623<>\"\",AVERAGE('Base Data'!A623:T623),\"\")","v":12.878182599120365},8.9664014253895653E-4]
[614,{"$f":"IF('Base Data'!A624<>\"\",AVERAGE('Base Data'!A624:T624),\"\")","v":10.433257019176589},8.9612899371073322E-4]
[615,{"$f":"IF('Base Data'!A625<>\"\",AVERAGE('Base Data'!A625:T625),\"\")","v":12.151943099639738},8.9598591956827371E-4]
[616,{"$f":"IF('Base Data'!A626<>\"\",AVERAGE('Base Data'!A626:T626),\"\")","v":10.773177609829514},8.9871499569774322E-4]
[617,{"$f":"IF('Base Data'!A627<>\"\",AVERAGE('Base Data'!A627:T627),\"\")","v":11.466422306276531},9.0325780253521306E-4]
[618,{"$f":"IF('Base Data'!A628<>\"\",AVERAGE('Base Data'!A628:T628),\"\")","v":11.178314326211012},9.0788685944776404E-4]
[619,{"$f":"IF('Base Data'!A629<>\"\",AVERAGE('Base Data'!A629:T629),\"\")","v":11.827907763852147},9.1080462173081503E-4]
[620,{"$f":"IF('Base Data'!A630<>\"\",AVERAGE('Base Data'!A630:T630),\"\")","v":11.043320837101065},9.151281364951293E-4]
[621,{"$f":"IF('Base Data'!A631<>\"\",AVERAGE('Base Data'!A631:T631),\"\")","v":12.065480236137031},9.1595771327998153E-4]
[622,{"$f":"IF('Base Data'!A632<>\"\",AVERAGE('Base Data'!A632:T632),\"\")","v":11.573709926065625},9.2032080372545584E-4]
[623,{"$f":"IF('Base Data'!A633<>\"\",AVERAGE('Base Data'!A633:T633),\"\")","v":11.454078289254618},9.2506667724719896E-4]
[624,{"$f":"IF('Base Data'!A634<>\"\",AVERAGE('Base Data'!A634:T634),\"\")","v":11.761648968104328},9.2852452256944444E-4]
[625,{"$f":"IF('Base Data'!A635<>\"\",AVERAGE('Base Data'!A635:T635),\"\")","v":11.446190269197725},9.3335177280764526E-4]
[626,{"$f":"IF('Base Data'!A636<>\"\",AVERAGE('Base Data'!A636:T636),\"\")","v":11.666417710198163},9.3741733236892564E-4]
[627,{"$f":"IF('Base Data'!A637<>\"\",AVERAGE('Base Data'!A637:T637),\"\")","v":11.285402087854171},9.4246177924742019E-4]
[628,{"$f":"IF('Base Data'!A638<>\"\",AVERAGE('Base Data'!A638:T638),\"\")","v":11.440850980404935},9.4741059796323631E-4]
[629,{"$f":"IF('Base Data'!A639<>\"\",AVERAGE('Base Data'!A639:T639),\"\")","v":11.71749874735654},9.5127938871752873E-4]
[630,{"$f":"IF('Base Data'!A640<>\"\",AVERAGE('Base Data'!A640:T640),\"\")","v":10.5908887972271},9.5272171370484665E-4]
[631,{"$f":"IF('Base Data'!A641<>\"\",AVERAGE('Base Data'!A641:T641),\"\")","v":12.456523453796647},9.4806438132359985E-4]
[632,{"$f":"IF('Base Data'!A642<>\"\",AVERAGE('Base Data'!A642:T642),\"\")","v":10.618365160799332},9.4977468067423498E-4]
[633,{"$f":"IF('Base Data'!A643<>\"\",AVERAGE('Base Data'!A643:T643),\"\")","v":12.905907872961473},9.3572146645721122E-4]
[634,{"$f":"IF('Base Data'!A644<>\"\",AVERAGE('Base Data'!A644:T644),\"\")","v":10.824457548858888},9.3916870277535071E-4]
[635,{"$f":"IF('Base Data'!A645<>\"\",AVERAGE('Base Data'!A645:T645),\"\")","v":12.55093188442034},9.3247800932286403E-4]
[636,{"$f":"IF('Base Data'!A646<>\"\",AVERAGE('Base Data'!A646:T646),\"\")","v":10.509523732984032},9.3291858126840345E-4]
[637,{"$f":"IF('Base Data'!A647<>\"\",AVERAGE('Base Data'!A647:T647),\"\")","v":12.255156174265133},9.3106809274744434E-4]
[638,{"$f":"IF('Base Data'!A648<>\"\",AVERAGE('Base Data'!A648:T648),\"\")","v":10.398590243315631},9.3004673353740477E-4]
[639,{"$f":"IF('Base Data'!A649<>\"\",AVERAGE('Base Data'!A649:T649),\"\")","v":11.665972253086679},9.3417155889817223E-4]
[640,{"$f":"IF('Base Data'!A650<>\"\",AVERAGE('Base Data'!A650:T650),\"\")","v":10.81486979534753},9.3757640701196739E-4]
[641,{"$f":"IF('Base Data'!A651<>\"\",AVERAGE('Base Data'!A651:T651),\"\")","v":11.933517545287458},9.3966252772326858E-4]
[642,{"$f":"IF('Base Data'!A652<>\"\",AVERAGE('Base Data'!A652:T652),\"\")","v":12.354496304260906},9.3612369790900432E-4]
[{"$f":"IF(B650<>\"\",A649+1,\"\")","v":643},{"$f":"IF('Base Data'!A653<>\"\",AVERAGE('Base Data'!A653:T653),\"\")","v":11.65946716096308},9.4032955807788312E-4]
[644,{"$f":"IF('Base Data'!A654<>\"\",AVERAGE('Base Data'!A654:T654),\"\")","v":11.967227355970603},9.4201025710269543E-4]
[645,{"$f":"IF('Base Data'!A655<>\"\",AVERAGE('Base Data'!A655:T655),\"\")","v":11.44781277542396},9.4714169756589717E-4]
[646,{"$f":"IF('Base Data'!A656<>\"\",AVERAGE('Base Data'!A656:T656),\"\")","v":11.526030748443166},9.5206681009917774E-4]
[647,{"$f":"IF('Base Data'!A657<>\"\",AVERAGE('Base Data'!A657:T657),\"\")","v":11.950254079439176},9.539484485121798E-4]
[648,{"$f":"IF('Base Data'!A658<>\"\",AVERAGE('Base Data'!A658:T658),\"\")","v":11.680742439355615},9.5813320305841677E-4]
[649,{"$f":"IF('Base Data'!A659<>\"\",AVERAGE('Base Data'!A659:T659),\"\")","v":10.977405151909998},9.6283451002471298E-4]
[650,{"$f":"IF('Base Data'!A660<>\"\",AVERAGE('Base Data'!A660:T660),\"\")","v":11.983937459937426},9.6436321083064025E-4]
[651,{"$f":"IF('Base Data'!A661<>\"\",AVERAGE('Base Data'!A661:T661),\"\")","v":10.715951143327718},9.6722968362694076E-4]
[652,{"$f":"IF('Base Data'!A662<>\"\",AVERAGE('Base Data'!A662:T662),\"\")","v":12.984978705577115},9.4879503698964962E-4]
[653,{"$f":"IF('Base Data'!A663<>\"\",AVERAGE('Base Data'!A663:T663),\"\")","v":11.018919602764303},9.5370796537808751E-4]
[654,{"$f":"IF('Base Data'!A664<>\"\",AVERAGE('Base Data'!A664:T664),\"\")","v":11.721609738263632},9.576217308437041E-4]
[655,{"$f":"IF('Base Data'!A665<>\"\",AVERAGE('Base Data'!A665:T665),\"\")","v":10.926175296124782},9.6212779592345899E-4]
[656,{"$f":"IF('Base Data'!A666<>\"\",AVERAGE('Base Data'!A666:T666),\"\")","v":11.748657048846482},9.6589403207830466E-4]
[657,{"$f":"IF('Base Data'!A667<>\"\",AVERAGE('Base Data'!A667:T667),\"\")","v":10.625118649621607},9.6786009548243746E-4]
[658,{"$f":"IF('Base Data'!A668<>\"\",AVERAGE('Base Data'!A668:T668),\"\")","v":11.338414893659149},9.7351896989515837E-4]
[659,{"$f":"IF('Base Data'!A669<>\"\",AVERAGE('Base Data'!A669:T669),\"\")","v":11.122798410888738},9.7903149350704209E-4]
[660,{"$f":"IF('Base Data'!A670<>\"\",AVERAGE('Base Data'!A670:T670),\"\")","v":11.512137512317324},9.8435879438290089E-4]
[661,{"$f":"IF('Base Data'!A671<>\"\",AVERAGE('Base Data'!A671:T671),\"\")","v":11.251831351327263},9.9018373800248134E-4]
[662,{"$f":"IF('Base Data'!A672<>\"\",AVERAGE('Base Data'!A672:T672),\"\")","v":11.329622145057682},9.9604957073435945E-4]
[663,{"$f":"IF('Base Data'!A673<>\"\",AVERAGE('Base Data'!A673:T673),\"\")","v":11.10719273835773},1.0017141733580435E-3]
[664,{"$f":"IF('Base Data'!A674<>\"\",AVERAGE('Base Data'!A674:T674),\"\")","v":10.354134988504617},9.9998931306909946E-4]
[665,{"$f":"IF('Base Data'!A675<>\"\",AVERAGE('Base Data'!A675:T675),\"\")","v":11.883933219706577},1.002771805073832E-3]
[666,{"$f":"IF('Base Data'!A676<>\"\",AVERAGE('Base Data'!A676:T676),\"\")","v":9.9878134715764997},9.936029878854784E-4]
[667,{"$f":"IF('Base Data'!A677<>\"\",AVERAGE('Base Data'!A677:T677),\"\")","v":11.763051014454039},9.9754430400146804E-4]
[668,{"$f":"IF('Base Data'!A678<>\"\",AVERAGE('Base Data'!A678:T678),\"\")","v":11.012269018697062},1.0028923057578227E-3]
[669,{"$f":"IF('Base Data'!A679<>\"\",AVERAGE('Base Data'!A679:T679),\"\")","v":10.974818533667136},1.0080795358144658E-3]
[670,{"$f":"IF('Base Data'!A680<>\"\",AVERAGE('Base Data'!A680:T680),\"\")","v":11.558921130480059},1.0135379372260165E-3]
[671,{"$f":"IF('Base Data'!A681<>\"\",AVERAGE('Base Data'!A681:T681),\"\")","v":11.389836883669165},1.0196305966533273E-3]
[672,{"$f":"IF('Base Data'!A682<>\"\",AVERAGE('Base Data'!A682:T682),\"\")","v":11.309591487134767},1.025871767244686E-3]
[673,{"$f":"IF('Base Data'!A683<>\"\",AVERAGE('Base Data'!A683:T683),\"\")","v":11.449968874131404},1.0319247854734517E-3]
[674,{"$f":"IF('Base Data'!A684<>\"\",AVERAGE('Base Data'!A684:T684),\"\")","v":10.416510130124863},1.0310947034485947E-3]
[675,{"$f":"IF('Base Data'!A685<>\"\",AVERAGE('Base Data'!A685:T685),\"\")","v":12.448383296852821},1.0246324241206771E-3]
[676,{"$f":"IF('Base Data'!A686<>\"\",AVERAGE('Base Data'!A686:T686),\"\")","v":10.829617844763135},1.0289861496640511E-3]
[677,{"$f":"IF('Base Data'!A687<>\"\",AVERAGE('Base Data'!A687:T687),\"\")","v":11.967131214001293},1.0309143201799231E-3]
[678,{"$f":"IF('Base Data'!A688<>\"\",AVERAGE('Base Data'!A688:T688),\"\")","v":10.181661257776},1.0254949210097119E-3]
[679,{"$f":"IF('Base Data'!A689<>\"\",AVERAGE('Base Data'!A689:T689),\"\")","v":11.570539274395312},1.0311348736286162E-3]
[680,{"$f":"IF('Base Data'!A690<>\"\",AVERAGE('Base Data'!A690:T690),\"\")","v":10.836045654397243},1.0355996082330012E-3]
[681,{"$f":"IF('Base Data'!A691<>\"\",AVERAGE('Base Data'!A691:T691),\"\")","v":12.05933139022207},1.0362375169694199E-3]
[682,{"$f":"IF('Base Data'!A692<>\"\",AVERAGE('Base Data'!A692:T692),\"\")","v":10.338449981061633},1.0338107087251543E-3]
[683,{"$f":"IF('Base Data'!A693<>\"\",AVERAGE('Base Data'!A693:T693),\"\")","v":11.515000924692085},1.0398537125883146E-3]
[684,{"$f":"IF('Base Data'!A694<>\"\",AVERAGE('Base Data'!A694:T694),\"\")","v":10.235605372608791},1.035250516945783E-3]
[685,{"$f":"IF('Base Data'!A695<>\"\",AVERAGE('Base Data'!A695:T695),\"\")","v":11.323829479331351},1.0418446002381245E-3]
[686,{"$f":"IF('Base Data'!A696<>\"\",AVERAGE('Base Data'!A696:T696),\"\")","v":10.656755186052315},1.0443787518843652E-3]
[687,{"$f":"IF('Base Data'!A697<>\"\",AVERAGE('Base Data'!A697:T697),\"\")","v":12.523455550498218},1.0355101221098389E-3]
[688,{"$f":"IF('Base Data'!A698<>\"\",AVERAGE('Base Data'!A698:T698),\"\")","v":10.546907856791625},1.0364493148806392E-3]
[689,{"$f":"IF('Base Data'!A699<>\"\",AVERAGE('Base Data'!A699:T699),\"\")","v":10.656719491398777},1.0389255360931809E-3]
[690,{"$f":"IF('Base Data'!A700<>\"\",AVERAGE('Base Data'!A700:T700),\"\")","v":10.562617737460936},1.0400312382175512E-3]
[691,{"$f":"IF('Base Data'!A701<>\"\",AVERAGE('Base Data'!A701:T701),\"\")","v":11.514102643301694},1.0462969385727117E-3]
[692,{"$f":"IF('Base Data'!A702<>\"\",AVERAGE('Base Data'!A702:T702),\"\")","v":10.899872820405545},1.0514511647359156E-3]
[693,{"$f":"IF('Base Data'!A703<>\"\",AVERAGE('Base Data'!A703:T703),\"\")","v":11.476982181838},1.0579901292784525E-3]
[694,{"$f":"IF('Base Data'!A704<>\"\",AVERAGE('Base Data'!A704:T704),\"\")","v":10.504726142023751},1.0581694236207924E-3]
[695,{"$f":"IF('Base Data'!A705<>\"\",AVERAGE('Base Data'!A705:T705),\"\")","v":11.658098957099288},1.0637469238851868E-3]
[696,{"$f":"IF('Base Data'!A706<>\"\",AVERAGE('Base Data'!A706:T706),\"\")","v":10.528193404799243},1.0642970053285302E-3]
[697,{"$f":"IF('Base Data'!A707<>\"\",AVERAGE('Base Data'!A707:T707),\"\")","v":11.311953397970637},1.0713561627588891E-3]
[698,{"$f":"IF('Base Data'!A708<>\"\",AVERAGE('Base Data'!A708:T708),\"\")","v":10.176995980274668},1.0644977118347634E-3]
[699,{"$f":"IF('Base Data'!A709<>\"\",AVERAGE('Base Data'!A709:T709),\"\")","v":10.811841976918794},1.0688994513617621E-3]
[700,{"$f":"IF('Base Data'!A710<>\"\",AVERAGE('Base Data'!A710:T710),\"\")","v":10.915681546315014},1.0743481410357633E-3]
[701,{"$f":"IF('Base Data'!A711<>\"\",AVERAGE('Base Data'!A711:T711),\"\")","v":11.445747677429392},1.0813555037254181E-3]
[702,{"$f":"IF('Base Data'!A712<>\"\",AVERAGE('Base Data'!A712:T712),\"\")","v":10.813809342656279},1.0858810876813165E-3]
[703,{"$f":"IF('Base Data'!A713<>\"\",AVERAGE('Base Data'!A713:T713),\"\")","v":11.010490130007872},1.0922118814606315E-3]
[704,{"$f":"IF('Base Data'!A714<>\"\",AVERAGE('Base Data'!A714:T714),\"\")","v":11.088809565318412},1.0990663356939905E-3]
[705,{"$f":"IF('Base Data'!A715<>\"\",AVERAGE('Base Data'!A715:T715),\"\")","v":11.171084773756736},1.1063295542942809E-3]
[706,{"$f":"IF('Base Data'!A716<>\"\",AVERAGE('Base Data'!A716:T716),\"\")","v":11.378909196853304},1.1138403236134902E-3]
[{"$f":"IF(B714<>\"\",A713+1,\"\")","v":707},{"$f":"IF('Base Data'!A717<>\"\",AVERAGE('Base Data'!A717:T717),\"\")","v":11.330734997271284},1.1214779563727712E-3]
[708,{"$f":"IF('Base Data'!A718<>\"\",AVERAGE('Base Data'!A718:T718),\"\")","v":11.647746282266308},1.1278528322584353E-3]
[709,{"$f":"IF('Base Data'!A719<>\"\",AVERAGE('Base Data'!A719:T719),\"\")","v":10.962175067335142},1.1342047511042935E-3]
[710,{"$f":"IF('Base Data'!A720<>\"\",AVERAGE('Base Data'!A720:T720),\"\")","v":11.069175507727413},1.1413671411980221E-3]
[711,{"$f":"IF('Base Data'!A721<>\"\",AVERAGE('Base Data'!A721:T721),\"\")","v":11.331668816608598},1.1493016356303367E-3]
[712,{"$f":"IF('Base Data'!A722<>\"\",AVERAGE('Base Data'!A722:T722),\"\")","v":10.48225153023321},1.1489475065319154E-3]
[713,{"$f":"IF('Base Data'!A723<>\"\",AVERAGE('Base Data'!A723:T723),\"\")","v":11.727857083644199},1.1548984312499332E-3]
[714,{"$f":"IF('Base Data'!A724<>\"\",AVERAGE('Base Data'!A724:T724),\"\")","v":11.274374900623533},1.1629992596880771E-3]
[715,{"$f":"IF('Base Data'!A725<>\"\",AVERAGE('Base Data'!A725:T725),\"\")","v":12.061209141027515},1.1642402515740556E-3]
[716,{"$f":"IF('Base Data'!A726<>\"\",AVERAGE('Base Data'!A726:T726),\"\")","v":11.225312870873388},1.1723909931878032E-3]
[717,{"$f":"IF('Base Data'!A727<>\"\",AVERAGE('Base Data'!A727:T727),\"\")","v":12.424363930451147},1.165071403672653E-3]
[718,{"$f":"IF('Base Data'!A728<>\"\",AVERAGE('Base Data'!A728:T728),\"\")","v":10.70904380113325},1.1688368466093032E-3]
[719,{"$f":"IF('Base Data'!A729<>\"\",AVERAGE('Base Data'!A729:T729),\"\")","v":12.333431322694196},1.1637652650171397E-3]
[720,{"$f":"IF('Base Data'!A730<>\"\",AVERAGE('Base Data'!A730:T730),\"\")","v":10.368756239881396},1.1608148135414359E-3]
[721,{"$f":"IF('Base Data'!A731<>\"\",AVERAGE('Base Data'!A731:T731),\"\")","v":10.958265500007965},1.1675868072122788E-3]
[722,{"$f":"IF('Base Data'!A732<>\"\",AVERAGE('Base Data'!A732:T732),\"\")","v":10.972432127171549},1.1745430458718245E-3]
[723,{"$f":"IF('Base Data'!A733<>\"\",AVERAGE('Base Data'!A733:T733),\"\")","v":11.198342124799662},1.182901686516361E-3]
[724,{"$f":"IF('Base Data'!A734<>\"\",AVERAGE('Base Data'!A734:T734),\"\")","v":11.116691718325834},1.1910164320764463E-3]
[725,{"$f":"IF('Base Data'!A735<>\"\",AVERAGE('Base Data'!A735:T735),\"\")","v":11.786866815829068},1.1967142704572388E-3]
[726,{"$f":"IF('Base Data'!A736<>\"\",AVERAGE('Base Data'!A736:T736),\"\")","v":10.306308333160427},1.1919183322502294E-3]
[727,{"$f":"IF('Base Data'!A737<>\"\",AVERAGE('Base Data'!A737:T737),\"\")","v":12.087490499722685},1.192585613488326E-3]
[728,{"$f":"IF('Base Data'!A738<>\"\",AVERAGE('Base Data'!A738:T738),\"\")","v":10.408783319132493},1.1902711478484855E-3]
[729,{"$f":"IF('Base Data'!A739<>\"\",AVERAGE('Base Data'!A739:T739),\"\")","v":11.973828893214312},1.1931207183293682E-3]
[730,{"$f":"IF('Base Data'!A740<>\"\",AVERAGE('Base Data'!A740:T740),\"\")","v":10.77342417295622},1.1979816344142779E-3]
[731,{"$f":"IF('Base Data'!A741<>\"\",AVERAGE('Base Data'!A741:T741),\"\")","v":11.9635201876845},1.2010466842668362E-3]
[732,{"$f":"IF('Base Data'!A742<>\"\",AVERAGE('Base Data'!A742:T742),\"\")","v":10.658736536278345},1.2040557431105144E-3]
[733,{"$f":"IF('Base Data'!A743<>\"\",AVERAGE('Base Data'!A743:T743),\"\")","v":11.360053914807583},1.2130962662742935E-3]
[734,{"$f":"IF('Base Data'!A744<>\"\",AVERAGE('Base Data'!A744:T744),\"\")","v":11.481990022229377},1.2218649440831925E-3]
[735,{"$f":"IF('Base Data'!A745<>\"\",AVERAGE('Base Data'!A745:T745),\"\")","v":11.176852824978301},1.2308705061044685E-3]
[736,{"$f":"IF('Base Data'!A746<>\"\",AVERAGE('Base Data'!A746:T746),\"\")","v":11.853891897757226},1.236017726256298E-3]
[737,{"$f":"IF('Base Data'!A747<>\"\",AVERAGE('Base Data'!A747:T747),\"\")","v":11.494779036833762},1.2449816135904198E-3]
[738,{"$f":"IF('Base Data'!A748<>\"\",AVERAGE('Base Data'!A748:T748),\"\")","v":12.187548629336948},1.2432230601943028E-3]
[739,{"$f":"IF('Base Data'!A749<>\"\",AVERAGE('Base Data'!A749:T749),\"\")","v":11.232170744675605},1.252720059727776E-3]
[740,{"$f":"IF('Base Data'!A750<>\"\",AVERAGE('Base Data'!A750:T750),\"\")","v":12.130430609541651},1.2522933290522256E-3]
[741,{"$f":"IF('Base Data'!A751<>\"\",AVERAGE('Base Data'!A751:T751),\"\")","v":10.943450457178049},1.2600491105790221E-3]
[742,{"$f":"IF('Base Data'!A752<>\"\",AVERAGE('Base Data'!A752:T752),\"\")","v":11.472041536347101},1.2694569070376492E-3]
[743,{"$f":"IF('Base Data'!A753<>\"\",AVERAGE('Base Data'!A753:T753),\"\")","v":11.49024115985001},1.2788724852725863E-3]
[744,{"$f":"IF('Base Data'!A754<>\"\",AVERAGE('Base Data'!A754:T754),\"\")","v":11.319196006796592},1.2889194745185145E-3]
[745,{"$f":"IF('Base Data'!A755<>\"\",AVERAGE('Base Data'!A755:T755),\"\")","v":12.219828051553298},1.2860637255393164E-3]
[746,{"$f":"IF('Base Data'!A756<>\"\",AVERAGE('Base Data'!A756:T756),\"\")","v":11.506928856250727},1.2955873802826434E-3]
[747,{"$f":"IF('Base Data'!A757<>\"\",AVERAGE('Base Data'!A757:T757),\"\")","v":11.969373143003818},1.298819239417682E-3]
[748,{"$f":"IF('Base Data'!A758<>\"\",AVERAGE('Base Data'!A758:T758),\"\")","v":10.607520333984962},1.3015929204078234E-3]
[749,{"$f":"IF('Base Data'!A759<>\"\",AVERAGE('Base Data'!A759:T759),\"\")","v":11.426605503176036},1.3117727050781249E-3]
[750,{"$f":"IF('Base Data'!A760<>\"\",AVERAGE('Base Data'!A760:T760),\"\")","v":10.329257141574082},1.3070647553977204E-3]
[751,{"$f":"IF('Base Data'!A761<>\"\",AVERAGE('Base Data'!A761:T761),\"\")","v":12.255123014812904},1.3028601577949326E-3]
[752,{"$f":"IF('Base Data'!A762<>\"\",AVERAGE('Base Data'!A762:T762),\"\")","v":11.69104678477885},1.31091741079089E-3]
[753,{"$f":"IF('Base Data'!A763<>\"\",AVERAGE('Base Data'!A763:T763),\"\")","v":11.381914486432663},1.3214819602605742E-3]
[754,{"$f":"IF('Base Data'!A764<>\"\",AVERAGE('Base Data'!A764:T764),\"\")","v":11.606794857362161},1.3306989753211552E-3]
[755,{"$f":"IF('Base Data'!A765<>\"\",AVERAGE('Base Data'!A765:T765),\"\")","v":12.0626986975862},1.3317427498074957E-3]
[756,{"$f":"IF('Base Data'!A766<>\"\",AVERAGE('Base Data'!A766:T766),\"\")","v":11.391712411590539},1.3425629634243779E-3]
[757,{"$f":"IF('Base Data'!A767<>\"\",AVERAGE('Base Data'!A767:T767),\"\")","v":10.736709050937055},1.3483658602927993E-3]
[758,{"$f":"IF('Base Data'!A768<>\"\",AVERAGE('Base Data'!A768:T768),\"\")","v":11.084940741231534},1.3588105217467712E-3]
[759,{"$f":"IF('Base Data'!A769<>\"\",AVERAGE('Base Data'!A769:T769),\"\")","v":10.819658630438349},1.3661907778845894E-3]
[760,{"$f":"IF('Base Data'!A770<>\"\",AVERAGE('Base Data'!A770:T770),\"\")","v":11.676551138194144},1.3751362229121487E-3]
[761,{"$f":"IF('Base Data'!A771<>\"\",AVERAGE('Base Data'!A771:T771),\"\")","v":11.348382487212362},1.3866702022462248E-3]
[762,{"$f":"IF('Base Data'!A772<>\"\",AVERAGE('Base Data'!A772:T772),\"\")","v":11.517284211909161},1.3975285272337305E-3]
[763,{"$f":"IF('Base Data'!A773<>\"\",AVERAGE('Base Data'!A773:T773),\"\")","v":11.19711039930165},1.4092198256547683E-3]
[764,{"$f":"IF('Base Data'!A774<>\"\",AVERAGE('Base Data'!A774:T774),\"\")","v":11.281605607313622},1.4212356643365919E-3]
[765,{"$f":"IF('Base Data'!A775<>\"\",AVERAGE('Base Data'!A775:T775),\"\")","v":10.570893808695512},1.4237533380955826E-3]
[766,{"$f":"IF('Base Data'!A776<>\"\",AVERAGE('Base Data'!A776:T776),\"\")","v":11.090333179814078},1.4351918549841474E-3]
[767,{"$f":"IF('Base Data'!A777<>\"\",AVERAGE('Base Data'!A777:T777),\"\")","v":10.909526671080604},1.4447397624411567E-3]
[768,{"$f":"IF('Base Data'!A778<>\"\",AVERAGE('Base Data'!A778:T778),\"\")","v":11.221982575086583},1.4571545910918818E-3]
[769,{"$f":"IF('Base Data'!A779<>\"\",AVERAGE('Base Data'!A779:T779),\"\")","v":10.552116615463158},1.4591649709892634E-3]
[770,{"$f":"IF('Base Data'!A780<>\"\",AVERAGE('Base Data'!A780:T780),\"\")","v":11.072733635634915},1.4708971022941257E-3]
[{"$f":"IF(B778<>\"\",A777+1,\"\")","v":771},{"$f":"IF('Base Data'!A781<>\"\",AVERAGE('Base Data'!A781:T781),\"\")","v":10.640857863107694},1.4752625465099538E-3]
[772,{"$f":"IF('Base Data'!A782<>\"\",AVERAGE('Base Data'!A782:T782),\"\")","v":11.523600789257538},1.4873964291592023E-3]
[773,{"$f":"IF('Base Data'!A783<>\"\",AVERAGE('Base Data'!A783:T783),\"\")","v":10.534622706661253},1.4888066750310658E-3]
[774,{"$f":"IF('Base Data'!A784<>\"\",AVERAGE('Base Data'!A784:T784),\"\")","v":10.91150687777974},1.4988856939621915E-3]
[775,{"$f":"IF('Base Data'!A785<>\"\",AVERAGE('Base Data'!A785:T785),\"\")","v":10.695414566582112},1.5046417104954623E-3]
[776,{"$f":"IF('Base Data'!A786<>\"\",AVERAGE('Base Data'!A786:T786),\"\")","v":11.270521174385143},1.5181234009523021E-3]
[777,{"$f":"IF('Base Data'!A787<>\"\",AVERAGE('Base Data'!A787:T787),\"\")","v":10.839889662374706},1.5271967586086667E-3]
[778,{"$f":"IF('Base Data'!A788<>\"\",AVERAGE('Base Data'!A788:T788),\"\")","v":11.689053907284361},1.5382303369247596E-3]
[779,{"$f":"IF('Base Data'!A789<>\"\",AVERAGE('Base Data'!A789:T789),\"\")","v":11.200068884429346},1.5519611894591781E-3]
[780,{"$f":"IF('Base Data'!A790<>\"\",AVERAGE('Base Data'!A790:T790),\"\")","v":11.705555310640339},1.5630179799101906E-3]
[781,{"$f":"IF('Base Data'!A791<>\"\",AVERAGE('Base Data'!A791:T791),\"\")","v":10.54233021701315},1.5647364188480755E-3]
[782,{"$f":"IF('Base Data'!A792<>\"\",AVERAGE('Base Data'!A792:T792),\"\")","v":11.175544381789283},1.5787483793260003E-3]
[783,{"$f":"IF('Base Data'!A793<>\"\",AVERAGE('Base Data'!A793:T793),\"\")","v":10.967269234185698},1.5907179671550483E-3]
[784,{"$f":"IF('Base Data'!A794<>\"\",AVERAGE('Base Data'!A794:T794),\"\")","v":10.570738065355265},1.5932874333993881E-3]
[785,{"$f":"IF('Base Data'!A795<>\"\",AVERAGE('Base Data'!A795:T795),\"\")","v":11.496288972927562},1.6075720359315121E-3]
[786,{"$f":"IF('Base Data'!A796<>\"\",AVERAGE('Base Data'!A796:T796),\"\")","v":10.632447496938957},1.6120948144916546E-3]
[787,{"$f":"IF('Base Data'!A797<>\"\",AVERAGE('Base Data'!A797:T797),\"\")","v":11.567704179442295},1.6260529039762502E-3]
[788,{"$f":"IF('Base Data'!A798<>\"\",AVERAGE('Base Data'!A798:T798),\"\")","v":10.657511228786287},1.6313974717184904E-3]
[789,{"$f":"IF('Base Data'!A799<>\"\",AVERAGE('Base Data'!A799:T799),\"\")","v":11.964169583538206},1.6378028160320118E-3]
[790,{"$f":"IF('Base Data'!A800<>\"\",AVERAGE('Base Data'!A800:T800),\"\")","v":10.201296990395667},1.6243754882700717E-3]
[791,{"$f":"IF('Base Data'!A801<>\"\",AVERAGE('Base Data'!A801:T801),\"\")","v":12.642479834313232},1.6001566980012069E-3]
[792,{"$f":"IF('Base Data'!A802<>\"\",AVERAGE('Base Data'!A802:T802),\"\")","v":9.8769545721282235},1.5664230069273057E-3]
[793,{"$f":"IF('Base Data'!A803<>\"\",AVERAGE('Base Data'!A803:T803),\"\")","v":12.268057716788302},1.5609594505641585E-3]
[794,{"$f":"IF('Base Data'!A804<>\"\",AVERAGE('Base Data'!A804:T804),\"\")","v":9.7803239429658326},1.5189256730496635E-3]
[795,{"$f":"IF('Base Data'!A805<>\"\",AVERAGE('Base Data'!A805:T805),\"\")","v":10.824985628698892},1.5275517778642266E-3]
[796,{"$f":"IF('Base Data'!A806<>\"\",AVERAGE('Base Data'!A806:T806),\"\")","v":10.126784582550691},1.5068434659937567E-3]
[797,{"$f":"IF('Base Data'!A807<>\"\",AVERAGE('Base Data'!A807:T807),\"\")","v":11.398335006781391},1.5217273705800997E-3]
[798,{"$f":"IF('Base Data'!A808<>\"\",AVERAGE('Base Data'!A808:T808),\"\")","v":10.311527778593964},1.5103899191247394E-3]
[799,{"$f":"IF('Base Data'!A809<>\"\",AVERAGE('Base Data'!A809:T809),\"\")","v":11.662683010234719},1.5230608940124512E-3]
[800,{"$f":"IF('Base Data'!A810<>\"\",AVERAGE('Base Data'!A810:T810),\"\")","v":10.961922204519096},1.5346327411030005E-3]
[801,{"$f":"IF('Base Data'!A811<>\"\",AVERAGE('Base Data'!A811:T811),\"\")","v":12.095561227836473},1.5359039197660395E-3]
[802,{"$f":"IF('Base Data'!A812<>\"\",AVERAGE('Base Data'!A812:T812),\"\")","v":10.557837212868458},1.5354593411591364E-3]
[803,{"$f":"IF('Base Data'!A813<>\"\",AVERAGE('Base Data'!A813:T813),\"\")","v":11.844624155318558},1.5447594532615092E-3]
[804,{"$f":"IF('Base Data'!A814<>\"\",AVERAGE('Base Data'!A814:T814),\"\")","v":10.671737607901603},1.5485834025145361E-3]
[805,{"$f":"IF('Base Data'!A815<>\"\",AVERAGE('Base Data'!A815:T815),\"\")","v":11.570536324884399},1.5632983335514658E-3]
[806,{"$f":"IF('Base Data'!A816<>\"\",AVERAGE('Base Data'!A816:T816),\"\")","v":11.600247810399861},1.5778434417715597E-3]
[807,{"$f":"IF('Base Data'!A817<>\"\",AVERAGE('Base Data'!A817:T817),\"\")","v":11.18052574033384},1.5935550133387248E-3]
[808,{"$f":"IF('Base Data'!A818<>\"\",AVERAGE('Base Data'!A818:T818),\"\")","v":11.23387898728063},1.6099197790486186E-3]
[809,{"$f":"IF('Base Data'!A819<>\"\",AVERAGE('Base Data'!A819:T819),\"\")","v":11.464387710821443},1.6265441175973316E-3]
[810,{"$f":"IF('Base Data'!A820<>\"\",AVERAGE('Base Data'!A820:T820),\"\")","v":10.869461359139326},1.637327634675189E-3]
[811,{"$f":"IF('Base Data'!A821<>\"\",AVERAGE('Base Data'!A821:T821),\"\")","v":11.15049021787865},1.6536415837479156E-3]
[812,{"$f":"IF('Base Data'!A822<>\"\",AVERAGE('Base Data'!A822:T822),\"\")","v":11.155744365565313},1.6702601088000488E-3]
[813,{"$f":"IF('Base Data'!A823<>\"\",AVERAGE('Base Data'!A823:T823),\"\")","v":10.839532023468852},1.6805833165308467E-3]
[814,{"$f":"IF('Base Data'!A824<>\"\",AVERAGE('Base Data'!A824:T824),\"\")","v":11.16880207848158},1.6977668801217813E-3]
[815,{"$f":"IF('Base Data'!A825<>\"\",AVERAGE('Base Data'!A825:T825),\"\")","v":11.167918462667975},1.7152035394102504E-3]
[816,{"$f":"IF('Base Data'!A826<>\"\",AVERAGE('Base Data'!A826:T826),\"\")","v":11.59366849115422},1.7323399270693946E-3]
[817,{"$f":"IF('Base Data'!A827<>\"\",AVERAGE('Base Data'!A827:T827),\"\")","v":11.462526347953075},1.7510923033908807E-3]
[818,{"$f":"IF('Base Data'!A828<>\"\",AVERAGE('Base Data'!A828:T828),\"\")","v":10.658487314990712},1.7555335557692573E-3]
[819,{"$f":"IF('Base Data'!A829<>\"\",AVERAGE('Base Data'!A829:T829),\"\")","v":11.544459679762477},1.7740435659149548E-3]
[820,{"$f":"IF('Base Data'!A830<>\"\",AVERAGE('Base Data'!A830:T830),\"\")","v":10.239525137537989},1.7545548930700484E-3]
[821,{"$f":"IF('Base Data'!A831<>\"\",AVERAGE('Base Data'!A831:T831),\"\")","v":11.439176719097727},1.7741537653967942E-3]
[822,{"$f":"IF('Base Data'!A832<>\"\",AVERAGE('Base Data'!A832:T832),\"\")","v":11.152023857696419},1.7927966674465702E-3]
[823,{"$f":"IF('Base Data'!A833<>\"\",AVERAGE('Base Data'!A833:T833),\"\")","v":11.680472908143207},1.8100266860536307E-3]
[824,{"$f":"IF('Base Data'!A834<>\"\",AVERAGE('Base Data'!A834:T834),\"\")","v":11.160580635692259},1.8294034996811225E-3]
[825,{"$f":"IF('Base Data'!A835<>\"\",AVERAGE('Base Data'!A835:T835),\"\")","v":12.301301210787026},1.8214263442265404E-3]
[826,{"$f":"IF('Base Data'!A836<>\"\",AVERAGE('Base Data'!A836:T836),\"\")","v":11.389039259347546},1.842516623448607E-3]
[827,{"$f":"IF('Base Data'!A837<>\"\",AVERAGE('Base Data'!A837:T837),\"\")","v":11.570336560646027},1.8625049219703983E-3]
[828,{"$f":"IF('Base Data'!A838<>\"\",AVERAGE('Base Data'!A838:T838),\"\")","v":10.092486313094344},1.8291616239241482E-3]
[829,{"$f":"IF('Base Data'!A839<>\"\",AVERAGE('Base Data'!A839:T839),\"\")","v":11.701272557825069},1.8468451582436744E-3]
[830,{"$f":"IF('Base Data'!A840<>\"\",AVERAGE('Base Data'!A840:T840),\"\")","v":11.095461301460393},1.8662153215769947E-3]
[831,{"$f":"IF('Base Data'!A841<>\"\",AVERAGE('Base Data'!A841:T841),\"\")","v":11.995748881261369},1.8743718562482976E-3]
[832,{"$f":"IF('Base Data'!A842<>\"\",AVERAGE('Base Data'!A842:T842),\"\")","v":10.920032101429491},1.8898261111046527E-3]
[833,{"$f":"IF('Base Data'!A843<>\"\",AVERAGE('Base Data'!A843:T843),\"\")","v":11.747386161953518},1.9073275907895513E-3]
[834,{"$f":"IF('Base Data'!A844<>\"\",AVERAGE('Base Data'!A844:T844),\"\")","v":11.15507473234457},1.928923075302026E-3]
[{"$f":"IF(B842<>\"\",A841+1,\"\")","v":835},{"$f":"IF('Base Data'!A845<>\"\",AVERAGE('Base Data'!A845:T845),\"\")","v":12.010233943827815},1.9368983534813495E-3]
[836,{"$f":"IF('Base Data'!A846<>\"\",AVERAGE('Base Data'!A846:T846),\"\")","v":11.258437933374134},1.9603452000863317E-3]
[837,{"$f":"IF('Base Data'!A847<>\"\",AVERAGE('Base Data'!A847:T847),\"\")","v":11.068050446624744},1.981337392789855E-3]
[838,{"$f":"IF('Base Data'!A848<>\"\",AVERAGE('Base Data'!A848:T848),\"\")","v":11.732959749157612},2.000700475017918E-3]
[839,{"$f":"IF('Base Data'!A849<>\"\",AVERAGE('Base Data'!A849:T849),\"\")","v":12.340365544561161},1.988029330968857E-3]
[840,{"$f":"IF('Base Data'!A850<>\"\",AVERAGE('Base Data'!A850:T850),\"\")","v":11.054369358377265},2.0095372821498079E-3]
[841,{"$f":"IF('Base Data'!A851<>\"\",AVERAGE('Base Data'!A851:T851),\"\")","v":12.678912299175227},1.9645130112850785E-3]
[842,{"$f":"IF('Base Data'!A852<>\"\",AVERAGE('Base Data'!A852:T852),\"\")","v":10.730351839533677},1.9740576269931401E-3]
[843,{"$f":"IF('Base Data'!A853<>\"\",AVERAGE('Base Data'!A853:T853),\"\")","v":12.463880789914906},1.9482882848936504E-3]
[844,{"$f":"IF('Base Data'!A854<>\"\",AVERAGE('Base Data'!A854:T854),\"\")","v":10.274609755346885},1.9255556549167534E-3]
[845,{"$f":"IF('Base Data'!A855<>\"\",AVERAGE('Base Data'!A855:T855),\"\")","v":11.967101245042285},1.9345565798472024E-3]
[846,{"$f":"IF('Base Data'!A856<>\"\",AVERAGE('Base Data'!A856:T856),\"\")","v":11.055489447048807},1.9562627673480118E-3]
[847,{"$f":"IF('Base Data'!A857<>\"\",AVERAGE('Base Data'!A857:T857),\"\")","v":11.279399648893776},1.9818749123993343E-3]
[848,{"$f":"IF('Base Data'!A858<>\"\",AVERAGE('Base Data'!A858:T858),\"\")","v":11.508601205447125},2.0070979220946313E-3]
[849,{"$f":"IF('Base Data'!A859<>\"\",AVERAGE('Base Data'!A859:T859),\"\")","v":11.544638649204245},2.032231648763021E-3]
[850,{"$f":"IF('Base Data'!A860<>\"\",AVERAGE('Base Data'!A860:T860),\"\")","v":11.420574940122293},2.0593588462064281E-3]
[851,{"$f":"IF('Base Data'!A861<>\"\",AVERAGE('Base Data'!A861:T861),\"\")","v":11.556544089424474},2.0852625326486813E-3]
[852,{"$f":"IF('Base Data'!A862<>\"\",AVERAGE('Base Data'!A862:T862),\"\")","v":10.563879608783813},2.0852643903211264E-3]
[853,{"$f":"IF('Base Data'!A863<>\"\",AVERAGE('Base Data'!A863:T863),\"\")","v":10.848487310296992},2.102009327108763E-3]
[854,{"$f":"IF('Base Data'!A864<>\"\",AVERAGE('Base Data'!A864:T864),\"\")","v":10.58698281600345},2.1029115148446789E-3]
[855,{"$f":"IF('Base Data'!A865<>\"\",AVERAGE('Base Data'!A865:T865),\"\")","v":10.165561939414356},2.0630022993794192E-3]
[856,{"$f":"IF('Base Data'!A866<>\"\",AVERAGE('Base Data'!A866:T866),\"\")","v":11.51741330327757},2.0908525657103495E-3]
[857,{"$f":"IF('Base Data'!A867<>\"\",AVERAGE('Base Data'!A867:T867),\"\")","v":10.453157302414198},2.0787285046311652E-3]
[858,{"$f":"IF('Base Data'!A868<>\"\",AVERAGE('Base Data'!A868:T868),\"\")","v":11.282556778407718},2.1079035449523297E-3]
[859,{"$f":"IF('Base Data'!A869<>\"\",AVERAGE('Base Data'!A869:T869),\"\")","v":10.734689440160256},2.1171427746208347E-3]
[860,{"$f":"IF('Base Data'!A870<>\"\",AVERAGE('Base Data'!A870:T870),\"\")","v":11.720535122403399},2.1416070970786323E-3]
[861,{"$f":"IF('Base Data'!A871<>\"\",AVERAGE('Base Data'!A871:T871),\"\")","v":10.979401297404813},2.1644470897499088E-3]
[862,{"$f":"IF('Base Data'!A872<>\"\",AVERAGE('Base Data'!A872:T872),\"\")","v":11.984293957482748},2.1764747220863068E-3]
[863,{"$f":"IF('Base Data'!A873<>\"\",AVERAGE('Base Data'!A873:T873),\"\")","v":11.196045836654774},2.206870428831107E-3]
[864,{"$f":"IF('Base Data'!A874<>\"\",AVERAGE('Base Data'!A874:T874),\"\")","v":12.19119267457209},2.2029145166216563E-3]
[865,{"$f":"IF('Base Data'!A875<>\"\",AVERAGE('Base Data'!A875:T875),\"\")","v":10.956922227387071},2.2263640575617134E-3]
[866,{"$f":"IF('Base Data'!A876<>\"\",AVERAGE('Base Data'!A876:T876),\"\")","v":12.235021798961043},2.2176103895451445E-3]
[867,{"$f":"IF('Base Data'!A877<>\"\",AVERAGE('Base Data'!A877:T877),\"\")","v":11.205816209711042},2.2498501671685111E-3]
[868,{"$f":"IF('Base Data'!A878<>\"\",AVERAGE('Base Data'!A878:T878),\"\")","v":11.903092613608681},2.2674817512671809E-3]
[869,{"$f":"IF('Base Data'!A879<>\"\",AVERAGE('Base Data'!A879:T879),\"\")","v":11.349978339464036},2.3024887446115709E-3]
[870,{"$f":"IF('Base Data'!A880<>\"\",AVERAGE('Base Data'!A880:T880),\"\")","v":12.596020507147358},2.2463266984623117E-3]
[871,{"$f":"IF('Base Data'!A881<>\"\",AVERAGE('Base Data'!A881:T881),\"\")","v":11.112328714046006},2.2779714781790972E-3]
[872,{"$f":"IF('Base Data'!A882<>\"\",AVERAGE('Base Data'!A882:T882),\"\")","v":10.824150830219708},2.2963219296799923E-3]
[873,{"$f":"IF('Base Data'!A883<>\"\",AVERAGE('Base Data'!A883:T883),\"\")","v":10.96645731195385},2.3230857589617879E-3]
[874,{"$f":"IF('Base Data'!A884<>\"\",AVERAGE('Base Data'!A884:T884),\"\")","v":10.745832664319183},2.33582666015625E-3]
[875,{"$f":"IF('Base Data'!A885<>\"\",AVERAGE('Base Data'!A885:T885),\"\")","v":11.45558892807983},2.3731498142683049E-3]
[876,{"$f":"IF('Base Data'!A886<>\"\",AVERAGE('Base Data'!A886:T886),\"\")","v":10.979102555105365},2.4018550834728884E-3]
[877,{"$f":"IF('Base Data'!A887<>\"\",AVERAGE('Base Data'!A887:T887),\"\")","v":11.555743336292696},2.4390649936494569E-3]
[878,{"$f":"IF('Base Data'!A888<>\"\",AVERAGE('Base Data'!A888:T888),\"\")","v":11.727671248726029},2.4706823123493904E-3]
[879,{"$f":"IF('Base Data'!A889<>\"\",AVERAGE('Base Data'!A889:T889),\"\")","v":11.502430912513073},2.5107283062405054E-3]
[880,{"$f":"IF('Base Data'!A890<>\"\",AVERAGE('Base Data'!A890:T890),\"\")","v":11.295356634236215},2.5527584511516005E-3]
[881,{"$f":"IF('Base Data'!A891<>\"\",AVERAGE('Base Data'!A891:T891),\"\")","v":11.944842154796239},2.5718941561143583E-3]
[882,{"$f":"IF('Base Data'!A892<>\"\",AVERAGE('Base Data'!A892:T892),\"\")","v":10.066049067096552},2.4925957587160824E-3]
[883,{"$f":"IF('Base Data'!A893<>\"\",AVERAGE('Base Data'!A893:T893),\"\")","v":12.565554584308178},2.4288953697213663E-3]
[884,{"$f":"IF('Base Data'!A894<>\"\",AVERAGE('Base Data'!A894:T894),\"\")","v":10.652577175572242},2.433012185340117E-3]
[885,{"$f":"IF('Base Data'!A895<>\"\",AVERAGE('Base Data'!A895:T895),\"\")","v":11.751468406918242},2.4644370884776444E-3]
[886,{"$f":"IF('Base Data'!A896<>\"\",AVERAGE('Base Data'!A896:T896),\"\")","v":10.798046465770865},2.482936529613193E-3]
[887,{"$f":"IF('Base Data'!A897<>\"\",AVERAGE('Base Data'!A897:T897),\"\")","v":11.461997205513523},2.5267768271115361E-3]
[888,{"$f":"IF('Base Data'!A898<>\"\",AVERAGE('Base Data'!A898:T898),\"\")","v":10.676429258660541},2.5333207629445061E-3]
[889,{"$f":"IF('Base Data'!A899<>\"\",AVERAGE('Base Data'!A899:T899),\"\")","v":11.370523280289556},2.5795898752764236E-3]
[890,{"$f":"IF('Base Data'!A900<>\"\",AVERAGE('Base Data'!A900:T900),\"\")","v":10.857257382858652},2.6044213865132619E-3]
[891,{"$f":"IF('Base Data'!A901<>\"\",AVERAGE('Base Data'!A901:T901),\"\")","v":11.262419209664394},2.6516968330728666E-3]
[892,{"$f":"IF('Base Data'!A902<>\"\",AVERAGE('Base Data'!A902:T902),\"\")","v":10.888595538300455},2.6801875068877125E-3]
[893,{"$f":"IF('Base Data'!A903<>\"\",AVERAGE('Base Data'!A903:T903),\"\")","v":11.048280315748034},2.7208253555596616E-3]
[894,{"$f":"IF('Base Data'!A904<>\"\",AVERAGE('Base Data'!A904:T904),\"\")","v":11.34765138006259},2.7727486054643213E-3]
[895,{"$f":"IF('Base Data'!A905<>\"\",AVERAGE('Base Data'!A905:T905),\"\")","v":11.124287545640565},2.8198225611060328E-3]
[896,{"$f":"IF('Base Data'!A906<>\"\",AVERAGE('Base Data'!A906:T906),\"\")","v":10.606431728992368},2.8162947338390828E-3]
[897,{"$f":"IF('Base Data'!A907<>\"\",AVERAGE('Base Data'!A907:T907),\"\")","v":11.812292689744201},2.8551571738577859E-3]
[898,{"$f":"IF('Base Data'!A908<>\"\",AVERAGE('Base Data'!A908:T908),\"\")","v":11.370031136348482},2.911915184060635E-3]
[{"$f":"IF(B906<>\"\",A905+1,\"\")","v":899},{"$f":"IF('Base Data'!A909<>\"\",AVERAGE('Base Data'!A909:T909),\"\")","v":10.936770967719283},2.9492807388305665E-3]
[900,{"$f":"IF('Base Data'!A910<>\"\",AVERAGE('Base Data'!A910:T910),\"\")","v":10.80115267997491},2.972320371374234E-3]
[901,{"$f":"IF('Base Data'!A911<>\"\",AVERAGE('Base Data'!A911:T911),\"\")","v":11.085272185938482},3.022533513664554E-3]
[902,{"$f":"IF('Base Data'!A912<>\"\",AVERAGE('Base Data'!A912:T912),\"\")","v":10.551235767291502},3.0063084251557063E-3]
[903,{"$f":"IF('Base Data'!A913<>\"\",AVERAGE('Base Data'!A913:T913),\"\")","v":11.264112143813847},3.0667028493351406E-3]
[904,{"$f":"IF('Base Data'!A914<>\"\",AVERAGE('Base Data'!A914:T914),\"\")","v":10.535519897883933},3.0442924182500866E-3]
[905,{"$f":"IF('Base Data'!A915<>\"\",AVERAGE('Base Data'!A915:T915),\"\")","v":12.153398036049733},3.049199858527747E-3]
[906,{"$f":"IF('Base Data'!A916<>\"\",AVERAGE('Base Data'!A916:T916),\"\")","v":11.178438074026463},3.1082977213767486E-3]
[907,{"$f":"IF('Base Data'!A917<>\"\",AVERAGE('Base Data'!A917:T917),\"\")","v":11.822925955499155},3.1571138107934385E-3]
[908,{"$f":"IF('Base Data'!A918<>\"\",AVERAGE('Base Data'!A918:T918),\"\")","v":10.649274509509539},3.1546615860396257E-3]
[909,{"$f":"IF('Base Data'!A919<>\"\",AVERAGE('Base Data'!A919:T919),\"\")","v":12.002272196332246},3.1838209835099583E-3]
[910,{"$f":"IF('Base Data'!A920<>\"\",AVERAGE('Base Data'!A920:T920),\"\")","v":10.887508200138502},3.2195091367956817E-3]
[911,{"$f":"IF('Base Data'!A921<>\"\",AVERAGE('Base Data'!A921:T921),\"\")","v":12.096229000710398},3.2345078700830128E-3]
[912,{"$f":"IF('Base Data'!A922<>\"\",AVERAGE('Base Data'!A922:T922),\"\")","v":11.320616057549753},3.3080009917063795E-3]
[913,{"$f":"IF('Base Data'!A923<>\"\",AVERAGE('Base Data'!A923:T923),\"\")","v":11.59796016918307},3.3810477826710069E-3]
[914,{"$f":"IF('Base Data'!A924<>\"\",AVERAGE('Base Data'!A924:T924),\"\")","v":11.861230226705572},3.4335567381967723E-3]
[915,{"$f":"IF('Base Data'!A925<>\"\",AVERAGE('Base Data'!A925:T925),\"\")","v":10.54220468424478},3.4071152983338924E-3]
[916,{"$f":"IF('Base Data'!A926<>\"\",AVERAGE('Base Data'!A926:T926),\"\")","v":11.035481120257064},3.4676445362823659E-3]
[917,{"$f":"IF('Base Data'!A927<>\"\",AVERAGE('Base Data'!A927:T927),\"\")","v":11.591106151547582},3.5487163073955582E-3]
[918,{"$f":"IF('Base Data'!A928<>\"\",AVERAGE('Base Data'!A928:T928),\"\")","v":10.826683185975643},3.5815257122014795E-3]
[919,{"$f":"IF('Base Data'!A929<>\"\",AVERAGE('Base Data'!A929:T929),\"\")","v":12.60175404626748},3.4555500745773317E-3]
[920,{"$f":"IF('Base Data'!A930<>\"\",AVERAGE('Base Data'!A930:T930),\"\")","v":10.446059999956656},3.3901512880696641E-3]
[921,{"$f":"IF('Base Data'!A931<>\"\",AVERAGE('Base Data'!A931:T931),\"\")","v":11.80683289783946},3.4540901836167034E-3]
[922,{"$f":"IF('Base Data'!A932<>\"\",AVERAGE('Base Data'!A932:T932),\"\")","v":10.791111788308253},3.4755417902125017E-3]
[923,{"$f":"IF('Base Data'!A933<>\"\",AVERAGE('Base Data'!A933:T933),\"\")","v":11.570468781384271},3.5643425674649815E-3]
[924,{"$f":"IF('Base Data'!A934<>\"\",AVERAGE('Base Data'!A934:T934),\"\")","v":11.404658213628867},3.6598883734809029E-3]
[925,{"$f":"IF('Base Data'!A935<>\"\",AVERAGE('Base Data'!A935:T935),\"\")","v":11.454805551678781},3.7593820654100705E-3]
[926,{"$f":"IF('Base Data'!A936<>\"\",AVERAGE('Base Data'!A936:T936),\"\")","v":11.343566654081469},3.8615831807129915E-3]
[927,{"$f":"IF('Base Data'!A937<>\"\",AVERAGE('Base Data'!A937:T937),\"\")","v":11.668240909084984},3.9588293911498266E-3]
[928,{"$f":"IF('Base Data'!A938<>\"\",AVERAGE('Base Data'!A938:T938),\"\")","v":11.61666660930735},4.0641516784050476E-3]
[929,{"$f":"IF('Base Data'!A939<>\"\",AVERAGE('Base Data'!A939:T939),\"\")","v":11.760380498270198},4.1582064725914783E-3]
[930,{"$f":"IF('Base Data'!A940<>\"\",AVERAGE('Base Data'!A940:T940),\"\")","v":11.453023297079969},4.2794156890785815E-3]
[931,{"$f":"IF('Base Data'!A941<>\"\",AVERAGE('Base Data'!A941:T941),\"\")","v":11.206165287662953},4.3959225750299473E-3]
[932,{"$f":"IF('Base Data'!A942<>\"\",AVERAGE('Base Data'!A942:T942),\"\")","v":10.864967966716367},4.4570208180054281E-3]
[933,{"$f":"IF('Base Data'!A943<>\"\",AVERAGE('Base Data'!A943:T943),\"\")","v":12.263522604281258},4.4328056419519679E-3]
[934,{"$f":"IF('Base Data'!A944<>\"\",AVERAGE('Base Data'!A944:T944),\"\")","v":10.765981327450744},4.4669432329708303E-3]
[935,{"$f":"IF('Base Data'!A945<>\"\",AVERAGE('Base Data'!A945:T945),\"\")","v":11.799459580659287},4.5740837231278419E-3]
[936,{"$f":"IF('Base Data'!A946<>\"\",AVERAGE('Base Data'!A946:T946),\"\")","v":9.8898918383669745},4.1166715460960136E-3]
[937,{"$f":"IF('Base Data'!A947<>\"\",AVERAGE('Base Data'!A947:T947),\"\")","v":12.071583654007052},4.1484197642378947E-3]
[938,{"$f":"IF('Base Data'!A948<>\"\",AVERAGE('Base Data'!A948:T948),\"\")","v":11.176700580295599},4.2666025425727189E-3]
[939,{"$f":"IF('Base Data'!A949<>\"\",AVERAGE('Base Data'!A949:T949),\"\")","v":12.227896362332729},4.2366687456766765E-3]
[940,{"$f":"IF('Base Data'!A950<>\"\",AVERAGE('Base Data'!A950:T950),\"\")","v":11.763866217835943},4.3492392540251997E-3]
[941,{"$f":"IF('Base Data'!A951<>\"\",AVERAGE('Base Data'!A951:T951),\"\")","v":11.025379597580596},4.4519972149171952E-3]
[942,{"$f":"IF('Base Data'!A952<>\"\",AVERAGE('Base Data'!A952:T952),\"\")","v":11.983130368194891},4.5147353078666633E-3]
[943,{"$f":"IF('Base Data'!A953<>\"\",AVERAGE('Base Data'!A953:T953),\"\")","v":11.386696988373309},4.6769818481133905E-3]
[944,{"$f":"IF('Base Data'!A954<>\"\",AVERAGE('Base Data'!A954:T954),\"\")","v":11.948265676081871},4.7560816362869638E-3]
[945,{"$f":"IF('Base Data'!A955<>\"\",AVERAGE('Base Data'!A955:T955),\"\")","v":11.444434663676411},4.9335515057599101E-3]
[946,{"$f":"IF('Base Data'!A956<>\"\",AVERAGE('Base Data'!A956:T956),\"\")","v":11.802796142331456},5.0666682785539367E-3]
[947,{"$f":"IF('Base Data'!A957<>\"\",AVERAGE('Base Data'!A957:T957),\"\")","v":11.227527397752809},5.2513053431313423E-3]
[948,{"$f":"IF('Base Data'!A958<>\"\",AVERAGE('Base Data'!A958:T958),\"\")","v":11.577997472966521},5.4482214728578705E-3]
[949,{"$f":"IF('Base Data'!A959<>\"\",AVERAGE('Base Data'!A959:T959),\"\")","v":11.181599883108795},5.6476184844970702E-3]
[950,{"$f":"IF('Base Data'!A960<>\"\",AVERAGE('Base Data'!A960:T960),\"\")","v":11.914973095049245},5.7727419699494511E-3]
[951,{"$f":"IF('Base Data'!A961<>\"\",AVERAGE('Base Data'!A961:T961),\"\")","v":11.168885022547245},5.9918550153573351E-3]
[952,{"$f":"IF('Base Data'!A962<>\"\",AVERAGE('Base Data'!A962:T962),\"\")","v":11.092852944842134},6.204213530513268E-3]
[953,{"$f":"IF('Base Data'!A963<>\"\",AVERAGE('Base Data'!A963:T963),\"\")","v":10.951872505520639},6.3744591855371836E-3]
[954,{"$f":"IF('Base Data'!A964<>\"\",AVERAGE('Base Data'!A964:T964),\"\")","v":12.112150215907768},6.4208438072675539E-3]
[955,{"$f":"IF('Base Data'!A965<>\"\",AVERAGE('Base Data'!A965:T965),\"\")","v":11.02278524200716},6.6379220032494919E-3]
[956,{"$f":"IF('Base Data'!A966<>\"\",AVERAGE('Base Data'!A966:T966),\"\")","v":11.87661752434342},6.8328541765476057E-3]
[957,{"$f":"IF('Base Data'!A967<>\"\",AVERAGE('Base Data'!A967:T967),\"\")","v":10.769564487426027},6.9275502444935497E-3]
[958,{"$f":"IF('Base Data'!A968<>\"\",AVERAGE('Base Data'!A968:T968),\"\")","v":11.5889836689575},7.2522569028909967E-3]
[959,{"$f":"IF('Base Data'!A969<>\"\",AVERAGE('Base Data'!A969:T969),\"\")","v":10.946316243019135},7.4780321121215819E-3]
[960,{"$f":"IF('Base Data'!A970<>\"\",AVERAGE('Base Data'!A970:T970),\"\")","v":11.629502393772245},7.8389884452142664E-3]
[961,{"$f":"IF('Base Data'!A971<>\"\",AVERAGE('Base Data'!A971:T971),\"\")","v":11.06751129958287},8.1674220489332885E-3]
[962,{"$f":"IF('Base Data'!A972<>\"\",AVERAGE('Base Data'!A972:T972),\"\")","v":11.373426605325283},8.6123206652020615E-3]
[{"$f":"IF(B970<>\"\",A969+1,\"\")","v":963},{"$f":"IF('Base Data'!A973<>\"\",AVERAGE('Base Data'!A973:T973),\"\")","v":11.700816032218091},9.0407052157837672E-3]
[964,{"$f":"IF('Base Data'!A974<>\"\",AVERAGE('Base Data'!A974:T974),\"\")","v":10.807916811520089},9.2441333070093275E-3]
[965,{"$f":"IF('Base Data'!A975<>\"\",AVERAGE('Base Data'!A975:T975),\"\")","v":11.456707425427755},9.7957399889672097E-3]
[966,{"$f":"IF('Base Data'!A976<>\"\",AVERAGE('Base Data'!A976:T976),\"\")","v":11.080885368370446},1.0274584956733977E-2]
[967,{"$f":"IF('Base Data'!A977<>\"\",AVERAGE('Base Data'!A977:T977),\"\")","v":11.676592858019218},1.0876687243580818E-2]
[968,{"$f":"IF('Base Data'!A978<>\"\",AVERAGE('Base Data'!A978:T978),\"\")","v":10.849032615431991},1.120639963775222E-2]
[969,{"$f":"IF('Base Data'!A979<>\"\",AVERAGE('Base Data'!A979:T979),\"\")","v":12.169977946138895},1.1396540535820855E-2]
[970,{"$f":"IF('Base Data'!A980<>\"\",AVERAGE('Base Data'!A980:T980),\"\")","v":11.659267211487977},1.2138413192259145E-2]
[971,{"$f":"IF('Base Data'!A981<>\"\",AVERAGE('Base Data'!A981:T981),\"\")","v":12.564183116210874},1.1339798265573929E-2]
[972,{"$f":"IF('Base Data'!A982<>\"\",AVERAGE('Base Data'!A982:T982),\"\")","v":10.769618893883527},1.1636993031442902E-2]
[973,{"$f":"IF('Base Data'!A983<>\"\",AVERAGE('Base Data'!A983:T983),\"\")","v":12.545019512533921},1.0603941403902493E-2]
[974,{"$f":"IF('Base Data'!A984<>\"\",AVERAGE('Base Data'!A984:T984),\"\")","v":10.707147162406262},1.0723249053955079E-2]
[975,{"$f":"IF('Base Data'!A985<>\"\",AVERAGE('Base Data'!A985:T985),\"\")","v":12.03855553402866},1.0906075437863668E-2]
[976,{"$f":"IF('Base Data'!A986<>\"\",AVERAGE('Base Data'!A986:T986),\"\")","v":10.799202724488072},1.1216416926825654E-2]
[977,{"$f":"IF('Base Data'!A987<>\"\",AVERAGE('Base Data'!A987:T987),\"\")","v":12.439117483493948},9.9386991548144135E-3]
[978,{"$f":"IF('Base Data'!A988<>\"\",AVERAGE('Base Data'!A988:T988),\"\")","v":10.004697625547054},6.5755146701319692E-3]
[979,{"$f":"IF('Base Data'!A989<>\"\",AVERAGE('Base Data'!A989:T989),\"\")","v":12.02007184504823},6.3000661134719853E-3]
[980,{"$f":"IF('Base Data'!A990<>\"\",AVERAGE('Base Data'!A990:T990),\"\")","v":11.110370600551573},6.754373249254729E-3]
[981,{"$f":"IF('Base Data'!A991<>\"\",AVERAGE('Base Data'!A991:T991),\"\")","v":11.670862248892599},7.293046256642283E-3]
[982,{"$f":"IF('Base Data'!A992<>\"\",AVERAGE('Base Data'!A992:T992),\"\")","v":11.390783291395174},8.1762789029976076E-3]
[983,{"$f":"IF('Base Data'!A993<>\"\",AVERAGE('Base Data'!A993:T993),\"\")","v":11.551121050375009},9.1216564178466797E-3]
[984,{"$f":"IF('Base Data'!A994<>\"\",AVERAGE('Base Data'!A994:T994),\"\")","v":10.997488015349685},9.6891011132134337E-3]
[985,{"$f":"IF('Base Data'!A995<>\"\",AVERAGE('Base Data'!A995:T995),\"\")","v":11.104673052186275},1.0636945160067812E-2]
[986,{"$f":"IF('Base Data'!A996<>\"\",AVERAGE('Base Data'!A996:T996),\"\")","v":11.849953823683554},1.118253956179647E-2]
[987,{"$f":"IF('Base Data'!A997<>\"\",AVERAGE('Base Data'!A997:T997),\"\")","v":11.013511936183443},1.2047649257712893E-2]
[988,{"$f":"IF('Base Data'!A998<>\"\",AVERAGE('Base Data'!A998:T998),\"\")","v":11.978415492810086},1.156638969074596E-2]
[989,{"$f":"IF('Base Data'!A999<>\"\",AVERAGE('Base Data'!A999:T999),\"\")","v":11.439996989878036},1.3950225114822388E-2]
[990,{"$f":"IF('Base Data'!A1000<>\"\",AVERAGE('Base Data'!A1000:T1000),\"\")","v":11.814191137237511},1.4541215366787381E-2]
[991,{"$f":"IF('Base Data'!A1001<>\"\",AVERAGE('Base Data'!A1001:T1001),\"\")","v":11.465451709683354},1.8063269555568695E-2]
[992,{"$f":"IF('Base Data'!A1002<>\"\",AVERAGE('Base Data'!A1002:T1002),\"\")","v":11.47168546797432},2.2991559943374321E-2]
[993,{"$f":"IF('Base Data'!A1003<>\"\",AVERAGE('Base Data'!A1003:T1003),\"\")","v":11.150591342265216},3.0680394834942289E-2]
[994,{"$f":"IF('Base Data'!A1004<>\"\",AVERAGE('Base Data'!A1004:T1004),\"\")","v":11.503141885498724},4.2429690361022947E-2]
[995,{"$f":"IF('Base Data'!A1005<>\"\",AVERAGE('Base Data'!A1005:T1005),\"\")","v":11.54034906884327}," "]
[996,{"$f":"IF('Base Data'!A1006<>\"\",AVERAGE('Base Data'!A1006:T1006),\"\")","v":10.710658328160189}," "]
[997,{"$f":"IF('Base Data'!A1007<>\"\",AVERAGE('Base Data'!A1007:T1007),\"\")","v":11.69215696100837}]
[998,{"$f":"IF('Base Data'!A1008<>\"\",AVERAGE('Base Data'!A1008:T1008),\"\")","v":10.866962086725369}]
[999,{"$f":"IF('Base Data'!A1009<>\"\",AVERAGE('Base Data'!A1009:T1009),\"\")","v":11.804341562026137}]
[1000,{"$f":"IF('Base Data'!A1010<>\"\",AVERAGE('Base Data'!A1010:T1010),\"\")","v":11.048808476262245}]
[""]