BEGIN:VCALENDAR
PRODID:-//Google Inc//Google Calendar 70.9054//EN
VERSION:2.0
CALSCALE:GREGORIAN
METHOD:PUBLISH
X-WR-CALNAME:2026 Riverhawks Schedule
X-WR-TIMEZONE:America/Edmonton
BEGIN:VEVENT
DTSTART:20260705T013500Z
DTEND:20260705T043500Z
DTSTAMP:20260330T192834Z
UID:CSVConvert65ace1c3b6ed14fc9d172488ea2fc69a
CREATED:20260330T192808Z
LAST-MODIFIED:20260330T192810Z
SEQUENCE:0
STATUS:CONFIRMED
SUMMARY:Riverhawks @ Wenatchee
TRANSP:OPAQUE
END:VEVENT
BEGIN:VEVENT
DTSTART:20260627T010500Z
DTEND:20260627T040500Z
DTSTAMP:20260330T192834Z
UID:CSVConvert4745134dcd4fdbdfff5e5b2dbe24215c
CREATED:20260330T192808Z
LAST-MODIFIED:20260330T192810Z
SEQUENCE:0
STATUS:CONFIRMED
SUMMARY:Port Angeles vs Riverhawks
TRANSP:OPAQUE
END:VEVENT
BEGIN:VEVENT
DTSTART:20260702T010500Z
DTEND:20260702T040500Z
DTSTAMP:20260330T192834Z
UID:CSVConverta593deb3227686a8a51a908c5f92b648
CREATED:20260330T192808Z
LAST-MODIFIED:20260330T192810Z
SEQUENCE:0
STATUS:CONFIRMED
SUMMARY:Bellingham vs Riverhawks
TRANSP:OPAQUE
END:VEVENT
BEGIN:VEVENT
DTSTART:20260604T180500Z
DTEND:20260604T210500Z
DTSTAMP:20260330T192834Z
UID:CSVConvert94b264122ed70fa89e096576467e9108
CREATED:20260330T192808Z
LAST-MODIFIED:20260330T192810Z
SEQUENCE:0
STATUS:CONFIRMED
SUMMARY:Riverhawks @ Victoria
TRANSP:OPAQUE
END:VEVENT
BEGIN:VEVENT
DTSTART:20260712T190500Z
DTEND:20260712T220500Z
DTSTAMP:20260330T192834Z
UID:CSVConvert988a377f5d9a56c13d2dbb1d34dec643
CREATED:20260330T192808Z
LAST-MODIFIED:20260330T192810Z
SEQUENCE:0
STATUS:CONFIRMED
SUMMARY:Marion vs Riverhawks
TRANSP:OPAQUE
END:VEVENT
BEGIN:VEVENT
DTSTART:20260606T013500Z
DTEND:20260606T043500Z
DTSTAMP:20260330T192834Z
UID:CSVConvert69dc58571d6812060b0f52e1cdb75e23
CREATED:20260330T192808Z
LAST-MODIFIED:20260330T192810Z
SEQUENCE:0
STATUS:CONFIRMED
SUMMARY:Riverhawks @ Nanaimo
TRANSP:OPAQUE
END:VEVENT
BEGIN:VEVENT
DTSTART:20260721T010500Z
DTEND:20260721T040500Z
DTSTAMP:20260330T192834Z
UID:CSVConvertc37ed1d6917af7b968f4402b9d33de03
CREATED:20260330T192809Z
LAST-MODIFIED:20260330T192810Z
SEQUENCE:0
STATUS:CONFIRMED
SUMMARY:Kamloops vs Riverhawks
TRANSP:OPAQUE
END:VEVENT
BEGIN:VEVENT
DTSTART:20260707T190500Z
DTEND:20260707T220500Z
DTSTAMP:20260330T192834Z
UID:CSVConvert3b2f8e2c28b44d0b4cfeae147e6574fe
CREATED:20260330T192808Z
LAST-MODIFIED:20260330T192810Z
SEQUENCE:0
STATUS:CONFIRMED
SUMMARY:Nanaimo vs Riverhawks
TRANSP:OPAQUE
END:VEVENT
BEGIN:VEVENT
DTSTART:20260610T170500Z
DTEND:20260610T200500Z
DTSTAMP:20260330T192834Z
UID:CSVConvertfa83786ad07a88106ca249d6a217219a
CREATED:20260330T192809Z
LAST-MODIFIED:20260330T192810Z
SEQUENCE:0
STATUS:CONFIRMED
SUMMARY:Victoria vs Riverhawks
TRANSP:OPAQUE
END:VEVENT
BEGIN:VEVENT
DTSTART:20260617T013500Z
DTEND:20260617T043500Z
DTSTAMP:20260330T192834Z
UID:CSVConvert4855f6cc7993f3d639fd9ffd0b803091
CREATED:20260330T192808Z
LAST-MODIFIED:20260330T192810Z
SEQUENCE:0
STATUS:CONFIRMED
SUMMARY:Riverhawks @ Wenatchee
TRANSP:OPAQUE
END:VEVENT
BEGIN:VEVENT
DTSTART:20260726T190500Z
DTEND:20260726T220500Z
DTSTAMP:20260330T192834Z
UID:CSVConvertccab5f5edd18e24555d3d1fdbdcbed0c
CREATED:20260330T192809Z
LAST-MODIFIED:20260330T192810Z
SEQUENCE:0
STATUS:CONFIRMED
SUMMARY:Kelowna vs Riverhawks
TRANSP:OPAQUE
END:VEVENT
BEGIN:VEVENT
DTSTART:20260614T010500Z
DTEND:20260614T040500Z
DTSTAMP:20260330T192834Z
UID:CSVConvert000a5c368fe2299e8c28ccefd62ac008
CREATED:20260330T192808Z
LAST-MODIFIED:20260330T192810Z
SEQUENCE:0
STATUS:CONFIRMED
SUMMARY:Yakima Valley vs Riverhawks
TRANSP:OPAQUE
END:VEVENT
BEGIN:VEVENT
DTSTART:20260701T010500Z
DTEND:20260701T040500Z
DTSTAMP:20260330T192834Z
UID:CSVConvert63c694a3421ee4669a31502eed1a096c
CREATED:20260330T192808Z
LAST-MODIFIED:20260330T192810Z
SEQUENCE:0
STATUS:CONFIRMED
SUMMARY:Bellingham vs Riverhawks
TRANSP:OPAQUE
END:VEVENT
BEGIN:VEVENT
DTSTART:20260712T010500Z
DTEND:20260712T040500Z
DTSTAMP:20260330T192834Z
UID:CSVConvertab32b6226ad78a2095a9b2756878521c
CREATED:20260330T192808Z
LAST-MODIFIED:20260330T192810Z
SEQUENCE:0
STATUS:CONFIRMED
SUMMARY:Marion vs Riverhawks
TRANSP:OPAQUE
END:VEVENT
BEGIN:VEVENT
DTSTART:20260612T010500Z
DTEND:20260612T040500Z
DTSTAMP:20260330T192834Z
UID:CSVConvertb1f3c19bc960d068e9dd89dc6b0160d5
CREATED:20260330T192809Z
LAST-MODIFIED:20260330T192810Z
SEQUENCE:0
STATUS:CONFIRMED
SUMMARY:Victoria vs Riverhawks
TRANSP:OPAQUE
END:VEVENT
BEGIN:VEVENT
DTSTART:20260731T013500Z
DTEND:20260731T043500Z
DTSTAMP:20260330T192834Z
UID:CSVConvertb1d06f85bb9e6fc6a59dcc085d0d1891
CREATED:20260330T192808Z
LAST-MODIFIED:20260330T192810Z
SEQUENCE:0
STATUS:CONFIRMED
SUMMARY:Riverhawks @ Kamloops
TRANSP:OPAQUE
END:VEVENT
BEGIN:VEVENT
DTSTART:20260610T010500Z
DTEND:20260610T040500Z
DTSTAMP:20260330T192834Z
UID:CSVConvert90d309908be108a65996fc1d893b621f
CREATED:20260330T192808Z
LAST-MODIFIED:20260330T192810Z
SEQUENCE:0
STATUS:CONFIRMED
SUMMARY:Victoria vs Riverhawks
TRANSP:OPAQUE
END:VEVENT
BEGIN:VEVENT
DTSTART:20260607T200500Z
DTEND:20260607T230500Z
DTSTAMP:20260330T192834Z
UID:CSVConvertbd93ee507a4c933550df78e699c11429
CREATED:20260330T192809Z
LAST-MODIFIED:20260330T192810Z
SEQUENCE:0
STATUS:CONFIRMED
SUMMARY:Riverhawks @ Nanaimo
TRANSP:OPAQUE
END:VEVENT
BEGIN:VEVENT
DTSTART:20260603T013500Z
DTEND:20260603T043500Z
DTSTAMP:20260330T192834Z
UID:CSVConvert943c16978aa8ff7556b0536c1fc6d118
CREATED:20260330T192808Z
LAST-MODIFIED:20260330T192810Z
SEQUENCE:0
STATUS:CONFIRMED
SUMMARY:Riverhawks @ Victoria
TRANSP:OPAQUE
END:VEVENT
BEGIN:VEVENT
DTSTART:20260711T010500Z
DTEND:20260711T040500Z
DTSTAMP:20260330T192834Z
UID:CSVConvert17ec28fa3e147d6e81c0812b69285b07
CREATED:20260330T192808Z
LAST-MODIFIED:20260330T192810Z
SEQUENCE:0
STATUS:CONFIRMED
SUMMARY:Marion vs Riverhawks
TRANSP:OPAQUE
END:VEVENT
BEGIN:VEVENT
DTSTART:20260723T010500Z
DTEND:20260723T040500Z
DTSTAMP:20260330T192834Z
UID:CSVConvertec55667db4afbc41fe3e52ca5a52d68b
CREATED:20260330T192809Z
LAST-MODIFIED:20260330T192810Z
SEQUENCE:0
STATUS:CONFIRMED
SUMMARY:Kamloops vs Riverhawks
TRANSP:OPAQUE
END:VEVENT
BEGIN:VEVENT
DTSTART:20260804T013500Z
DTEND:20260804T043500Z
DTSTAMP:20260330T192834Z
UID:CSVConvert6ff622231caa32c6e193c81c4448d966
CREATED:20260330T192808Z
LAST-MODIFIED:20260330T192810Z
SEQUENCE:0
STATUS:CONFIRMED
SUMMARY:Riverhawks @ Bellingham
TRANSP:OPAQUE
END:VEVENT
BEGIN:VEVENT
DTSTART:20260531T010500Z
DTEND:20260531T040500Z
DTSTAMP:20260330T192834Z
UID:CSVConvertc36299e8d2c6fa1ea3cbc91fd90742dd
CREATED:20260330T192809Z
LAST-MODIFIED:20260330T192810Z
SEQUENCE:0
STATUS:CONFIRMED
SUMMARY:Wenatchee vs Riverhawks
TRANSP:OPAQUE
END:VEVENT
BEGIN:VEVENT
DTSTART:20260613T010500Z
DTEND:20260613T040500Z
DTSTAMP:20260330T192834Z
UID:CSVConvert4f720fb20c8edabac802ae51ca2d11d6
CREATED:20260330T192808Z
LAST-MODIFIED:20260330T192810Z
SEQUENCE:0
STATUS:CONFIRMED
SUMMARY:Yakima Valley vs Riverhawks
TRANSP:OPAQUE
END:VEVENT
BEGIN:VEVENT
DTSTART:20260802T013500Z
DTEND:20260802T043500Z
DTSTAMP:20260330T192834Z
UID:CSVConvert098fa144ee4275c21d0e6bd0cb7c5511
CREATED:20260330T192808Z
LAST-MODIFIED:20260330T192810Z
SEQUENCE:0
STATUS:CONFIRMED
SUMMARY:Riverhawks @ Kelowna
TRANSP:OPAQUE
END:VEVENT
BEGIN:VEVENT
DTSTART:20260620T013500Z
DTEND:20260620T043500Z
DTSTAMP:20260330T192834Z
UID:CSVConvert38dbdc9280a146766b80ecdb77e70bdd
CREATED:20260330T192808Z
LAST-MODIFIED:20260330T192810Z
SEQUENCE:0
STATUS:CONFIRMED
SUMMARY:Riverhawks @ Corvallis
TRANSP:OPAQUE
END:VEVENT
BEGIN:VEVENT
DTSTART:20260622T000500Z
DTEND:20260622T030500Z
DTSTAMP:20260330T192834Z
UID:CSVConvert000835eb7ff7a5986df74c9d60fa4ec2
CREATED:20260330T192807Z
LAST-MODIFIED:20260330T192810Z
SEQUENCE:0
STATUS:CONFIRMED
SUMMARY:Riverhawks @ Corvallis
TRANSP:OPAQUE
END:VEVENT
BEGIN:VEVENT
DTSTART:20260710T010500Z
DTEND:20260710T040500Z
DTSTAMP:20260330T192834Z
UID:CSVConvert0d163746912cd2e6ff5e1a0d474aa79f
CREATED:20260330T192808Z
LAST-MODIFIED:20260330T192810Z
SEQUENCE:0
STATUS:CONFIRMED
SUMMARY:Nanaimo vs Riverhawks
TRANSP:OPAQUE
END:VEVENT
BEGIN:VEVENT
DTSTART:20260722T010500Z
DTEND:20260722T040500Z
DTSTAMP:20260330T192834Z
UID:CSVConverta7d7367cf991392d0c0237b5aa64bf94
CREATED:20260330T192808Z
LAST-MODIFIED:20260330T192810Z
SEQUENCE:0
STATUS:CONFIRMED
SUMMARY:Kamloops vs Riverhawks
TRANSP:OPAQUE
END:VEVENT
BEGIN:VEVENT
DTSTART:20260706T003500Z
DTEND:20260706T033500Z
DTSTAMP:20260330T192834Z
UID:CSVConvert6ad3b8a4f9789ec88b3498c71bf22333
CREATED:20260330T192808Z
LAST-MODIFIED:20260330T192810Z
SEQUENCE:0
STATUS:CONFIRMED
SUMMARY:Riverhawks @ Wenatchee
TRANSP:OPAQUE
END:VEVENT
BEGIN:VEVENT
DTSTART:20260531T190500Z
DTEND:20260531T220500Z
DTSTAMP:20260330T192834Z
UID:CSVConvertb138540f437f4b884908b01c9f6f12ef
CREATED:20260330T192808Z
LAST-MODIFIED:20260330T192810Z
SEQUENCE:0
STATUS:CONFIRMED
SUMMARY:Wenatchee vs Riverhawks
TRANSP:OPAQUE
END:VEVENT
BEGIN:VEVENT
DTSTART:20260703T010500Z
DTEND:20260703T040500Z
DTSTAMP:20260330T192834Z
UID:CSVConvert0dab9bca1788dcd860b17cde58ffb711
CREATED:20260330T192808Z
LAST-MODIFIED:20260330T192810Z
SEQUENCE:0
STATUS:CONFIRMED
SUMMARY:Bellingham vs Riverhawks
TRANSP:OPAQUE
END:VEVENT
BEGIN:VEVENT
DTSTART:20260719T013500Z
DTEND:20260719T043500Z
DTSTAMP:20260330T192834Z
UID:CSVConvertf69e2c05a2cabcc2313608d5d52474c6
CREATED:20260330T192809Z
LAST-MODIFIED:20260330T192810Z
SEQUENCE:0
STATUS:CONFIRMED
SUMMARY:Riverhawks @ Port Angeles
TRANSP:OPAQUE
END:VEVENT
BEGIN:VEVENT
DTSTART:20260704T020500Z
DTEND:20260704T050500Z
DTSTAMP:20260330T192834Z
UID:CSVConvert3783543d89294efeee71841a64b6b677
CREATED:20260330T192808Z
LAST-MODIFIED:20260330T192810Z
SEQUENCE:0
STATUS:CONFIRMED
SUMMARY:Riverhawks @ Wenatchee
TRANSP:OPAQUE
END:VEVENT
BEGIN:VEVENT
DTSTART:20260801T013500Z
DTEND:20260801T043500Z
DTSTAMP:20260330T192834Z
UID:CSVConvertee2639da5812e5a084c5288e6d7a8a81
CREATED:20260330T192809Z
LAST-MODIFIED:20260330T192810Z
SEQUENCE:0
STATUS:CONFIRMED
SUMMARY:Riverhawks @ Kelowna
TRANSP:OPAQUE
END:VEVENT
BEGIN:VEVENT
DTSTART:20260805T013500Z
DTEND:20260805T043500Z
DTSTAMP:20260330T192834Z
UID:CSVConvert06e1faee1f14379a215c5307b7e5116a
CREATED:20260330T192808Z
LAST-MODIFIED:20260330T192810Z
SEQUENCE:0
STATUS:CONFIRMED
SUMMARY:Riverhawks @ Bellingham
TRANSP:OPAQUE
END:VEVENT
BEGIN:VEVENT
DTSTART:20260709T010500Z
DTEND:20260709T040500Z
DTSTAMP:20260330T192834Z
UID:CSVConvertf45576e19453fb1ca829134e8ec80000
CREATED:20260330T192809Z
LAST-MODIFIED:20260330T192810Z
SEQUENCE:0
STATUS:CONFIRMED
SUMMARY:Nanaimo vs Riverhawks
TRANSP:OPAQUE
END:VEVENT
BEGIN:VEVENT
DTSTART:20260618T013500Z
DTEND:20260618T043500Z
DTSTAMP:20260330T192834Z
UID:CSVConvert1e2e0709be72b251d451c1725a99c416
CREATED:20260330T192808Z
LAST-MODIFIED:20260330T192810Z
SEQUENCE:0
STATUS:CONFIRMED
SUMMARY:Riverhawks @ Wenatchee
TRANSP:OPAQUE
END:VEVENT
BEGIN:VEVENT
DTSTART:20260621T021500Z
DTEND:20260621T051500Z
DTSTAMP:20260330T192834Z
UID:CSVConvertb91ab878e829594766ab572caa597573
CREATED:20260330T192809Z
LAST-MODIFIED:20260330T192810Z
SEQUENCE:0
STATUS:CONFIRMED
SUMMARY:Riverhawks @ Corvallis
TRANSP:OPAQUE
END:VEVENT
BEGIN:VEVENT
DTSTART:20260530T010500Z
DTEND:20260530T040500Z
DTSTAMP:20260330T192834Z
UID:CSVConvertb4ba980a45b1a21247071e033b7ef839
CREATED:20260330T192809Z
LAST-MODIFIED:20260330T192810Z
SEQUENCE:0
STATUS:CONFIRMED
SUMMARY:Wenatchee vs Riverhawks
TRANSP:OPAQUE
END:VEVENT
BEGIN:VEVENT
DTSTART:20260628T190500Z
DTEND:20260628T220500Z
DTSTAMP:20260330T192834Z
UID:CSVConvertf7374778181f8189c7d09d8f92b2f6fd
CREATED:20260330T192809Z
LAST-MODIFIED:20260330T192810Z
SEQUENCE:0
STATUS:CONFIRMED
SUMMARY:Port Angeles vs Riverhawks
TRANSP:OPAQUE
END:VEVENT
BEGIN:VEVENT
DTSTART:20260718T013500Z
DTEND:20260718T043500Z
DTSTAMP:20260330T192834Z
UID:CSVConvertcf381e100179c112987bf179e86d8709
CREATED:20260330T192809Z
LAST-MODIFIED:20260330T192810Z
SEQUENCE:0
STATUS:CONFIRMED
SUMMARY:Riverhawks @ Port Angeles
TRANSP:OPAQUE
END:VEVENT
BEGIN:VEVENT
DTSTART:20260730T013500Z
DTEND:20260730T043500Z
DTSTAMP:20260330T192834Z
UID:CSVConvert18918dca094a8b9655cc801e8feb7092
CREATED:20260330T192808Z
LAST-MODIFIED:20260330T192810Z
SEQUENCE:0
STATUS:CONFIRMED
SUMMARY:Riverhawks @ Kamloops
TRANSP:OPAQUE
END:VEVENT
BEGIN:VEVENT
DTSTART:20260614T190500Z
DTEND:20260614T220500Z
DTSTAMP:20260330T192834Z
UID:CSVConvert2de7df801d6e02314ef1ecb19ede1a55
CREATED:20260330T192808Z
LAST-MODIFIED:20260330T192810Z
SEQUENCE:0
STATUS:CONFIRMED
SUMMARY:Yakima Valley vs Riverhawks
TRANSP:OPAQUE
END:VEVENT
BEGIN:VEVENT
DTSTART:20260719T203500Z
DTEND:20260719T233500Z
DTSTAMP:20260330T192834Z
UID:CSVConvert40bcb2fa18db65a4e006ab78473104e6
CREATED:20260330T192808Z
LAST-MODIFIED:20260330T192810Z
SEQUENCE:0
STATUS:CONFIRMED
SUMMARY:Riverhawks @ Port Angeles
TRANSP:OPAQUE
END:VEVENT
BEGIN:VEVENT
DTSTART:20260607T013500Z
DTEND:20260607T043500Z
DTSTAMP:20260330T192834Z
UID:CSVConvert2b5716c8d4e0dc770e99b7b8cfe98f7c
CREATED:20260330T192808Z
LAST-MODIFIED:20260330T192810Z
SEQUENCE:0
STATUS:CONFIRMED
SUMMARY:Riverhawks @ Nanaimo
TRANSP:OPAQUE
END:VEVENT
BEGIN:VEVENT
DTSTART:20260729T013500Z
DTEND:20260729T043500Z
DTSTAMP:20260330T192834Z
UID:CSVConvert82dbabea15bcbcda35e96c0f879721d1
CREATED:20260330T192808Z
LAST-MODIFIED:20260330T192810Z
SEQUENCE:0
STATUS:CONFIRMED
SUMMARY:Riverhawks @ Kamloops
TRANSP:OPAQUE
END:VEVENT
BEGIN:VEVENT
DTSTART:20260604T013500Z
DTEND:20260604T043500Z
DTSTAMP:20260330T192834Z
UID:CSVConvert14d906b6ccdb84d089ce8343bce96719
CREATED:20260330T192808Z
LAST-MODIFIED:20260330T192810Z
SEQUENCE:0
STATUS:CONFIRMED
SUMMARY:Riverhawks @ Victoria
TRANSP:OPAQUE
END:VEVENT
BEGIN:VEVENT
DTSTART:20260628T010500Z
DTEND:20260628T040500Z
DTSTAMP:20260330T192834Z
UID:CSVConvert3a74027c0aca6652e26fb3bb1fb2a0b1
CREATED:20260330T192808Z
LAST-MODIFIED:20260330T192810Z
SEQUENCE:0
STATUS:CONFIRMED
SUMMARY:Port Angeles vs Riverhawks
TRANSP:OPAQUE
END:VEVENT
BEGIN:VEVENT
DTSTART:20260806T013500Z
DTEND:20260806T043500Z
DTSTAMP:20260330T192834Z
UID:CSVConvert7b7436fef283c75e787af77fd7f22a07
CREATED:20260330T192808Z
LAST-MODIFIED:20260330T192810Z
SEQUENCE:0
STATUS:CONFIRMED
SUMMARY:Riverhawks @ Bellingham
TRANSP:OPAQUE
END:VEVENT
BEGIN:VEVENT
DTSTART:20260725T010500Z
DTEND:20260725T040500Z
DTSTAMP:20260330T192834Z
UID:CSVConverta1428d452e2473072351fa36d04d48eb
CREATED:20260330T192808Z
LAST-MODIFIED:20260330T192810Z
SEQUENCE:0
STATUS:CONFIRMED
SUMMARY:Kelowna vs Riverhawks
TRANSP:OPAQUE
END:VEVENT
BEGIN:VEVENT
DTSTART:20260619T013500Z
DTEND:20260619T043500Z
DTSTAMP:20260330T192834Z
UID:CSVConvertb79b88173a9df07bcbda2850ea624c41
CREATED:20260330T192809Z
LAST-MODIFIED:20260330T192810Z
SEQUENCE:0
STATUS:CONFIRMED
SUMMARY:Riverhawks @ Wenatchee
TRANSP:OPAQUE
END:VEVENT
BEGIN:VEVENT
DTSTART:20260803T010500Z
DTEND:20260803T040500Z
DTSTAMP:20260330T192834Z
UID:CSVConvertfae9251bb4d8a6d46e452e2f4c7d2dfa
CREATED:20260330T192809Z
LAST-MODIFIED:20260330T192810Z
SEQUENCE:0
STATUS:CONFIRMED
SUMMARY:Riverhawks @ Kelowna
TRANSP:OPAQUE
END:VEVENT
BEGIN:VEVENT
DTSTART:20260726T010500Z
DTEND:20260726T040500Z
DTSTAMP:20260330T192834Z
UID:CSVConvert0aa5fb85e437cc8e74c3dd54a7c6f915
CREATED:20260330T192808Z
LAST-MODIFIED:20260330T192810Z
SEQUENCE:0
STATUS:CONFIRMED
SUMMARY:Kelowna vs Riverhawks
TRANSP:OPAQUE
END:VEVENT
END:VCALENDAR
