Workbook
Name Farm_Name: Summary!#REF!
Name Farm_Name: Summary!#REF!
Name Farm_Name: Summary!#REF!
Name Farm_Name: Summary!#REF!
Name Farm_Name: Summary!#REF!
Name Farm_Name: Summary!#REF!
Name Farm_Name: Summary!#REF!
Name Farm_Name: Summary!#REF!
Name Farm_Name: Summary!#REF!
Name Farm_Name: Summary!#REF!
Name Farm_Name: Summary!#REF!
Name Farm_Name: Summary!#REF!
Name Farm_Name: Summary!#REF!
Name Farm_Name: Summary!#REF!
Name Farm_Name: Summary!#REF!

Sheet Summary
A1: Income | D1: Expense
A3: Calves | B3: =Calves!$C$1 -> 0 | D3: Buildings and Fence Repairs | E3: ='Buildings and Fence Repairs'!$E$1 -> 0
A4: Crop Sales | B4: ='Crop Sales'!$C$1 -> 0 | D4: Equipment Purchased | E4: ='Equipment Purchased'!$I$1 -> 0
A5: Dairy Products | B5: ='Dairy Products'!$C$1 -> 0 | D5: Feed Cost | E5: ='Feed Cost'!$E$1 -> 0
A6: Eggs | B6: =Eggs!$C$1 -> 0 | D6: Fuels | E6: =Fuels!$E$1 -> 0
A7: Labor Income | B7: ='Labor Income'!$C$1 -> 0 | D7: Insurance (Farm) | E7: ='Insurance (Farm)'!$E$1 -> 0
A8: Poultry | B8: =Poultry!$C$1 -> 0 | D8: Insurance (Health) | E8: ='Insurance (Health)'!$I$1 -> 0
A9: Raised Livestock (<2 years) | B9: ='Raised Livestock (<2 years)'!$C$1 -> 0 | D9: Labor and Machine Hire | E9: ='Labor and Machine Hire'!$E$1 -> 0
A10: Raised Livestock (>2 years) | B10: ='Raised Livestock (>2 years)'!$C$1 -> 0 | D10: Livestock Purchases | E10: ='Livestock Purchases'!$I$1 -> 0
A11: Sale of Equipment or Bought Livestock | B11: ='Sale of Equipment & Bought Lsk'!$C$1 -> 0 | D11: Machinery Repairs | E11: ='Machinery Repairs'!$E$1 -> 0
A12: Miscellaneous Receipts | B12: ='Miscellaneous Receipts'!$C$1 -> 0 | D12: Minerals & Fertilizer | E12: ='Minerals & Fertilizer'!$E$1 -> 0
D13: Supplies | E13: =Supplies!$E$1 -> 0
D14: Taxes (Income) | E14: ='Taxes (Income)'!$E$1 -> 0
D15: Taxes (Real Estate) | E15: ='Taxes (Real Estate)'!$E$1 -> 0
D16: Truck and Auto Expense | E16: ='Truck and Auto Expense'!$E$3 -> 0
D17: Utilities and Rent | E17: ='Utilities and Rent'!$E$1 -> 0
D18: Vet and Breeding Fees | E18: ='Vet and Breeding Fees'!$E$1 -> 0
D19: Miscellaneous Expenses | E19: ='Miscellaneous Expenses'!$E$1 -> 0
A22: TOTAL INCOME | B22: =SUM(B3:B21) -> 0 | D22: TOTAL EXPENSES | E22: =SUM(E3:E21) -> 0

Sheet Buildings and Fence Repairs
A1: Summary Link | D1: TOTAL | E1: =SUM(E3:E998) -> 0
A2: Date | B2: Check Number | C2: Description | D2: Contractor | E2: Total Cost - Amount

Sheet Equipment Purchased
A1: Summary Link | H1: TOTAL | I1: =SUM(I3:I1000) -> 0
A2: Date | B2: Check Number | C2: Description | D2: Seller's Name | E2: New or Used? | F2: Trade In? | G2: Purchase Price | H2: Freight | I2: Total Cost - Amount
I3: =SUM(G3:H3) -> 0

Sheet Feed Cost
A1: Summary Link | D1: TOTAL | E1: =SUM(E3:E1000) -> 0
A2: Date | B2: Check Number | C2: Description | D2: Store | E2: Total Cost - Amount

Sheet Fuels
A1: Summary Link | D1: TOTAL | E1: =SUM(E2,E17,E31,E54,E68) -> 0
A2: Dyed diesel | D2: SUBTOTAL | E2: =SUM(E3:E16) -> 0
A3: Date | B3: Merchant | C3: Gallons | D3: Price | E3: Expense
E4: =C4*D4 -> 0
E5: =C5*D5 -> 0
E6: =C6*D6 -> 0
E7: =C7*D7 -> 0
E8: =C8*D8 -> 0
E9: =C9*D9 -> 0
E10: =C10*D10 -> 0
E11: =C11*D11 -> 0
E12: =C12*D12 -> 0
E13: =C13*D13 -> 0
E14: =C14*D14 -> 0
E15: =C15*D15 -> 0
E16: =C16*D16 -> 0
A17: Undyed diesel | D17: SUBTOTAL | E17: =SUM(E18:E30) -> 0
A18: Date | B18: Merchant | C18: Gallons | D18: Price | E18: Expense
E19: =C19*D19 -> 0
E20: =C20*D20 -> 0
E21: =C21*D21 -> 0
E22: =C22*D22 -> 0
E23: =C23*D23 -> 0
E24: =C24*D24 -> 0
E25: =C25*D25 -> 0
E26: =C26*D26 -> 0
E27: =C27*D27 -> 0
E28: =C28*D28 -> 0
E29: =C29*D29 -> 0
E30: =C30*D30 -> 0
A31: Gasoline (off-road use) | D31: SUBTOTAL | E31: =SUM(E32:E53) -> 0
A32: Date | B32: Merchant | C32: Gallons | D32: Price | E32: Expense
E33: =C33*D33 -> 0
E34: =C34*D34 -> 0
E35: =C35*D35 -> 0
E36: =C36*D36 -> 0
E37: =C37*D37 -> 0
E38: =C38*D38 -> 0
E39: =C39*D39 -> 0
E40: =C40*D40 -> 0
...

Sheet Insurance (Farm)
A1: Summary Link | D1: TOTAL | E1: =SUM(E3:E1000) -> 0
A2: Date | B2: Check Number | C2: Paid to whom: | D2: Description | E2: Total Cost - Amount

Sheet Insurance (Health)
A1: Summary Link | D1: TOTAL | E1: =SUM(E3:E1000) -> 0
A2: Date | B2: Check Number | C2: Paid to whom: | D2: Description | E2: Total Cost - Amount

Sheet Labor and Machine Hire
A1: Summary Link | D1: TOTAL | E1: =SUM(E3:E1000) -> 0
A2: Date | B2: Check Number | C2: Description | D2: Vendor or Name | E2: Total Cost - Amount

Sheet Livestock Purchases
A1: Summary Link | G1: TOTAL | I1: =SUM(I4:I1000) -> 0
G2: Purchase Expense
A3: Date | B3: Description | C3: Number | D3: Weight | E3: Unit Price | F3: Purchase Price | G3: Hauling | H3: Commission | I3: Total Cost
F4: =D4*E4 -> 0 | I4: =SUM(F4:H4) -> 0
F5: =D5*E5 -> 0 | I5: =SUM(F5:H5) -> 0
F6: =D6*E6 -> 0 | I6: =SUM(F6:H6) -> 0
F7: =D7*E7 -> 0 | I7: =SUM(F7:H7) -> 0
F8: =D8*E8 -> 0 | I8: =SUM(F8:H8) -> 0
F9: =D9*E9 -> 0 | I9: =SUM(F9:H9) -> 0
F10: =D10*E10 -> 0 | I10: =SUM(F10:H10) -> 0
F11: =D11*E11 -> 0 | I11: =SUM(F11:H11) -> 0
F12: =D12*E12 -> 0 | I12: =SUM(F12:H12) -> 0
F13: =D13*E13 -> 0 | I13: =SUM(F13:H13) -> 0
F14: =D14*E14 -> 0 | I14: =SUM(F14:H14) -> 0
F15: =D15*E15 -> 0 | I15: =SUM(F15:H15) -> 0
... F38: =D38*E38 -> 0 | I38: =SUM(F38:H38) -> 0

Sheet Machinery Repairs
A1: Summary Link | D1: TOTAL | E1: =SUM(E3:E1000) -> 0
A2: Date | B2: Check Number | C2: Description | D2: Merchant | E2: Expense

Sheet Minerals & Fertilizer
A1: Summary Link | D1: TOTAL | E1: =SUM(E3:E1000) -> 0
A2: Date | B2: Check Number | C2: Merchant | D2: Description | E2: Total Cost - Amount

Sheet Supplies
A1: Summary Link | D1: TOTAL | E1: =SUM(E3:E1000) -> 0
A2: Date | B2: Check Number | C2: Store | D2: Description | E2: Total Cost - Amount

Sheet Taxes (Income)
A1: Summary Link | D1: TOTAL | E1: =SUM(E3:E1000) -> 0
A2: Date | B2: Check Number | C2: Paid to whom: | D2: Description | E2: Total Cost - Amount

Sheet Taxes (Real Estate)
A1: Summary Link | D1: TOTAL | E1: =SUM(E3:E1000) -> 0
A2: Date | B2: Check Number | C2: Paid to whom: | D2: Description | E2: Total Cost - Amount

Sheet Truck and Auto Expense
A1: Business/Farm Use Miles
A2: Total Miles
A3: Summary Link | D3: TOTAL | E3: =SUM(E5:E1000) -> 0
A4: Date | B4: Check Number | C4: Vendor: | D4: Description | E4: Total Cost - Amount

Sheet Utilities and Rent
A1: Summary Link | D1: TOTAL | E1: =SUM(E3:E1000) -> 0
A2: Date | B2: Check Number | C2: Vendor: | D2: Description | E2: Total Cost - Amount

Sheet Vet and Breeding Fees
A1: Summary Link | D1: TOTAL | E1: =SUM(E3:E1000) -> 0
A2: Date | B2: Check Number | C2: Vendor: | D2: Description | E2: Total Cost - Amount

Sheet Miscellaneous Expenses
A1: Summary Link | D1: TOTAL | E1: =SUM(E3:E1000) -> 0
A2: Date | B2: Check Number | C2: Paid to whom: | D2: Description | E2: Total Cost - Amount

Sheet Calves
A1: Summary Link | B1: TOTAL | C1: =SUM(C3:C1000) -> 0
A2: Date | B2: Description | C2: Total Amount Received

Sheet Crop Sales
A1: Summary Link | B1: TOTAL | C1: =SUM(C3:C1000) -> 0
A2: Date | B2: Description | C2: Total Amount Received

Sheet Dairy Products
A1: Summary Link | B1: TOTAL | C1: =SUM(C3:C1000) -> 0
A2: Date | B2: Description | C2: Total Amount Received

Sheet Eggs
A1: Summary Link | B1: TOTAL | C1: =SUM(C3:C1000) -> 0
A2: Date | B2: Description | C2: Total Amount Received

Sheet Poultry
A1: Summary Link | B1: TOTAL | C1: =SUM(C3:C1000) -> 0
A2: Date | B2: Description | C2: Total Amount Received

Sheet Raised Livestock (<2 years)
A1: Summary Link | B1: TOTAL | C1: =SUM(C3:C1000) -> 0
A2: Date | B2: Description | C2: Total Amount Received

Sheet Raised Livestock (>2 years)
A1: Summary Link | B1: TOTAL | C1: =SUM(C3:C1000) -> 0
A2: Date | B2: Description | C2: Total Amount Received

Sheet Sale of Equipment & Bought Lsk
A1: Summary Link | B1: TOTAL | C1: =SUM(C3:C1000) -> 0
A2: Date | B2: Description | C2: Total Amount Received

Sheet Labor Income
A1: Summary Link | B1: TOTAL | C1: =SUM(C3:C1000) -> 0
A2: Date | B2: Description | C2: Total Amount Received

Sheet Miscellaneous Receipts
A1: Summary Link | B1: TOTAL | C1: =SUM(C3:C1000) -> 0
A2: Date | B2: Description | C2: Total Amount Received
